Workbook

Sheet Grand Forks
A1: Area | B1: Section | C1: Start | D1: End | E1: Segment Length | F1: Cumul - ative from Mill | G1: Start | H1: End | I1: Segm't Length | J1: 100 | K1: 90 | L1: 80 | M1: 70 | N1: 60 | O1: 50 | P1: 40 | Q1: 30 | R1: 25 | S1: 22.5 | T1: 20 | U1: 17.5 | V1: 15 | W1: Seg Time | X1: Cum Time | Y1: Time Study Speed | Z1: Ave. Seg Speed | AA1: Ave. Cum Speed | AB1: Loaded Speed (85%) | AC1: Empty Speed (95%) | AD1: Loaded Time (min's) | AE1: Empty Time (min's)
A2: GF-E | B2: SA01 | C2: A01 | D2: A02 | E2: 0.83 | F2: =E2 -> 0.83 | G2: Grand Forks Mill | H2: 68th Ave and Hwy 3 | I2: =E2 -> 0.83 | J2: =I2-SUM(K2:V2) -> 0 | O2: 0.55 | T2: 0.28 | W2: =(J2/J$1+K2/K$1+L2/L$1+M2/M$1+N2/N$1+O2/O$1+P2/P$1+Q2/Q$1+R2/R$1+S2/S$1+T2/T$1+U2/U$1+V2/V$1)*60 -> 1.5 | X2: =W2 -> 1.5 | Z2: =I2/W2*60 -> 33.2 | AA2: =F2/X2*60 -> 33.2 | AB2: =AA2*0.85 -> 28.22 | AC2: =AA2*0.95 -> 31.54 | AD2: =$F2/AB2*60 -> 1.7647059 | AE2: =$F2/AC2*60 -> 1.5789474
A3: GF-E | B3: SC01 | C3: A02 | D3: C01 | E3: 6.8 | F3: =F2+E3 -> 7.63 | G3: 68th Ave and Hwy 3 | H3: Hwy 3 - Gilpin FSR | I3: =E3 -> 6.8 | J3: =I3-SUM(K3:V3) -> 4.7 | L3: 0.7 | M3: =0.9+0.5 -> 1.4 | W3: =(J3/J$1+K3/K$1+L3/L$1+M3/M$1+N3/N$1+O3/O$1+P3/P$1+Q3/Q$1+R3/R$1+S3/S$1+T3/T$1+U3/U$1+V3/V$1)*60 -> 4.545 | X3: =X2+W3+0.5 -> 6.545 | Z3: =I3/W3*60 -> 89.768977 | AA3: =F3/X3*60 -> 69.946524 | AB3: =AA3*0.85 -> 59.454545 | AC3: =AA3*0.95 -> 66.449198 | AD3: =$F3/AB3*60 -> 7.7 | AE3: =$F3/AC3*60 -> 6.8894737
A4: GF-E | B4: SD01 | C4: C01 | D4: D01 | E4: 6.97 | F4: =F3+E4 -> 14.6 | G4: Hwy 3 - Gilpin FSR | H4: Gilpin-Dan O'Rea Jct | I4: =E4 -> 6.97 | J4: =I4-SUM(K4:V4) -> 0.02 | R4: 3 | S4: 2 | U4: 1.95 | W4: =(J4/J$1+K4/K$1+L4/L$1+M4/M$1+N4/N$1+O4/O$1+P4/P$1+Q4/Q$1+R4/R$1+S4/S$1+T4/T$1+U4/U$1+V4/V$1)*60 -> 19.231048 | X4: =X3+W4 -> 25.776048 | Z4: =I4/W4*60 -> 21.746085 | AA4: =F4/X4*60 -> 33.98504 | AB4: =AA4*0.85 -> 28.887284 | AC4: =AA4*0.95 -> 32.285788 | AD4: =$F4/AB4*60 -> 30.324762 | AE4: =$F4/AC4*60 -> 27.132682
A5: GF-E | B5: SC02 | C5: C01 | D5: C02 | E5: 9.46 | F5: =F3+E5 -> 17.09 | G5: Hwy 3 - Gilpin FSR | H5: Hwy 3 - Stewart Cr FSR | I5: =E5 -> 9.46 | J5: =I5-SUM(K5:V5) -> 8.86 | L5: =0.3+0.3 -> 0.6 | W5: =(J5/J$1+K5/K$1+L5/L$1+M5/M$1+N5/N$1+O5/O$1+P5/P$1+Q5/Q$1+R5/R$1+S5/S$1+T5/T$1+U5/U$1+V5/V$1)*60 -> 5.766 | X5: =X3+W5 -> 12.311 | Z5: =I5/W5*60 -> 98.439126 | AA5: =F5/X5*60 -> 83.291365 | AB5: =AA5*0.85 -> 70.797661 | AC5: =AA5*0.95 -> 79.126797 | AD5: =$F5/AB5*60 -> 14.483529 | AE5: =$F5/AC5*60 -> 12.958947
A6: GF-E | B6: SE01 | C6: C02 | D6: E01 | E6: 5.55 | F6: =F5+E6 -> 22.64 | G6: Hwy 3 - Stewart Cr FSR | H6: Stewart-Moody Cr Jct | I6: =E6 -> 5.55 | J6: =I6-SUM(K6:V6) -> 0 | P6: 5.55 | W6: =(J6/J$1+K6/K$1+L6/L$1+M6/M$1+N6/N$1+O6/O$1+P6/P$1+Q6/Q$1+R6/R$1+S6/S$1+T6/T$1+U6/U$1+V6/V$1)*60 -> 8.325 | X6: =X5+W6 -> 20.636 | Z6: =I6/W6*60 -> 40 | AA6: =F6/X6*60 -> 65.826711 | AB6: =AA6*0.85 -> 55.952704 | AC6: =AA6*0.95 -> 62.535375 | AD6: =$F6/AB6*60 -> 24.277647 | AE6: =$F6/AC6*60 -> 21.722105
A7: GF-E | B7: SE02 | C7: E01 | D7: E02 | E7: 8.47 | F7: =F6+E7 -> 31.11 | G7: Stewart-Moody Cr Jct | H7: Stewart-Stewart 1400 Jct | I7: =E7 -> 8.47 | J7: =I7-SUM(K7:V7) -> 0 | P7: 4.23 | Q7: 4.24 | W7: =(J7/J$1+K7/K$1+L7/L$1+M7/M$1+N7/N$1+O7/O$1+P7/P$1+Q7/Q$1+R7/R$1+S7/S$1+T7/T$1+U7/U$1+V7/V$1)*60 -> 14.825 | X7: =X6+W7 -> 35.461 | Z7: =I7/W7*60 -> 34.279933 | AA7: =F7/X7*60 -> 52.638109 | AB7: =AA7*0.85 -> 44.742393 | AC7: =AA7*0.95 -> 50.006204 | AD7: =$F7/AB7*60 -> 41.718824 | AE7: =$F7/AC7*60 -> 37.327368
A8: GF-E | B8: SC03 | C8: C02 | D8: C03 | E8: 3.66 | F8: =F5+E8 -> 20.75 | G8: Hwy 3 - Stewart Cr FSR | H8: Hwy 3 - Santa Rosa Jct | I8: =E8 -> 3.66 | J8: =I8-SUM(K8:V8) -> 1.21 | L8: 0.45 | M8: =0.3+0.35+1 -> 1.65 | N8: 0.35 | W8: =(J8/J$1+K8/K$1+L8/L$1+M8/M$1+N8/N$1+O8/O$1+P8/P$1+Q8/Q$1+R8/R$1+S8/S$1+T8/T$1+U8/U$1+V8/V$1)*60 -> 2.8277857 | X8: =X5+W8 -> 15.138786 | Z8: =I8/W8*60 -> 77.657935 | AA8: =F8/X8*60 -> 82.239093 | AB8: =AA8*0.85 -> 69.903229 | AC8: =AA8*0.95 -> 78.127138 | AD8: =$F8/AB8*60 -> 17.810336 | AE8: =$F8/AC8*60 -> 15.935564
A9: GF-E | B9: SCA01 | C9: C03 | D9: CA01 | E9: 13.63 | F9: =F8+E9 -> 34.38 | G9: Hwy 3 - Santa Rosa Jct | H9: Santa Rosa - Trout Creek | I9: =E9 -> 13.63 | J9: =I9-SUM(K9:V9) -> 0 | P9: 6.81 | Q9: 6.82 | W9: =(J9/J$1+K9/K$1+L9/L$1+M9/M$1+N9/N$1+O9/O$1+P9/P$1+Q9/Q$1+R9/R$1+S9/S$1+T9/T$1+U9/U$1+V9/V$1)*60 -> 23.855 | X9: =X8+W9 -> 38.993786 | Z9: =I9/W9*60 -> 34.282121 | AA9: =F9/X9*60 -> 52.900737 | AB9: =AA9*0.85 -> 44.965626 | AC9: =AA9*0.95 -> 50.2557 | AD9: =$F9/AB9*60 -> 45.875042 | AE9: =$F9/AC9*60 -> 41.04609
A10: GF-E | B10: SC04 | C10: C03 | D10: C04 | E10: 1.42 | F10: =F8+E10 -> 22.17 | G10: Hwy 3 - Santa Rosa Jct | H10: Hwy 3 - Fife Rd | I10: =E10 -> 1.42 | J10: =I10-SUM(K10:V10) -> -4.2915344e-08 | M10: 0.71 | N10: 0.71 | W10: =(J10/J$1+K10/K$1+L10/L$1+M10/M$1+N10/N$1+O10/O$1+P10/P$1+Q10/Q$1+R10/R$1+S10/S$1+T10/T$1+U10/U$1+V10/V$1)*60 -> 1.3185714 | X10: =X8+W10 -> 16.457357 | Z10: =I10/W10*60 -> 64.615384 | AA10: =F10/X10*60 -> 80.827073 | AB10: =AA10*0.85 -> 68.703012 | AC10: =AA10*0.95 -> 76.785719 | AD10: =$F10/AB10*60 -> 19.361597 | AE10: =$F10/AC10*60 -> 17.323534
A11: GF-E | B11: SC05 | C11: C04 | D11: C05 | E11: 25.52 | F11: =F10+E11 -> 47.69 | G11: Hwy 3 - Fife Rd | H11: Hwy 3-Paulson Detour Jct | I11: =E11 -> 25.52 | J11: =I11-SUM(K11:V11) -> 13.62 | L11: =0.8+0.6+1.1+0.5 -> 3 | M11: =0.95+1+1.5+0.6+0.6+0.5 -> 5.15 | N11: =0.95+1+0.6 -> 2.55 | O11: =0.6+0.6 -> 1.2 | W11: =(J11/J$1+K11/K$1+L11/L$1+M11/M$1+N11/N$1+O11/O$1+P11/P$1+Q11/Q$1+R11/R$1+S11/S$1+T11/T$1+U11/U$1+V11/V$1)*60 -> 18.826286 | X11: =X10+W11 -> 35.283643 | Z11: =I11/W11*60 -> 81.333091 | AA11: =F11/X11*60 -> 81.097068 | AB11: =AA11*0.85 -> 68.932508 | AC11: =AA11*0.95 -> 77.042215 | AD11: =$F11/AB11*60 -> 41.510168 | AE11: =$F11/AC11*60 -> 37.140677
A12: GF-E | B12: SC06 | C12: C05 | D12: C06 | E12: 4.25 | F12: =F11+E12 -> 51.94 | G12: Hwy 3-Paulson Detour Jct | H12: Hwy 3-Bonanza Cr Jct | I12: =E12 -> 4.25 | J12: =I12-SUM(K12:V12) -> 0 | L12: 1.13 | M12: =0.3 -> 0.3 | N12: =0.7 -> 0.7 | P12: 2.12 | W12: =(J12/J$1+K12/K$1+L12/L$1+M12/M$1+N12/N$1+O12/O$1+P12/P$1+Q12/Q$1+R12/R$1+S12/S$1+T12/T$1+U12/U$1+V12/V$1)*60 -> 4.9846429 | X12: =X11+W12 -> 40.268286 | Z12: =I12/W12*60 -> 51.157125 | AA12: =F12/X12*60 -> 77.390928 | AB12: =AA12*0.85 -> 65.782289 | AC12: =AA12*0.95 -> 73.521382 | AD12: =$F12/AB12*60 -> 47.374454 | AE12: =$F12/AC12*60 -> 42.387669
A15: GF-N | B15: SA01 | C15: A01 | D15: A02 | E15: 0.83 | F15: =F14+E15 -> 0.83 | G15: Grand Forks Mill | H15: 68th Ave and Hwy 3 | I15: =E15 -> 0.83 | J15: =I15-SUM(K15:V15) -> 0 | O15: 0.55 | T15: 0.28 | W15: =(J15/J$1+K15/K$1+L15/L$1+M15/M$1+N15/N$1+O15/O$1+P15/P$1+Q15/Q$1+R15/R$1+S15/S$1+T15/T$1+U15/U$1+V15/V$1)*60 -> 1.5 | X15: =X14+W15 -> 1.5 | Z15: =I15/W15*60 -> 33.2 | AA15: =F15/X15*60 -> 33.2 | AB15: =AA15*0.85 -> 28.22 | AC15: =AA15*0.95 -> 31.54 | AD15: =$F15/AB15*60 -> 1.7647059 | AE15: =$F15/AC15*60 -> 1.5789474
A16: GF-N | B16: SA02.1 | C16: A02 | D16: A02.1 | E16: 0.75 | F16: =F15+E16 -> 1.58 | G16: 68th Ave and Hwy 3 | H16: Hwy 3-Granby Rd Jct | I16: =E16 -> 0.75 | J16: =I16-SUM(K16:V16) -> 0 | O16: 0.75 | W16: =(J16/J$1+K16/K$1+L16/L$1+M16/M$1+N16/N$1+O16/O$1+P16/P$1+Q16/Q$1+R16/R$1+S16/S$1+T16/T$1+U16/U$1+V16/V$1)*60 -> 0.9 | X16: =X15+W16+0.5 -> 2.9 | Z16: =I16/W16*60 -> 50 | AA16: =F16/X16*60 -> 32.689655 | AB16: =AA16*0.85 -> 27.786207 | AC16: =AA16*0.95 -> 31.055172 | AD16: =$F16/AB16*60 -> 3.4117647 | AE16: =$F16/AC16*60 -> 3.0526316
A17: GF-N | B17: SF00.1 | C17: A02.1 | D17: F00.1 | E17: 3.25 | F17: =F16+E17 -> 4.83 | G17: Hwy 3-Granby Rd Jct | H17: Hwy 3 - North Fork Jct | I17: =E17 -> 3.25 | J17: =I17-SUM(K17:V17) -> 0 | O17: 3.25 | W17: =(J17/J$1+K17/K$1+L17/L$1+M17/M$1+N17/N$1+O17/O$1+P17/P$1+Q17/Q$1+R17/R$1+S17/S$1+T17/T$1+U17/U$1+V17/V$1)*60 -> 3.9 | X17: =X16+W17+2 -> 8.8 | Z17: =I17/W17*60 -> 50 | AA17: =F17/X17*60 -> 32.931818 | AB17: =AA17*0.85 -> 27.992045 | AC17: =AA17*0.95 -> 31.285227 | AD17: =$F17/AB17*60 -> 10.352941 | AE17: =$F17/AC17*60 -> 9.2631579
A18: GF-N | B18: SB00 | C18: F00.1 | D18: B00 | E18: 15.34 | F18: =F17+E18 -> 20.17 | G18: Hwy 3 - North Fork Jct | H18: North Fork-Hummingbird Bridge | I18: =E18 -> 15.34 | J18: =I18-SUM(K18:V18) -> 0 | L18: 13.84 | N18: 1.5 | W18: =(J18/J$1+K18/K$1+L18/L$1+M18/M$1+N18/N$1+O18/O$1+P18/P$1+Q18/Q$1+R18/R$1+S18/S$1+T18/T$1+U18/U$1+V18/V$1)*60 -> 11.88 | X18: =X17+W18 -> 20.68 | Z18: =I18/W18*60 -> 77.474747 | AA18: =F18/X18*60 -> 58.520309 | AB18: =AA18*0.85 -> 49.742263 | AC18: =AA18*0.95 -> 55.594294 | AD18: =$F18/AB18*60 -> 24.329412 | AE18: =$F18/AC18*60 -> 21.768421
A19: GF-N | B19: SHL | C19: B00 | D19: A04 | E19: 0.56 | F19: =F18+E19 -> 20.73 | G19: North Fork-Hummingbird Bridge | H19: Granby - Hummingbird Bridge Jct | I19: =E19 -> 0.56 | J19: =I19-SUM(K19:V19) -> 0 | P19: 0.56 | W19: =(J19/J$1+K19/K$1+L19/L$1+M19/M$1+N19/N$1+O19/O$1+P19/P$1+Q19/Q$1+R19/R$1+S19/S$1+T19/T$1+U19/U$1+V19/V$1)*60 -> 0.84 | X19: =X18+W19 -> 21.52 | Z19: =I19/W19*60 -> 40 | AA19: =F19/X19*60 -> 57.797398 | AB19: =AA19*0.85 -> 49.127788 | AC19: =AA19*0.95 -> 54.907528 | AD19: =$F19/AB19*60 -> 25.317647 | AE19: =$F19/AC19*60 -> 22.652632
A20: GF-N | B20: SA02 | C20: A02.1 | D20: A03 | E20: 5.9400001 | F20: =F16+E20 -> 7.5200001 | G20: Hwy 3-Granby Rd Jct | H20: Granby-Sand Cr Jnct | I20: =E20 -> 5.9400001 | J20: =I20-SUM(K20:V20) -> 5.7220459e-08 | L20: =3.84-1.5 -> 2.34 | N20: 1.8 | O20: 1.8 | W20: =(J20/J$1+K20/K$1+L20/L$1+M20/M$1+N20/N$1+O20/O$1+P20/P$1+Q20/Q$1+R20/R$1+S20/S$1+T20/T$1+U20/U$1+V20/V$1)*60 -> 5.715 | X20: =X16+W20 -> 8.615 | Z20: =I20/W20*60 -> 62.362205 | AA20: =F20/X20*60 -> 52.373767 | AB20: =AA20*0.85 -> 44.517702 | AC20: =AA20*0.95 -> 49.755079 | AD20: =$F20/AB20*60 -> 10.135294 | AE20: =$F20/AC20*60 -> 9.0684211
A21: GF-N | B21: SA03 | C21: A03 | D21: A04 | E21: 9.9399996 | F21: =F20+E21 -> 17.46 | G21: Granby-Sand Cr Jnct | H21: Granby - Hummingbird Bridge Jct | I21: =E21 -> 9.9399996 | J21: =I21-SUM(K21:V21) -> -4.196167e-07 | L21: =6.34-2 -> 4.34 | M21: 1 | N21: 2.1 | O21: 2.2 | P21: 0.3 | W21: =(J21/J$1+K21/K$1+L21/L$1+M21/M$1+N21/N$1+O21/O$1+P21/P$1+Q21/Q$1+R21/R$1+S21/S$1+T21/T$1+U21/U$1+V21/V$1)*60 -> 9.3021426 | X21: =X20+W21 -> 17.917143 | Z21: =I21/W21*60 -> 64.114258 | AA21: =F21/X21*60 -> 58.469143 | AB21: =AA21*0.85 -> 49.698772 | AC21: =AA21*0.95 -> 55.545686 | AD21: =$F21/AB21*60 -> 21.078991 | AE21: =$F21/AC21*60 -> 18.86015
A22: GF-N | B22: SHL | C22: A04 | D22: B00 | E22: 0.56 | F22: =F21+E22 -> 18.02 | G22: Granby - Hummingbird Bridge Jct | H22: North Fork-Hummingbird Bridge | I22: =E22 -> 0.56 | J22: =I22-SUM(K22:V22) -> 0 | P22: 0.56 | W22: =(J22/J$1+K22/K$1+L22/L$1+M22/M$1+N22/N$1+O22/O$1+P22/P$1+Q22/Q$1+R22/R$1+S22/S$1+T22/T$1+U22/U$1+V22/V$1)*60 -> 0.84 | X22: =X21+W22 -> 18.757143 | Z22: =I22/W22*60 -> 40 | AA22: =F22/X22*60 -> 57.642041 | AB22: =AA22*0.85 -> 48.995735 | AC22: =AA22*0.95 -> 54.759939 | AD22: =$F22/AB22*60 -> 22.067227 | AE22: =$F22/AC22*60 -> 19.744361
A23: GF-N | B23: SB01 | C23: B00 | D23: B01 | E23: 1.9 | F23: =F22+E23 -> 19.92 | G23: North Fork-Hummingbird Bridge | H23: West Granby - Brown Cr Jct | I23: =E23 -> 1.9 | J23: =I23-SUM(K23:V23) -> 0 | M23: 1.9 | W23: =(J23/J$1+K23/K$1+L23/L$1+M23/M$1+N23/N$1+O23/O$1+P23/P$1+Q23/Q$1+R23/R$1+S23/S$1+T23/T$1+U23/U$1+V23/V$1)*60 -> 1.6285714 | X23: =X22+W23 -> 20.385714 | Z23: =I23/W23*60 -> 70 | AA23: =F23/X23*60 -> 58.629292 | AB23: =AA23*0.85 -> 49.834898 | AC23: =AA23*0.95 -> 55.697827 | AD23: =$F23/AB23*60 -> 23.983193 | AE23: =$F23/AC23*60 -> 21.458646
A24: GF-N | B24: SB02 | C24: B01 | D24: B02 | E24: 2.97 | F24: =F23+E24 -> 22.89 | G24: West Granby - Brown Cr Jct | H24: West Granby - Pass Cr Rd | I24: =E24 -> 2.97 | J24: =I24-SUM(K24:V24) -> 0 | M24: 1.57 | N24: 1.4 | W24: =(J24/J$1+K24/K$1+L24/L$1+M24/M$1+N24/N$1+O24/O$1+P24/P$1+Q24/Q$1+R24/R$1+S24/S$1+T24/T$1+U24/U$1+V24/V$1)*60 -> 2.7457143 | X24: =X23+W24 -> 23.131428 | Z24: =I24/W24*60 -> 64.901145 | AA24: =F24/X24*60 -> 59.373764 | AB24: =AA24*0.85 -> 50.4677 | AC24: =AA24*0.95 -> 56.405076 | AD24: =$F24/AB24*60 -> 27.213445 | AE24: =$F24/AC24*60 -> 24.348872
A25: GF-N | B25: SB03 | C25: B02 | D25: B03 | E25: 3.17 | F25: =F24+E25 -> 26.06 | G25: West Granby - Pass Cr Rd | H25: Pass Creek - Rock Candy Jct | I25: =E25 -> 3.17 | J25: =I25-SUM(K25:V25) -> 0 | R25: 1.17 | S25: 2 | W25: =(J25/J$1+K25/K$1+L25/L$1+M25/M$1+N25/N$1+O25/O$1+P25/P$1+Q25/Q$1+R25/R$1+S25/S$1+T25/T$1+U25/U$1+V25/V$1)*60 -> 8.1413333 | X25: =X24+W25 -> 31.272762 | Z25: =I25/W25*60 -> 23.362267 | AA25: =F25/X25*60 -> 49.998781 | AB25: =AA25*0.85 -> 42.498964 | AC25: =AA25*0.95 -> 47.498842 | AD25: =$F25/AB25*60 -> 36.791484 | AE25: =$F25/AC25*60 -> 32.918697
A26: GF-N | B26: SA04 | C26: A04 | D26: A05 | E26: 0.94 | F26: =F21+E26 -> 18.4 | G26: Granby - Hummingbird Bridge Jct | H26: Granby - Volcanic Cr Jct | I26: =E26 -> 0.94 | J26: =I26-SUM(K26:V26) -> 0 | L26: 0.64 | N26: 0.3 | W26: =(J26/J$1+K26/K$1+L26/L$1+M26/M$1+N26/N$1+O26/O$1+P26/P$1+Q26/Q$1+R26/R$1+S26/S$1+T26/T$1+U26/U$1+V26/V$1)*60 -> 0.78 | X26: =X21+W26 -> 18.697143 | Z26: =I26/W26*60 -> 72.307692 | AA26: =F26/X26*60 -> 59.046454 | AB26: =AA26*0.85 -> 50.189486 | AC26: =AA26*0.95 -> 56.094132 | AD26: =$F26/AB26*60 -> 21.996638 | AE26: =$F26/AC26*60 -> 19.681203
A27: GF-N | B27: SA05 | C27: A05 | D27: A06 | E27: 6.22 | F27: =F26+E27 -> 24.62 | G27: Granby - Volcanic Cr Jct | H27: Granby-Miller Cr Jct | I27: =E27 -> 6.22 | J27: =I27-SUM(K27:V27) -> 0 | M27: 6.22 | W27: =(J27/J$1+K27/K$1+L27/L$1+M27/M$1+N27/N$1+O27/O$1+P27/P$1+Q27/Q$1+R27/R$1+S27/S$1+T27/T$1+U27/U$1+V27/V$1)*60 -> 5.3314286 | X27: =X26+W27 -> 24.028571 | Z27: =I27/W27*60 -> 70 | AA27: =F27/X27*60 -> 61.476813 | AB27: =AA27*0.85 -> 52.255291 | AC27: =AA27*0.95 -> 58.402972 | AD27: =$F27/AB27*60 -> 28.268907 | AE27: =$F27/AC27*60 -> 25.293233
A28: GF-N | B28: SA06 | C28: A06 | D28: A07 | E28: 3.9 | F28: =F27+E28 -> 28.52 | G28: Granby-Miller Cr Jct | H28: Granby-Brown Cr N. Jct | I28: =E28 -> 3.9 | J28: =I28-SUM(K28:V28) -> 0 | L28: 3.9 | W28: =(J28/J$1+K28/K$1+L28/L$1+M28/M$1+N28/N$1+O28/O$1+P28/P$1+Q28/Q$1+R28/R$1+S28/S$1+T28/T$1+U28/U$1+V28/V$1)*60 -> 2.925 | X28: =X27+W28 -> 26.953571 | Z28: =I28/W28*60 -> 80 | AA28: =F28/X28*60 -> 63.486948 | AB28: =AA28*0.85 -> 53.963906 | AC28: =AA28*0.95 -> 60.312601 | AD28: =$F28/AB28*60 -> 31.710084 | AE28: =$F28/AC28*60 -> 28.37218
A29: GF-N | B29: SA07 | C29: A07 | D29: A08 | E29: 1.32 | F29: =F28+E29 -> 29.84 | G29: Granby-Brown Cr N. Jct | H29: Granby-Lynch Cr Jct | I29: =E29 -> 1.32 | J29: =I29-SUM(K29:V29) -> 0 | O29: 1.32 | W29: =(J29/J$1+K29/K$1+L29/L$1+M29/M$1+N29/N$1+O29/O$1+P29/P$1+Q29/Q$1+R29/R$1+S29/S$1+T29/T$1+U29/U$1+V29/V$1)*60 -> 1.584 | X29: =X28+W29 -> 28.537571 | Z29: =I29/W29*60 -> 50 | AA29: =F29/X29*60 -> 62.738345 | AB29: =AA29*0.85 -> 53.327593 | AC29: =AA29*0.95 -> 59.601427 | AD29: =$F29/AB29*60 -> 33.573613 | AE29: =$F29/AC29*60 -> 30.039549
A30: GF-N | B30: SA08 | C30: A08 | D30: A09 | E30: 12.86 | F30: =F29+E30 -> 42.7 | G30: Granby-Lynch Cr Jct | H30: Granby-Wiseman Jct | I30: =E30 -> 12.86 | J30: =I30-SUM(K30:V30) -> 0 | O30: 12.86 | W30: =(J30/J$1+K30/K$1+L30/L$1+M30/M$1+N30/N$1+O30/O$1+P30/P$1+Q30/Q$1+R30/R$1+S30/S$1+T30/T$1+U30/U$1+V30/V$1)*60 -> 15.432 | X30: =X29+W30 -> 43.969571 | Z30: =I30/W30*60 -> 50 | AA30: =F30/X30*60 -> 58.267568 | AB30: =AA30*0.85 -> 49.527433 | AC30: =AA30*0.95 -> 55.35419 | AD30: =$F30/AB30*60 -> 51.728907 | AE30: =$F30/AC30*60 -> 46.283759
A31: GF-N | B31: SA09 | C31: A09 | D31: A10 | E31: 2.31 | F31: =F30+E31 -> 45.01 | G31: Granby-Wiseman Jct | H31: Granby-Knappen Jct | I31: =E31 -> 2.31 | J31: =I31-SUM(K31:V31) -> 0 | O31: 2.31 | W31: =(J31/J$1+K31/K$1+L31/L$1+M31/M$1+N31/N$1+O31/O$1+P31/P$1+Q31/Q$1+R31/R$1+S31/S$1+T31/T$1+U31/U$1+V31/V$1)*60 -> 2.772 | X31: =X30+W31 -> 46.741571 | Z31: =I31/W31*60 -> 50 | AA31: =F31/X31*60 -> 57.777261 | AB31: =AA31*0.85 -> 49.110672 | AC31: =AA31*0.95 -> 54.888398 | AD31: =$F31/AB31*60 -> 54.990084 | AE31: =$F31/AC31*60 -> 49.201654
A32: GF-N | B32: SA10 | C32: A10 | D32: A11 | E32: 0.94 | F32: =F31+E32 -> 45.95 | G32: Granby-Knappen Jct | H32: Granby-Burrell Jct | I32: =E32 -> 0.94 | J32: =I32-SUM(K32:V32) -> 0 | P32: 0.94 | W32: =(J32/J$1+K32/K$1+L32/L$1+M32/M$1+N32/N$1+O32/O$1+P32/P$1+Q32/Q$1+R32/R$1+S32/S$1+T32/T$1+U32/U$1+V32/V$1)*60 -> 1.41 | X32: =X31+W32 -> 48.151571 | Z32: =I32/W32*60 -> 40 | AA32: =F32/X32*60 -> 57.256698 | AB32: =AA32*0.85 -> 48.668193 | AC32: =AA32*0.95 -> 54.393863 | AD32: =$F32/AB32*60 -> 56.648907 | AE32: =$F32/AC32*60 -> 50.685864
A34: N-Granby | B34: SW01 | C34: A11 | D34: W01 | E34: 2.4000001 | F34: =F32+E34 -> 48.35 | G34: Granby-Burrell Jct | H34: Granby-Burns Cr Jct | I34: =E34 -> 2.4000001 | J34: =I34-SUM(K34:V34) -> 9.5367432e-08 | P34: =2.4-0.6 -> 1.8 | Q34: 0.6 | W34: =(J34/J$1+K34/K$1+L34/L$1+M34/M$1+N34/N$1+O34/O$1+P34/P$1+Q34/Q$1+R34/R$1+S34/S$1+T34/T$1+U34/U$1+V34/V$1)*60 -> 3.9000001 | X34: =X32+W34 -> 52.051571 | Z34: =I34/W34*60 -> 36.923078 | AA34: =F34/X34*60 -> 55.733188 | AB34: =AA34*0.85 -> 47.373209 | AC34: =AA34*0.95 -> 52.946528 | AD34: =$F34/AB34*60 -> 61.237143 | AE34: =$F34/AC34*60 -> 54.791128
A35: N-Granby | B35: SW02 | C35: W01 | D35: W02 | E35: 1.64 | F35: =F34+E35 -> 49.99 | G35: Granby-Burns Cr Jct | H35: Granby-Gable Cr Jct | I35: =E35 -> 1.64 | J35: =I35-SUM(K35:V35) -> 0 | O35: 0.82 | P35: 0.82 | W35: =(J35/J$1+K35/K$1+L35/L$1+M35/M$1+N35/N$1+O35/O$1+P35/P$1+Q35/Q$1+R35/R$1+S35/S$1+T35/T$1+U35/U$1+V35/V$1)*60 -> 2.214 | X35: =X34+W35 -> 54.265571 | Z35: =I35/W35*60 -> 44.444444 | AA35: =F35/X35*60 -> 55.272614 | AB35: =AA35*0.85 -> 46.981722 | AC35: =AA35*0.95 -> 52.508983 | AD35: =$F35/AB35*60 -> 63.841849 | AE35: =$F35/AC35*60 -> 57.121654
A36: N-Granby | B36: SY01 | C36: W02 | D36: Y01 | E36: 5.01 | F36: =F35+E36 -> 55 | G36: Granby-Gable Cr Jct | H36: Gable 8 Mile Cr Jct | I36: =E36 -> 5.01 | J36: =I36-SUM(K36:V36) -> 0 | Q36: 2.51 | R36: 2.5 | W36: =(J36/J$1+K36/K$1+L36/L$1+M36/M$1+N36/N$1+O36/O$1+P36/P$1+Q36/Q$1+R36/R$1+S36/S$1+T36/T$1+U36/U$1+V36/V$1)*60 -> 11.02 | X36: =X35+W36 -> 65.285571 | Z36: =I36/W36*60 -> 27.277677 | AA36: =F36/X36*60 -> 50.547156 | AB36: =AA36*0.85 -> 42.965083 | AC36: =AA36*0.95 -> 48.019799 | AD36: =$F36/AB36*60 -> 76.806554 | AE36: =$F36/AC36*60 -> 68.721654
A37: N-Granby | B37: SY02 | C37: Y01 | D37: Y02 | E37: 5.8 | F37: =F36+E37 -> 60.8 | G37: Gable 8 Mile Cr Jct | H37: Gable Cr-Uno Cr Jct | I37: =E37 -> 5.8 | J37: =I37-SUM(K37:V37) -> 0 | P37: 1.55 | Q37: =2.85+1.4 -> 4.25 | W37: =(J37/J$1+K37/K$1+L37/L$1+M37/M$1+N37/N$1+O37/O$1+P37/P$1+Q37/Q$1+R37/R$1+S37/S$1+T37/T$1+U37/U$1+V37/V$1)*60 -> 10.825 | X37: =X36+W37 -> 76.110571 | Z37: =I37/W37*60 -> 32.147806 | AA37: =F37/X37*60 -> 47.930267 | AB37: =AA37*0.85 -> 40.740727 | AC37: =AA37*0.95 -> 45.533753 | AD37: =$F37/AB37*60 -> 89.541849 | AE37: =$F37/AC37*60 -> 80.116391
A38: N-Granby | B38: SW03 | C38: W02 | D38: W03 | E38: 5.42 | F38: =F35+E38 -> 55.41 | G38: Granby-Gable Cr Jct | H38: Granby-Burns Lk Jct | I38: =E38 -> 5.42 | J38: =I38-SUM(K38:V38) -> 0 | O38: 5.42 | W38: =(J38/J$1+K38/K$1+L38/L$1+M38/M$1+N38/N$1+O38/O$1+P38/P$1+Q38/Q$1+R38/R$1+S38/S$1+T38/T$1+U38/U$1+V38/V$1)*60 -> 6.504 | X38: =X35+W38 -> 60.769571 | Z38: =I38/W38*60 -> 50 | AA38: =F38/X38*60 -> 54.708301 | AB38: =AA38*0.85 -> 46.502056 | AC38: =AA38*0.95 -> 51.972886 | AD38: =$F38/AB38*60 -> 71.493613 | AE38: =$F38/AC38*60 -> 63.96797
A39: N-Granby | B39: SW04 | C39: W03 | D39: W04 | E39: 4.11 | F39: =F38+E39 -> 59.52 | G39: Granby-Burns Lk Jct | H39: Granby-Traverse Cr Jct | I39: =E39 -> 4.11 | J39: =I39-SUM(K39:V39) -> 0 | N39: 4.11 | W39: =(J39/J$1+K39/K$1+L39/L$1+M39/M$1+N39/N$1+O39/O$1+P39/P$1+Q39/Q$1+R39/R$1+S39/S$1+T39/T$1+U39/U$1+V39/V$1)*60 -> 4.11 | X39: =X38+W39 -> 64.879571 | Z39: =I39/W39*60 -> 60 | AA39: =F39/X39*60 -> 55.04352 | AB39: =AA39*0.85 -> 46.786992 | AC39: =AA39*0.95 -> 52.291344 | AD39: =$F39/AB39*60 -> 76.328907 | AE39: =$F39/AC39*60 -> 68.294286
A40: N-Granby | B40: SW05 | C40: W04 | D40: W05 | E40: 0.47 | F40: =F39+E40 -> 59.99 | G40: Granby-Traverse Cr Jct | H40: Traverse-Boulder Cr Jct | I40: =E40 -> 0.47 | J40: =I40-SUM(K40:V40) -> -1.1920929e-09 | P40: 0.47 | W40: =(J40/J$1+K40/K$1+L40/L$1+M40/M$1+N40/N$1+O40/O$1+P40/P$1+Q40/Q$1+R40/R$1+S40/S$1+T40/T$1+U40/U$1+V40/V$1)*60 -> 0.705 | X40: =X39+W40 -> 65.584571 | Z40: =I40/W40*60 -> 40 | AA40: =F40/X40*60 -> 54.88181 | AB40: =AA40*0.85 -> 46.649539 | AC40: =AA40*0.95 -> 52.13772 | AD40: =$F40/AB40*60 -> 77.158319 | AE40: =$F40/AC40*60 -> 69.036391
A41: N-Granby | B41: SX01 | C41: W05 | D41: X01 | E41: 6.5 | F41: =F40+E41 -> 66.49 | G41: Traverse-Boulder Cr Jct | H41: Boulder-8 Mile Link Jct | I41: =E41 -> 6.5 | J41: =I41-SUM(K41:V41) -> 0 | P41: 3.25 | Q41: 3.25 | W41: =(J41/J$1+K41/K$1+L41/L$1+M41/M$1+N41/N$1+O41/O$1+P41/P$1+Q41/Q$1+R41/R$1+S41/S$1+T41/T$1+U41/U$1+V41/V$1)*60 -> 11.375 | X41: =X40+W41 -> 76.959571 | Z41: =I41/W41*60 -> 34.285714 | AA41: =F41/X41*60 -> 51.837607 | AB41: =AA41*0.85 -> 44.061966 | AC41: =AA41*0.95 -> 49.245726 | AD41: =$F41/AB41*60 -> 90.540672 | AE41: =$F41/AC41*60 -> 81.010075
A42: N-Granby | B42: SW06 | C42: W05 | D42: W06 | E42: 8.58 | F42: =F40+E42 -> 68.57 | G42: Traverse-Boulder Cr Jct | H42: Traverse-Traverse 200 Jct | I42: =E42 -> 8.58 | J42: =I42-SUM(K42:V42) -> 0 | O42: 4.29 | P42: 4.29 | W42: =(J42/J$1+K42/K$1+L42/L$1+M42/M$1+N42/N$1+O42/O$1+P42/P$1+Q42/Q$1+R42/R$1+S42/S$1+T42/T$1+U42/U$1+V42/V$1)*60 -> 11.583 | X42: =X40+W42 -> 77.167571 | Z42: =I42/W42*60 -> 44.444444 | AA42: =F42/X42*60 -> 53.315142 | AB42: =AA42*0.85 -> 45.31787 | AC42: =AA42*0.95 -> 50.649384 | AD42: =$F42/AB42*60 -> 90.785378 | AE42: =$F42/AC42*60 -> 81.229022
A44: Burrell | B44: SN01 | C44: A11 | D44: N01 | E44: 10.23 | F44: =F32+E44 -> 56.18 | G44: Granby-Burrell Jct | H44: Burrell-Deadeye Jct | I44: =E44 -> 10.23 | J44: 0 | P44: 10.23 | W44: =(J44/J$1+K44/K$1+L44/L$1+M44/M$1+N44/N$1+O44/O$1+P44/P$1+Q44/Q$1+R44/R$1+S44/S$1+T44/T$1+U44/U$1+V44/V$1)*60 -> 15.345 | X44: =X32+W44 -> 63.496571 | Z44: =I44/W44*60 -> 40 | AA44: =F44/X44*60 -> 53.086331 | AB44: =AA44*0.85 -> 45.123381 | AC44: =AA44*0.95 -> 50.432014 | AD44: =$F44/AB44*60 -> 74.701848 | AE44: =$F44/AC44*60 -> 66.838496
...

Sheet Grand Forks Short
A1: ='Grand Forks'!H1 -> End | B1: ='Grand Forks'!F1 -> Cumul - ative from Mill | C1: ='Grand Forks'!AB1 -> Loaded Speed (85%) | D1: ='Grand Forks'!AC1 -> Empty Speed (95%) | E1: ='Grand Forks'!AD1 -> Loaded Time (min's) | F1: ='Grand Forks'!AE1 -> Empty Time (min's)
A2: ='Grand Forks'!H2 -> 68th Ave and Hwy 3 | B2: ='Grand Forks'!F2 -> 0.83 | C2: ='Grand Forks'!AB2 -> 28.22 | D2: ='Grand Forks'!AC2 -> 31.54 | E2: ='Grand Forks'!AD2 -> 1.7647059 | F2: ='Grand Forks'!AE2 -> 1.5789474
A3: ='Grand Forks'!H3 -> Hwy 3 - Gilpin FSR | B3: ='Grand Forks'!F3 -> 7.63 | C3: ='Grand Forks'!AB3 -> 59.454545 | D3: ='Grand Forks'!AC3 -> 66.449198 | E3: ='Grand Forks'!AD3 -> 7.7 | F3: ='Grand Forks'!AE3 -> 6.8894737
A4: ='Grand Forks'!H4 -> Gilpin-Dan O'Rea Jct | B4: ='Grand Forks'!F4 -> 14.6 | C4: ='Grand Forks'!AB4 -> 28.887284 | D4: ='Grand Forks'!AC4 -> 32.285788 | E4: ='Grand Forks'!AD4 -> 30.324762 | F4: ='Grand Forks'!AE4 -> 27.132682
A5: ='Grand Forks'!H5 -> Hwy 3 - Stewart Cr FSR | B5: ='Grand Forks'!F5 -> 17.09 | C5: ='Grand Forks'!AB5 -> 70.797661 | D5: ='Grand Forks'!AC5 -> 79.126797 | E5: ='Grand Forks'!AD5 -> 14.483529 | F5: ='Grand Forks'!AE5 -> 12.958947
A6: ='Grand Forks'!H6 -> Stewart-Moody Cr Jct | B6: ='Grand Forks'!F6 -> 22.64 | C6: ='Grand Forks'!AB6 -> 55.952704 | D6: ='Grand Forks'!AC6 -> 62.535375 | E6: ='Grand Forks'!AD6 -> 24.277647 | F6: ='Grand Forks'!AE6 -> 21.722105
A7: ='Grand Forks'!H7 -> Stewart-Stewart 1400 Jct | B7: ='Grand Forks'!F7 -> 31.11 | C7: ='Grand Forks'!AB7 -> 44.742393 | D7: ='Grand Forks'!AC7 -> 50.006204 | E7: ='Grand Forks'!AD7 -> 41.718824 | F7: ='Grand Forks'!AE7 -> 37.327368
A8: ='Grand Forks'!H8 -> Hwy 3 - Santa Rosa Jct | B8: ='Grand Forks'!F8 -> 20.75 | C8: ='Grand Forks'!AB8 -> 69.903229 | D8: ='Grand Forks'!AC8 -> 78.127138 | E8: ='Grand Forks'!AD8 -> 17.810336 | F8: ='Grand Forks'!AE8 -> 15.935564
A9: ='Grand Forks'!H9 -> Santa Rosa - Trout Creek | B9: ='Grand Forks'!F9 -> 34.38 | C9: ='Grand Forks'!AB9 -> 44.965626 | D9: ='Grand Forks'!AC9 -> 50.2557 | E9: ='Grand Forks'!AD9 -> 45.875042 | F9: ='Grand Forks'!AE9 -> 41.04609
A10: ='Grand Forks'!H10 -> Hwy 3 - Fife Rd | B10: ='Grand Forks'!F10 -> 22.17 | C10: ='Grand Forks'!AB10 -> 68.703012 | D10: ='Grand Forks'!AC10 -> 76.785719 | E10: ='Grand Forks'!AD10 -> 19.361597 | F10: ='Grand Forks'!AE10 -> 17.323534
A11: ='Grand Forks'!H11 -> Hwy 3-Paulson Detour Jct | B11: ='Grand Forks'!F11 -> 47.69 | C11: ='Grand Forks'!AB11 -> 68.932508 | D11: ='Grand Forks'!AC11 -> 77.042215 | E11: ='Grand Forks'!AD11 -> 41.510168 | F11: ='Grand Forks'!AE11 -> 37.140677
A12: ='Grand Forks'!H12 -> Hwy 3-Bonanza Cr Jct | B12: ='Grand Forks'!F12 -> 51.94 | C12: ='Grand Forks'!AB12 -> 65.782289 | D12: ='Grand Forks'!AC12 -> 73.521382 | E12: ='Grand Forks'!AD12 -> 47.374454 | F12: ='Grand Forks'!AE12 -> 42.387669
... A61: ='Grand Forks'!H61 -> Thomas 1000 Jct | B61: ='Grand Forks'!F61 -> 98.64 | C61: ='Grand Forks'!AB61 -> 37.724168 | D61: ='Grand Forks'!AC61 -> 42.162306 | E61: ='Grand Forks'!AD61 -> 156.88616 | F61: ='Grand Forks'!AE61 -> 140.37183
A65: ='Grand Forks'!H64 -> 68th Ave and Hwy 3 | B65: ='Grand Forks'!F64 -> 0.83 | C65: ='Grand Forks'!AB64 -> 22.278947 | D65: ='Grand Forks'!AC64 -> 24.9 | E65: ='Grand Forks'!AD64 -> 2.2352941 | F65: ='Grand Forks'!AE64 -> 2
A66: ='Grand Forks'!H65 -> Hwy 3-Granby Rd Jct | B66: ='Grand Forks'!F65 -> 1.58 | C66: ='Grand Forks'!AB65 -> 24.418182 | D66: ='Grand Forks'!AC65 -> 27.290909 | E66: ='Grand Forks'!AD65 -> 3.8823529 | F66: ='Grand Forks'!AE65 -> 3.4736842
A67: ='Grand Forks'!H66 -> Hwy 3 - City of Paris Jct | B67: ='Grand Forks'!F66 -> 11.04 | C67: ='Grand Forks'!AB66 -> 40.052844 | D67: ='Grand Forks'!AC66 -> 44.764944 | E67: ='Grand Forks'!AD66 -> 16.538151 | F67: ='Grand Forks'!AE66 -> 14.797293
A68: ='Grand Forks'!H67 -> Hwy 3 - Skeff Cr Jct | B68: ='Grand Forks'!F67 -> 16.34 | C68: ='Grand Forks'!AB67 -> 48.344798 | D68: ='Grand Forks'!AC67 -> 54.032421 | E68: ='Grand Forks'!AD67 -> 20.279328 | F68: ='Grand Forks'!AE67 -> 18.144662
A69: ='Grand Forks'!H68 -> Hwy 3 - Phoenix-Ski Hill Jct | B69: ='Grand Forks'!F68 -> 22.3 | C69: ='Grand Forks'!AB68 -> 54.56396 | D69: ='Grand Forks'!AC68 -> 60.983249 | E69: ='Grand Forks'!AD68 -> 24.521681 | F69: ='Grand Forks'!AE68 -> 21.940451
A70: ='Grand Forks'!H69 -> Hwy 3 - Fisherman Jct | B70: ='Grand Forks'!F69 -> 24.31 | C70: ='Grand Forks'!AB69 -> 56.228668 | D70: ='Grand Forks'!AC69 -> 62.843805 | E70: ='Grand Forks'!AD69 -> 25.940504 | F70: ='Grand Forks'!AE69 -> 23.209925
A71: ='Grand Forks'!H70 -> Hwy 3 - Eholt Jct | B71: ='Grand Forks'!F70 -> 29.65 | C71: ='Grand Forks'!AB70 -> 57.753752 | D71: ='Grand Forks'!AC70 -> 64.548312 | E71: ='Grand Forks'!AD70 -> 30.803193 | F71: ='Grand Forks'!AE70 -> 27.560752

Sheet Midway
A1: Area | B1: Section | C1: Start | D1: End | E1: Segment Length | F1: Cumul -ative from Mill | G1: Start | H1: End | I1: Segm't Length | J1: 100 | K1: 90 | L1: 80 | M1: 70 | N1: 60 | O1: 50 | P1: 40 | Q1: 30 | R1: 25 | S1: 22.5 | T1: 20 | U1: 17.5 | V1: 15 | W1: Seg Time | X1: Cum Time | Y1: Time Study Speed | Z1: Ave. Seg Speed | AA1: Ave. Cum Speed | AB1: Loaded Speed (85%) | AC1: Empty Speed (95%) | AD1: Loaded Time (min's) | AE1: Empty Time (min's)
A2: MW-E | C2: G00 | D2: G01 | E2: 0.22 | F2: =E2 -> 0.22 | G2: Midway Mill | H2: Hwy 3 - Midway Mill Jct | I2: =E2 -> 0.22 | J2: =I2-SUM(K2:V2) -> 0 | T2: 0.22 | W2: =(J2/J$1+K2/K$1+L2/L$1+M2/M$1+N2/N$1+O2/O$1+P2/P$1+Q2/Q$1+R2/R$1+S2/S$1+T2/T$1+U2/U$1+V2/V$1)*60 -> 0.66 | X2: =W2+0.5 -> 1.16 | Z2: =I2/W2*60 -> 20 | AA2: =F2/X2*60 -> 11.37931 | AB2: =AA2*0.85 -> 9.6724138 | AC2: =AA2*0.95 -> 10.810345 | AD2: =$F2/AB2*60 -> 1.3647059 | AE2: =$F2/AC2*60 -> 1.2210526
A3: MW-E | B3: SG01 | C3: G01 | D3: G02 | E3: 4.21 | F3: =F2+E3 -> 4.43 | G3: Hwy 3 - Midway Mill Jct | H3: Hwy 3 - Midway Jct | I3: =E3 -> 4.21 | J3: =I3-SUM(K3:V3) -> 2.91 | M3: 1.3 | W3: =(J3/J$1+K3/K$1+L3/L$1+M3/M$1+N3/N$1+O3/O$1+P3/P$1+Q3/Q$1+R3/R$1+S3/S$1+T3/T$1+U3/U$1+V3/V$1)*60 -> 2.8602857 | X3: =W3+X2 -> 4.0202857 | Z3: =I3/W3*60 -> 88.312856 | AA3: =F3/X3*60 -> 66.114704 | AB3: =AA3*0.85 -> 56.197498 | AC3: =AA3*0.95 -> 62.808969 | AD3: =$F3/AB3*60 -> 4.7297479 | AE3: =$F3/AC3*60 -> 4.2318797
A4: MW-E | B4: SL01 | C4: G02 | D4: L01 | E4: 10.04 | F4: =F3+E4 -> 14.47 | G4: Hwy 3 - Midway Jct | H4: Myers Cr 9 K | I4: =E4 -> 10.04 | J4: =I4-SUM(K4:V4) -> 0 | M4: 2.62 | N4: 4.42 | O4: 3 | W4: =(J4/J$1+K4/K$1+L4/L$1+M4/M$1+N4/N$1+O4/O$1+P4/P$1+Q4/Q$1+R4/R$1+S4/S$1+T4/T$1+U4/U$1+V4/V$1)*60 -> 10.265714 | X4: =X3+W4 -> 14.286 | Z4: =I4/W4*60 -> 58.680768 | AA4: =F4/X4*60 -> 60.772785 | AB4: =AA4*0.85 -> 51.656867 | AC4: =AA4*0.95 -> 57.734145 | AD4: =$F4/AB4*60 -> 16.807059 | AE4: =$F4/AC4*60 -> 15.037895
A5: MW-E | B5: SG02 | C5: G02 | D5: G03 | E5: 3.26 | F5: =F3+E5 -> 7.69 | G5: Hwy 3 - Midway Jct | H5: Hwy 3 - Norwegian Cr Jct | I5: =E5 -> 3.26 | J5: =I5-SUM(K5:V5) -> 2.56 | M5: 0.7 | W5: =(J5/J$1+K5/K$1+L5/L$1+M5/M$1+N5/N$1+O5/O$1+P5/P$1+Q5/Q$1+R5/R$1+S5/S$1+T5/T$1+U5/U$1+V5/V$1)*60 -> 2.136 | X5: =X3+W5 -> 6.1562857 | Z5: =I5/W5*60 -> 91.573034 | AA5: =F5/X5*60 -> 74.947789 | AB5: =AA5*0.85 -> 63.70562 | AC5: =AA5*0.95 -> 71.200399 | AD5: =$F5/AB5*60 -> 7.2426891 | AE5: =$F5/AC5*60 -> 6.4803008
A6: MW-E | B6: SG03 | C6: G03 | D6: G04 | E6: 2.18 | F6: =F5+E6 -> 9.87 | G6: Hwy 3 - Norwegian Cr Jct | H6: Hwy 3 - Kerr Cr Jct | I6: =E6 -> 2.18 | J6: =I6-SUM(K6:V6) -> 1.78 | M6: =0.4 -> 0.4 | W6: =(J6/J$1+K6/K$1+L6/L$1+M6/M$1+N6/N$1+O6/O$1+P6/P$1+Q6/Q$1+R6/R$1+S6/S$1+T6/T$1+U6/U$1+V6/V$1)*60 -> 1.4108571 | X6: =X5+W6 -> 7.5671429 | Z6: =I6/W6*60 -> 92.709599 | AA6: =F6/X6*60 -> 78.259392 | AB6: =AA6*0.85 -> 66.520483 | AC6: =AA6*0.95 -> 74.346423 | AD6: =$F6/AB6*60 -> 8.902521 | AE6: =$F6/AC6*60 -> 7.9654135
A7: MW-E | B7: SG04 | C7: G04 | D7: G05 | E7: 3.46 | F7: =F6+E7 -> 13.33 | G7: Hwy 3 - Kerr Cr Jct | H7: Hwy 3 - McCarren Cr Jct | I7: =E7 -> 3.46 | J7: =I7-SUM(K7:V7) -> 2.56 | L7: 0.3 | M7: =0.6 -> 0.6 | W7: =(J7/J$1+K7/K$1+L7/L$1+M7/M$1+N7/N$1+O7/O$1+P7/P$1+Q7/Q$1+R7/R$1+S7/S$1+T7/T$1+U7/U$1+V7/V$1)*60 -> 2.2752857 | X7: =X6+W7 -> 9.8424286 | Z7: =I7/W7*60 -> 91.241288 | AA7: =F7/X7*60 -> 81.260432 | AB7: =AA7*0.85 -> 69.071367 | AC7: =AA7*0.95 -> 77.197411 | AD7: =$F7/AB7*60 -> 11.579328 | AE7: =$F7/AC7*60 -> 10.360451
A8: MW-E | B8: SG05 | C8: G05 | D8: G06 | E8: 3.22 | F8: =F7+E8 -> 16.55 | G8: Hwy 3 - McCarren Cr Jct | H8: Hwy 3 - Anaconda | I8: =E8 -> 3.22 | J8: =I8-SUM(K8:V8) -> 2.12 | M8: 0.6 | N8: 0.5 | W8: =(J8/J$1+K8/K$1+L8/L$1+M8/M$1+N8/N$1+O8/O$1+P8/P$1+Q8/Q$1+R8/R$1+S8/S$1+T8/T$1+U8/U$1+V8/V$1)*60 -> 2.2862857 | X8: =X7+W8 -> 12.128714 | Z8: =I8/W8*60 -> 84.503874 | AA8: =F8/X8*60 -> 81.871827 | AB8: =AA8*0.85 -> 69.591053 | AC8: =AA8*0.95 -> 77.778236 | AD8: =$F8/AB8*60 -> 14.269076 | AE8: =$F8/AC8*60 -> 12.767068
A9: MW-E | B9: SG06 | C9: G06 | D9: G07 | E9: 1.58 | F9: =F8+E9 -> 18.13 | G9: Hwy 3 - Anaconda | H9: Hwy 3 - Greenwood-Phoenix | I9: =E9 -> 1.58 | J9: =I9-SUM(K9:V9) -> 0 | O9: 1.58 | W9: =(J9/J$1+K9/K$1+L9/L$1+M9/M$1+N9/N$1+O9/O$1+P9/P$1+Q9/Q$1+R9/R$1+S9/S$1+T9/T$1+U9/U$1+V9/V$1)*60 -> 1.896 | X9: =X8+W9 -> 14.024714 | Z9: =I9/W9*60 -> 50 | AA9: =F9/X9*60 -> 77.563077 | AB9: =AA9*0.85 -> 65.928616 | AC9: =AA9*0.95 -> 73.684924 | AD9: =$F9/AB9*60 -> 16.499664 | AE9: =$F9/AC9*60 -> 14.762857
A10: MW-E | B10: SG07 | C10: G07 | D10: G08 | E10: 3.38 | F10: =F9+E10 -> 21.51 | G10: Hwy 3 - Greenwood-Phoenix | H10: Hwy 3 - Boundary Cr Jct | I10: =E10 -> 3.38 | J10: =I10-SUM(K10:V10) -> 0 | L10: 0.8 | N10: 1.69 | O10: =2.2-1.56+0.25 -> 0.89 | W10: =(J10/J$1+K10/K$1+L10/L$1+M10/M$1+N10/N$1+O10/O$1+P10/P$1+Q10/Q$1+R10/R$1+S10/S$1+T10/T$1+U10/U$1+V10/V$1)*60 -> 3.358 | X10: =X9+W10 -> 17.382714 | Z10: =I10/W10*60 -> 60.393091 | AA10: =F10/X10*60 -> 74.246172 | AB10: =AA10*0.85 -> 63.109246 | AC10: =AA10*0.95 -> 70.533864 | AD10: =$F10/AB10*60 -> 20.450252 | AE10: =$F10/AC10*60 -> 18.297594
A11: MW-E | B11: SH01 | C11: G08 | D11: H01 | E11: 0.93 | F11: =F10+E11 -> 22.44 | G11: Hwy 3 - Boundary Cr Jct | H11: Boundary Cr - Jewel Jct | I11: =E11 -> 0.93 | J11: =I11-SUM(K11:V11) -> 0 | L11: 0.73 | N11: 0.2 | W11: =(J11/J$1+K11/K$1+L11/L$1+M11/M$1+N11/N$1+O11/O$1+P11/P$1+Q11/Q$1+R11/R$1+S11/S$1+T11/T$1+U11/U$1+V11/V$1)*60 -> 0.7475 | X11: =X10+W11 -> 18.130214 | Z11: =I11/W11*60 -> 74.648829 | AA11: =F11/X11*60 -> 74.262774 | AB11: =AA11*0.85 -> 63.123358 | AC11: =AA11*0.95 -> 70.549635 | AD11: =$F11/AB11*60 -> 21.329664 | AE11: =$F11/AC11*60 -> 19.084436
A12: MW-E | B12: ST01 | C12: H01 | D12: T01 | E12: 4.61 | F12: =F11+E12 -> 27.05 | G12: Boundary Cr - Jewel Jct | H12: Jewel Lk - Rhoderick Dhu Jct | I12: =E12 -> 4.61 | J12: =I12-SUM(K12:V12) -> 0 | Q12: 4.61 | W12: =(J12/J$1+K12/K$1+L12/L$1+M12/M$1+N12/N$1+O12/O$1+P12/P$1+Q12/Q$1+R12/R$1+S12/S$1+T12/T$1+U12/U$1+V12/V$1)*60 -> 9.22 | X12: =X11+W12 -> 27.350214 | Z12: =I12/W12*60 -> 30 | AA12: =F12/X12*60 -> 59.3414 | AB12: =AA12*0.85 -> 50.44019 | AC12: =AA12*0.95 -> 56.37433 | AD12: =$F12/AB12*60 -> 32.176723 | AE12: =$F12/AC12*60 -> 28.789699
A13: MW-E | B13: SH02 | C13: H01 | D13: H02 | E13: 1.49 | F13: =F11+E13 -> 23.93 | G13: Boundary Cr - Jewel Jct | H13: Boundary Cr - Wallace Cr Jct | I13: =E13 -> 1.49 | J13: =I13-SUM(K13:V13) -> 0 | L13: 1.49 | W13: =(J13/J$1+K13/K$1+L13/L$1+M13/M$1+N13/N$1+O13/O$1+P13/P$1+Q13/Q$1+R13/R$1+S13/S$1+T13/T$1+U13/U$1+V13/V$1)*60 -> 1.1175 | X13: =X11+W13 -> 19.247714 | Z13: =I13/W13*60 -> 80 | AA13: =F13/X13*60 -> 74.59587 | AB13: =AA13*0.85 -> 63.40649 | AC13: =AA13*0.95 -> 70.866077 | AD13: =$F13/AB13*60 -> 22.64437 | AE13: =$F13/AC13*60 -> 20.260752
A14: MW-E | B14: SH03 | C14: H02 | D14: H03 | E14: 6.8 | F14: =F13+E14 -> 30.73 | G14: Boundary Cr - Wallace Cr Jct | H14: Boundary Cr - East Fork Cr Jct | I14: =E14 -> 6.8 | J14: =I14-SUM(K14:V14) -> 0 | L14: 6.8 | W14: =(J14/J$1+K14/K$1+L14/L$1+M14/M$1+N14/N$1+O14/O$1+P14/P$1+Q14/Q$1+R14/R$1+S14/S$1+T14/T$1+U14/U$1+V14/V$1)*60 -> 5.1 | X14: =X13+W14 -> 24.347714 | Z14: =I14/W14*60 -> 80 | AA14: =F14/X14*60 -> 75.727848 | AB14: =AA14*0.85 -> 64.368671 | AC14: =AA14*0.95 -> 71.941455 | AD14: =$F14/AB14*60 -> 28.64437 | AE14: =$F14/AC14*60 -> 25.629173
A15: MW-E | B15: SI01 | C15: H03 | D15: I01 | E15: 4.85 | F15: =F14+E15 -> 35.58 | G15: Boundary Cr - East Fork Cr Jct | H15: East Fork-Rhoderick Dhu Jct | I15: =E15 -> 4.85 | J15: =I15-SUM(K15:V15) -> 0 | O15: 2.42 | P15: 2.43 | W15: =(J15/J$1+K15/K$1+L15/L$1+M15/M$1+N15/N$1+O15/O$1+P15/P$1+Q15/Q$1+R15/R$1+S15/S$1+T15/T$1+U15/U$1+V15/V$1)*60 -> 6.549 | X15: =X14+W15 -> 30.896714 | Z15: =I15/W15*60 -> 44.434265 | AA15: =F15/X15*60 -> 69.094726 | AB15: =AA15*0.85 -> 58.730517 | AC15: =AA15*0.95 -> 65.639989 | AD15: =$F15/AB15*60 -> 36.349076 | AE15: =$F15/AC15*60 -> 32.522857
A16: MW-E | B16: SI02 | C16: I01 | D16: I02 | E16: 4.26 | F16: =F15+E16 -> 39.84 | G16: East Fork-Rhoderick Dhu Jct | H16: East Fork-Pepper Cr Jct | I16: =E16 -> 4.26 | J16: =I16-SUM(K16:V16) -> 0 | O16: 2.13 | P16: 2.13 | W16: =(J16/J$1+K16/K$1+L16/L$1+M16/M$1+N16/N$1+O16/O$1+P16/P$1+Q16/Q$1+R16/R$1+S16/S$1+T16/T$1+U16/U$1+V16/V$1)*60 -> 5.751 | X16: =X15+W16 -> 36.647714 | Z16: =I16/W16*60 -> 44.444444 | AA16: =F16/X16*60 -> 65.226442 | AB16: =AA16*0.85 -> 55.442475 | AC16: =AA16*0.95 -> 61.96512 | AD16: =$F16/AB16*60 -> 43.114958 | AE16: =$F16/AC16*60 -> 38.576541
A17: MW-E | B17: SI03 | C17: I02 | D17: I03 | E17: 2.85 | F17: =F16+E17 -> 42.69 | G17: East Fork-Pepper Cr Jct | H17: East Fork-Little East Fork Jct | I17: =E17 -> 2.85 | J17: =I17-SUM(K17:V17) -> 0 | O17: 1.43 | P17: 1.42 | W17: =(J17/J$1+K17/K$1+L17/L$1+M17/M$1+N17/N$1+O17/O$1+P17/P$1+Q17/Q$1+R17/R$1+S17/S$1+T17/T$1+U17/U$1+V17/V$1)*60 -> 3.846 | X17: =X16+W17 -> 40.493714 | Z17: =I17/W17*60 -> 44.461778 | AA17: =F17/X17*60 -> 63.254262 | AB17: =AA17*0.85 -> 53.766122 | AC17: =AA17*0.95 -> 60.091549 | AD17: =$F17/AB17*60 -> 47.639664 | AE17: =$F17/AC17*60 -> 42.624962
A18: MW-E | B18: SI04 | C18: I03 | D18: I04 | E18: 0.97 | F18: =F17+E18 -> 43.66 | G18: East Fork-Little East Fork Jct | H18: East Fork-Boundary Link Jct | I18: =E18 -> 0.97 | J18: =I18-SUM(K18:V18) -> 0 | N18: 0.48 | O18: 0.49 | W18: =(J18/J$1+K18/K$1+L18/L$1+M18/M$1+N18/N$1+O18/O$1+P18/P$1+Q18/Q$1+R18/R$1+S18/S$1+T18/T$1+U18/U$1+V18/V$1)*60 -> 1.068 | X18: =X17+W18 -> 41.561714 | Z18: =I18/W18*60 -> 54.494382 | AA18: =F18/X18*60 -> 63.029161 | AB18: =AA18*0.85 -> 53.574787 | AC18: =AA18*0.95 -> 59.877703 | AD18: =$F18/AB18*60 -> 48.896134 | AE18: =$F18/AC18*60 -> 43.749173
A19: MW-E | B19: SH03.1 | C19: H03 | D19: H03.1 | E19: 0.30000001 | F19: =F14+E19 -> 31.03 | G19: Boundary Cr - East Fork Cr Jct | H19: Boundary-Windfall Cr Jct | I19: =E19 -> 0.30000001 | J19: =I19-SUM(K19:V19) -> 1.1920929e-08 | O19: 0.3 | W19: =(J19/J$1+K19/K$1+L19/L$1+M19/M$1+N19/N$1+O19/O$1+P19/P$1+Q19/Q$1+R19/R$1+S19/S$1+T19/T$1+U19/U$1+V19/V$1)*60 -> 0.36000001 | X19: =X14+W19 -> 24.707714 | Z19: =I19/W19*60 -> 50.000001 | AA19: =F19/X19*60 -> 75.352984 | AB19: =AA19*0.85 -> 64.050036 | AC19: =AA19*0.95 -> 71.585335 | AD19: =$F19/AB19*60 -> 29.067899 | AE19: =$F19/AC19*60 -> 26.00812
A20: MW-E | B20: SK01 | C20: H03.1 | D20: K01 | E20: 4.4 | F20: =F19+E20 -> 35.43 | G20: Boundary-Windfall Cr Jct | H20: Windfall - Blind Valley Jct | I20: =E20 -> 4.4 | J20: =I20-SUM(K20:V20) -> 0 | P20: 4.4 | W20: =(J20/J$1+K20/K$1+L20/L$1+M20/M$1+N20/N$1+O20/O$1+P20/P$1+Q20/Q$1+R20/R$1+S20/S$1+T20/T$1+U20/U$1+V20/V$1)*60 -> 6.6 | X20: =X19+W20 -> 31.307714 | Z20: =I20/W20*60 -> 40 | AA20: =F20/X20*60 -> 67.900198 | AB20: =AA20*0.85 -> 57.715168 | AC20: =AA20*0.95 -> 64.505188 | AD20: =$F20/AB20*60 -> 36.832605 | AE20: =$F20/AC20*60 -> 32.955489
E21: 10.8 | F21: =F20+E21 -> 46.23 | H21: Blind Valley - Williamson TFL Bdy | I21: =E21 -> 10.8 | J21: =I21-SUM(K21:V21) -> 0 | P21: =0.4+3.9 -> 4.3 | Q21: 5.5 | R21: 1 | W21: =(J21/J$1+K21/K$1+L21/L$1+M21/M$1+N21/N$1+O21/O$1+P21/P$1+Q21/Q$1+R21/R$1+S21/S$1+T21/T$1+U21/U$1+V21/V$1)*60 -> 19.85 | X21: =X20+W21 -> 51.157714 | Z21: =I21/W21*60 -> 32.644836 | AA21: =F21/X21*60 -> 54.220562 | AB21: =AA21*0.85 -> 46.087477 | AC21: =AA21*0.95 -> 51.509534 | AD21: =$F21/AB21*60 -> 60.185546 | AE21: =$F21/AC21*60 -> 53.850226
A22: MW-E | B22: SH04 | C22: H03.1 | D22: H04 | E22: 2.78 | F22: =F19+E22 -> 33.81 | G22: Boundary-Windfall Cr Jct | H22: Boundary Creek-Henderson Jct | I22: =E22 -> 2.78 | J22: =I22-SUM(K22:V22) -> 0 | O22: 1.39 | P22: 1.39 | W22: =(J22/J$1+K22/K$1+L22/L$1+M22/M$1+N22/N$1+O22/O$1+P22/P$1+Q22/Q$1+R22/R$1+S22/S$1+T22/T$1+U22/U$1+V22/V$1)*60 -> 3.753 | X22: =X19+W22 -> 28.460714 | Z22: =I22/W22*60 -> 44.444444 | AA22: =F22/X22*60 -> 71.277199 | AB22: =AA22*0.85 -> 60.585619 | AC22: =AA22*0.95 -> 67.713339 | AD22: =$F22/AB22*60 -> 33.483193 | AE22: =$F22/AC22*60 -> 29.958647
A23: MW-E | B23: SH05 | C23: H04 | D23: H05 | E23: 7.1799998 | F23: =F22+E23 -> 40.99 | G23: Boundary Creek-Henderson Jct | H23: Boundary Creek-Dry Creek Jct | I23: =E23 -> 7.1799998 | J23: =I23-SUM(K23:V23) -> -1.7166138e-07 | O23: 1.7 | P23: 5.18 | Q23: 0.3 | W23: =(J23/J$1+K23/K$1+L23/L$1+M23/M$1+N23/N$1+O23/O$1+P23/P$1+Q23/Q$1+R23/R$1+S23/S$1+T23/T$1+U23/U$1+V23/V$1)*60 -> 10.41 | X23: =X22+W23 -> 38.870714 | Z23: =I23/W23*60 -> 41.383285 | AA23: =F23/X23*60 -> 63.271284 | AB23: =AA23*0.85 -> 53.780591 | AC23: =AA23*0.95 -> 60.10772 | AD23: =$F23/AB23*60 -> 45.730252 | AE23: =$F23/AC23*60 -> 40.916541
A24: MW-E | B24: SH06 | C24: H05 | D24: H06 | E24: 2.27 | F24: =F23+E24 -> 43.26 | G24: Boundary Creek-Dry Creek Jct | H24: Boundary Creek-Boundary Link Jct | I24: =E24 -> 2.27 | J24: =I24-SUM(K24:V24) -> -1.9073486e-08 | N24: 1.13 | O24: 1.14 | W24: =(J24/J$1+K24/K$1+L24/L$1+M24/M$1+N24/N$1+O24/O$1+P24/P$1+Q24/Q$1+R24/R$1+S24/S$1+T24/T$1+U24/U$1+V24/V$1)*60 -> 2.498 | X24: =X23+W24 -> 41.368714 | Z24: =I24/W24*60 -> 54.523619 | AA24: =F24/X24*60 -> 62.743067 | AB24: =AA24*0.85 -> 53.331607 | AC24: =AA24*0.95 -> 59.605913 | AD24: =$F24/AB24*60 -> 48.669076 | AE24: =$F24/AC24*60 -> 43.546015
A25: MW-E | B25: SH07 | C25: H06 | D25: H07 | E25: 0.58 | F25: =F24+E25 -> 43.84 | G25: Boundary Creek-Boundary Link Jct | H25: Boundary Creek-West Fork | I25: =E25 -> 0.58 | J25: =I25-SUM(K25:V25) -> 0 | P25: 0.58 | W25: =(J25/J$1+K25/K$1+L25/L$1+M25/M$1+N25/N$1+O25/O$1+P25/P$1+Q25/Q$1+R25/R$1+S25/S$1+T25/T$1+U25/U$1+V25/V$1)*60 -> 0.87 | X25: =X24+W25 -> 42.238714 | Z25: =I25/W25*60 -> 40 | AA25: =F25/X25*60 -> 62.274623 | AB25: =AA25*0.85 -> 52.933429 | AC25: =AA25*0.95 -> 59.160892 | AD25: =$F25/AB25*60 -> 49.692605 | AE25: =$F25/AC25*60 -> 44.461804
A26: MW-E | B26: SJ01 | C26: H07 | D26: J01 | E26: 7.26 | F26: =F25+E26 -> 51.1 | G26: Boundary Creek-West Fork | H26: West Fork-Terraced Peak Jct | I26: =E26 -> 7.26 | J26: =I26-SUM(K26:V26) -> 0 | O26: 7.26 | W26: =(J26/J$1+K26/K$1+L26/L$1+M26/M$1+N26/N$1+O26/O$1+P26/P$1+Q26/Q$1+R26/R$1+S26/S$1+T26/T$1+U26/U$1+V26/V$1)*60 -> 8.712 | X26: =X25+W26 -> 50.950714 | Z26: =I26/W26*60 -> 50 | AA26: =F26/X26*60 -> 60.1758 | AB26: =AA26*0.85 -> 51.14943 | AC26: =AA26*0.95 -> 57.16701 | AD26: =$F26/AB26*60 -> 59.942017 | AE26: =$F26/AC26*60 -> 53.632331
A27: MW-E | B27: SJ02 | C27: J01 | D27: J02 | E27: 1.17 | F27: =F26+E27 -> 52.27 | G27: West Fork-Terraced Peak Jct | H27: West Fork 8.5 km -David Crk Jct | I27: =E27 -> 1.17 | J27: =I27-SUM(K27:V27) -> 0 | O27: 1.17 | W27: =(J27/J$1+K27/K$1+L27/L$1+M27/M$1+N27/N$1+O27/O$1+P27/P$1+Q27/Q$1+R27/R$1+S27/S$1+T27/T$1+U27/U$1+V27/V$1)*60 -> 1.404 | X27: =X26+W27 -> 52.354714 | Z27: =I27/W27*60 -> 50 | AA27: =F27/X27*60 -> 59.902915 | AB27: =AA27*0.85 -> 50.917478 | AC27: =AA27*0.95 -> 56.907769 | AD27: =$F27/AB27*60 -> 61.593781 | AE27: =$F27/AC27*60 -> 55.110225
A28: MW-E | C28: J02 | E28: 7.2 | F28: =F27+E28 -> 59.47 | G28: West Fork 8.5 km -David Crk Jct | H28: West Fork - West Fork 15700 Jct | I28: =E28 -> 7.2 | J28: =I28-SUM(K28:V28) -> 0 | R28: 7.2 | W28: =(J28/J$1+K28/K$1+L28/L$1+M28/M$1+N28/N$1+O28/O$1+P28/P$1+Q28/Q$1+R28/R$1+S28/S$1+T28/T$1+U28/U$1+V28/V$1)*60 -> 17.28 | X28: =X27+W28 -> 69.634714 | Z28: =I28/W28*60 -> 25 | AA28: =F28/X28*60 -> 51.241684 | AB28: =AA28*0.85 -> 43.555431 | AC28: =AA28*0.95 -> 48.679599 | AD28: =$F28/AB28*60 -> 81.923193 | AE28: =$F28/AC28*60 -> 73.299699
A29: MW-E | C29: J02 | E29: 7.3 | F29: =F28+E29 -> 66.77 | G29: West Fork - West Fork 15700 Jct | H29: West Fork - West Fork 23000 Jct | I29: =E29 -> 7.3 | J29: =I29-SUM(K29:V29) -> 0 | R29: 6.3 | V29: 1 | W29: =(J29/J$1+K29/K$1+L29/L$1+M29/M$1+N29/N$1+O29/O$1+P29/P$1+Q29/Q$1+R29/R$1+S29/S$1+T29/T$1+U29/U$1+V29/V$1)*60 -> 19.12 | X29: =X28+W29 -> 88.754714 | Z29: =I29/W29*60 -> 22.90795 | AA29: =F29/X29*60 -> 45.137884 | AB29: =AA29*0.85 -> 38.367201 | AC29: =AA29*0.95 -> 42.88099 | AD29: =$F29/AB29*60 -> 104.41731 | AE29: =$F29/AC29*60 -> 93.426015
A30: MW-E | B30: SH08 | C30: H07 | D30: H08 | E30: 9.23 | F30: =F25+E30 -> 53.07 | G30: Boundary Creek-West Fork | H30: Boundary Creek Terrace Lk. | I30: =E30 -> 9.23 | J30: =I30-SUM(K30:V30) -> 0 | O30: 4.62 | P30: 4.61 | W30: =(J30/J$1+K30/K$1+L30/L$1+M30/M$1+N30/N$1+O30/O$1+P30/P$1+Q30/Q$1+R30/R$1+S30/S$1+T30/T$1+U30/U$1+V30/V$1)*60 -> 12.459 | X30: =X25+W30 -> 54.697714 | Z30: =I30/W30*60 -> 44.449795 | AA30: =F30/X30*60 -> 58.214498 | AB30: =AA30*0.85 -> 49.482324 | AC30: =AA30*0.95 -> 55.303773 | AD30: =$F30/AB30*60 -> 64.350252 | AE30: =$F30/AC30*60 -> 57.576541
A33: MW-W | C33: G00 | D33: G01 | E33: 0.22 | F33: =E33 -> 0.22 | G33: Midway Mill | H33: Hwy 3 - Midway Mill Jct | I33: =E33 -> 0.22 | J33: =I33-SUM(K33:V33) -> 0 | T33: 0.22 | W33: =(J33/J$1+K33/K$1+L33/L$1+M33/M$1+N33/N$1+O33/O$1+P33/P$1+Q33/Q$1+R33/R$1+S33/S$1+T33/T$1+U33/U$1+V33/V$1)*60 -> 0.66 | X33: =W33+0.5 -> 1.16 | Z33: =I33/W33*60 -> 20 | AA33: =F33/X33*60 -> 11.37931 | AB33: =AA33*0.85 -> 9.6724138 | AC33: =AA33*0.95 -> 10.810345 | AD33: =$F33/AB33*60 -> 1.3647059 | AE33: =$F33/AC33*60 -> 1.2210526
A34: MW-W | B34: SM01 | C34: G01 | D34: M01 | E34: 4.25 | F34: =F33+E34 -> 4.47 | G34: Hwy 3 - Midway Mill Jct | H34: Hwy 3 - Ingram Cr Rd | I34: =E34 -> 4.25 | J34: =I34-SUM(K34:V34) -> 2.25 | L34: 1.6 | M34: 0.4 | W34: =(J34/J$1+K34/K$1+L34/L$1+M34/M$1+N34/N$1+O34/O$1+P34/P$1+Q34/Q$1+R34/R$1+S34/S$1+T34/T$1+U34/U$1+V34/V$1)*60 -> 2.8928571 | X34: =X33+W34 -> 4.0528571 | Z34: =I34/W34*60 -> 88.148148 | AA34: =F34/X34*60 -> 66.175538 | AB34: =AA34*0.85 -> 56.249207 | AC34: =AA34*0.95 -> 62.866761 | AD34: =$F34/AB34*60 -> 4.7680672 | AE34: =$F34/AC34*60 -> 4.2661654
A35: MW-W | B35: SS01 | C35: M01 | D35: S01 | E35: 4.65 | F35: =F34+E35 -> 9.12 | G35: Hwy 3 - Ingram Cr Rd | H35: Ingram - E. Ingram Jct | I35: =E35 -> 4.65 | J35: =I35-SUM(K35:V35) -> 0 | Q35: 4.65 | W35: =(J35/J$1+K35/K$1+L35/L$1+M35/M$1+N35/N$1+O35/O$1+P35/P$1+Q35/Q$1+R35/R$1+S35/S$1+T35/T$1+U35/U$1+V35/V$1)*60 -> 9.3 | X35: =X34+W35 -> 13.352857 | Z35: =I35/W35*60 -> 30 | AA35: =F35/X35*60 -> 40.979994 | AB35: =AA35*0.85 -> 34.832995 | AC35: =AA35*0.95 -> 38.930994 | AD35: =$F35/AB35*60 -> 15.709244 | AE35: =$F35/AC35*60 -> 14.055639
A36: MW-W | B36: SS02 | C36: S01 | D36: S02 | E36: 2.19 | F36: =F35+E36 -> 11.31 | G36: Ingram - E. Ingram Jct | H36: Ingram - W. Ingram Jct | I36: =E36 -> 2.19 | J36: =I36-SUM(K36:V36) -> 0 | O36: 2.19 | W36: =(J36/J$1+K36/K$1+L36/L$1+M36/M$1+N36/N$1+O36/O$1+P36/P$1+Q36/Q$1+R36/R$1+S36/S$1+T36/T$1+U36/U$1+V36/V$1)*60 -> 2.628 | X36: =X35+W36 -> 15.980857 | Z36: =I36/W36*60 -> 50 | AA36: =F36/X36*60 -> 42.463304 | AB36: =AA36*0.85 -> 36.093809 | AC36: =AA36*0.95 -> 40.340139 | AD36: =$F36/AB36*60 -> 18.801008 | AE36: =$F36/AC36*60 -> 16.821955
A37: MW-W | B37: SM02 | C37: M01 | D37: M02 | E37: 6.01 | F37: =F34+E37 -> 10.48 | G37: Hwy 3 - Ingram Cr Rd | H37: Hwy 3-Kettle Valley Rd | I37: =E37 -> 6.01 | J37: =I37-SUM(K37:V37) -> 4.31 | L37: =0.3+1 -> 1.3 | N37: 0.4 | W37: =(J37/J$1+K37/K$1+L37/L$1+M37/M$1+N37/N$1+O37/O$1+P37/P$1+Q37/Q$1+R37/R$1+S37/S$1+T37/T$1+U37/U$1+V37/V$1)*60 -> 3.961 | X37: =X34+W37 -> 8.0138571 | Z37: =I37/W37*60 -> 91.037617 | AA37: =F37/X37*60 -> 78.464089 | AB37: =AA37*0.85 -> 66.694476 | AC37: =AA37*0.95 -> 74.540885 | AD37: =$F37/AB37*60 -> 9.4280672 | AE37: =$F37/AC37*60 -> 8.4356391
A38: MW-W | B38: SM03 | C38: M02 | D38: M03 | E38: 4.49 | F38: =F37+E38 -> 14.97 | G38: Hwy 3-Kettle Valley Rd | H38: Hwy 3 - Hwy 33 Jct | I38: =E38 -> 4.49 | J38: =I38-SUM(K38:V38) -> 2.54 | L38: 1.3 | O38: 0.65 | W38: =(J38/J$1+K38/K$1+L38/L$1+M38/M$1+N38/N$1+O38/O$1+P38/P$1+Q38/Q$1+R38/R$1+S38/S$1+T38/T$1+U38/U$1+V38/V$1)*60 -> 3.279 | X38: =X37+W38 -> 11.292857 | Z38: =I38/W38*60 -> 82.159195 | AA38: =F38/X38*60 -> 79.537002 | AB38: =AA38*0.85 -> 67.606452 | AC38: =AA38*0.95 -> 75.560152 | AD38: =$F38/AB38*60 -> 13.285714 | AE38: =$F38/AC38*60 -> 11.887218
A39: MW-W | B39: SM04 | C39: M03 | D39: M04 | E39: 6.37 | F39: =F38+E39 -> 21.34 | G39: Hwy 3 - Hwy 33 Jct | H39: Hwy 3 - East Johnstone Cr | I39: =E39 -> 6.37 | J39: =I39-SUM(K39:V39) -> 5.52 | N39: =0.25+0.3 -> 0.55 | Q39: 0.3 | W39: =(J39/J$1+K39/K$1+L39/L$1+M39/M$1+N39/N$1+O39/O$1+P39/P$1+Q39/Q$1+R39/R$1+S39/S$1+T39/T$1+U39/U$1+V39/V$1)*60 -> 4.462 | X39: =X38+W39 -> 15.754857 | Z39: =I39/W39*60 -> 85.656656 | AA39: =F39/X39*60 -> 81.270175 | AB39: =AA39*0.85 -> 69.079649 | AC39: =AA39*0.95 -> 77.206666 | AD39: =$F39/AB39*60 -> 18.535126 | AE39: =$F39/AC39*60 -> 16.58406
A40: MW-W | B40: SM05 | C40: M04 | D40: M05 | E40: 1.55 | F40: =F39+E40 -> 22.89 | G40: Hwy 3 - East Johnstone Cr | H40: Hwy 3 - Johnstone Cr | I40: =E40 -> 1.55 | J40: =I40-SUM(K40:V40) -> -4.7683716e-08 | M40: 0.75 | N40: 0.8 | W40: =(J40/J$1+K40/K$1+L40/L$1+M40/M$1+N40/N$1+O40/O$1+P40/P$1+Q40/Q$1+R40/R$1+S40/S$1+T40/T$1+U40/U$1+V40/V$1)*60 -> 1.4428571 | X40: =X39+W40 -> 17.197714 | Z40: =I40/W40*60 -> 64.455445 | AA40: =F40/X40*60 -> 79.85945 | AB40: =AA40*0.85 -> 67.880532 | AC40: =AA40*0.95 -> 75.866477 | AD40: =$F40/AB40*60 -> 20.232605 | AE40: =$F40/AC40*60 -> 18.102857
A41: MW-W | B41: SM06 | C41: M05 | D41: M06 | E41: 4.69 | F41: =F40+E41 -> 27.58 | G41: Hwy 3 - Johnstone Cr | H41: Hwy 3 - Baldy Mtn Jct | I41: =E41 -> 4.69 | J41: =I41-SUM(K41:V41) -> 3.44 | M41: =0.35+0.9 -> 1.25 | W41: =(J41/J$1+K41/K$1+L41/L$1+M41/M$1+N41/N$1+O41/O$1+P41/P$1+Q41/Q$1+R41/R$1+S41/S$1+T41/T$1+U41/U$1+V41/V$1)*60 -> 3.1354286 | X41: =X40+W41 -> 20.333143 | Z41: =I41/W41*60 -> 89.748496 | AA41: =F41/X41*60 -> 81.384369 | AB41: =AA41*0.85 -> 69.176714 | AC41: =AA41*0.95 -> 77.31515 | AD41: =$F41/AB41*60 -> 23.921345 | AE41: =$F41/AC41*60 -> 21.403308
A42: MW-W | B42: SM07 | C42: M06 | D42: M07 | E42: 8.77 | F42: =F41+E42 -> 36.35 | G42: Hwy 3 - Baldy Mtn Jct | H42: Hwy 3 - Sidley Jct. | I42: =E42 -> 8.77 | J42: =I42-SUM(K42:V42) -> 7.77 | N42: 1 | W42: =(J42/J$1+K42/K$1+L42/L$1+M42/M$1+N42/N$1+O42/O$1+P42/P$1+Q42/Q$1+R42/R$1+S42/S$1+T42/T$1+U42/U$1+V42/V$1)*60 -> 5.662 | X42: =X41+W42 -> 25.995143 | Z42: =I42/W42*60 -> 92.935359 | AA42: =F42/X42*60 -> 83.900289 | AB42: =AA42*0.85 -> 71.315246 | AC42: =AA42*0.95 -> 79.705275 | AD42: =$F42/AB42*60 -> 30.582521 | AE42: =$F42/AC42*60 -> 27.363308
...

Sheet Midway Short
A1: =Midway!H1 -> End | B1: =Midway!F1 -> Cumul -ative from Mill | C1: =Midway!AB1 -> Loaded Speed (85%) | D1: =Midway!AC1 -> Empty Speed (95%) | E1: =Midway!AD1 -> Loaded Time (min's) | F1: =Midway!AE1 -> Empty Time (min's)
A2: =Midway!H2 -> Hwy 3 - Midway Mill Jct | B2: =Midway!F2 -> 0.22 | C2: =Midway!AB2 -> 9.6724138 | D2: =Midway!AC2 -> 10.810345 | E2: =Midway!AD2 -> 1.3647059 | F2: =Midway!AE2 -> 1.2210526
A3: =Midway!H3 -> Hwy 3 - Midway Jct | B3: =Midway!F3 -> 4.43 | C3: =Midway!AB3 -> 56.197498 | D3: =Midway!AC3 -> 62.808969 | E3: =Midway!AD3 -> 4.7297479 | F3: =Midway!AE3 -> 4.2318797
A4: =Midway!H4 -> Myers Cr 9 K | B4: =Midway!F4 -> 14.47 | C4: =Midway!AB4 -> 51.656867 | D4: =Midway!AC4 -> 57.734145 | E4: =Midway!AD4 -> 16.807059 | F4: =Midway!AE4 -> 15.037895
A5: =Midway!H5 -> Hwy 3 - Norwegian Cr Jct | B5: =Midway!F5 -> 7.69 | C5: =Midway!AB5 -> 63.70562 | D5: =Midway!AC5 -> 71.200399 | E5: =Midway!AD5 -> 7.2426891 | F5: =Midway!AE5 -> 6.4803008
A6: =Midway!H6 -> Hwy 3 - Kerr Cr Jct | B6: =Midway!F6 -> 9.87 | C6: =Midway!AB6 -> 66.520483 | D6: =Midway!AC6 -> 74.346423 | E6: =Midway!AD6 -> 8.902521 | F6: =Midway!AE6 -> 7.9654135
A7: =Midway!H7 -> Hwy 3 - McCarren Cr Jct | B7: =Midway!F7 -> 13.33 | C7: =Midway!AB7 -> 69.071367 | D7: =Midway!AC7 -> 77.197411 | E7: =Midway!AD7 -> 11.579328 | F7: =Midway!AE7 -> 10.360451
A8: =Midway!H8 -> Hwy 3 - Anaconda | B8: =Midway!F8 -> 16.55 | C8: =Midway!AB8 -> 69.591053 | D8: =Midway!AC8 -> 77.778236 | E8: =Midway!AD8 -> 14.269076 | F8: =Midway!AE8 -> 12.767068
A9: =Midway!H9 -> Hwy 3 - Greenwood-Phoenix | B9: =Midway!F9 -> 18.13 | C9: =Midway!AB9 -> 65.928616 | D9: =Midway!AC9 -> 73.684924 | E9: =Midway!AD9 -> 16.499664 | F9: =Midway!AE9 -> 14.762857
A10: =Midway!H10 -> Hwy 3 - Boundary Cr Jct | B10: =Midway!F10 -> 21.51 | C10: =Midway!AB10 -> 63.109246 | D10: =Midway!AC10 -> 70.533864 | E10: =Midway!AD10 -> 20.450252 | F10: =Midway!AE10 -> 18.297594
A11: =Midway!H11 -> Boundary Cr - Jewel Jct | B11: =Midway!F11 -> 22.44 | C11: =Midway!AB11 -> 63.123358 | D11: =Midway!AC11 -> 70.549635 | E11: =Midway!AD11 -> 21.329664 | F11: =Midway!AE11 -> 19.084436
A12: =Midway!H12 -> Jewel Lk - Rhoderick Dhu Jct | B12: =Midway!F12 -> 27.05 | C12: =Midway!AB12 -> 50.44019 | D12: =Midway!AC12 -> 56.37433 | E12: =Midway!AD12 -> 32.176723 | F12: =Midway!AE12 -> 28.789699
... A89: =Midway!H89 -> Trapping-East Trapping Cr jct | B89: =Midway!F89 -> 85.19 | C89: =Midway!AB89 -> 65.974771 | D89: =Midway!AC89 -> 73.736509 | E89: =Midway!AD89 -> 77.47507 | F89: =Midway!AE89 -> 69.319799
A90: =Midway!H91 -> Trapping-Ptarmigan Jct | B90: =Midway!F91 -> 88.64 | C90: =Midway!AB91 -> 64.586283 | D90: =Midway!AC91 -> 72.184669 | E90: =Midway!AD91 -> 82.345658 | F90: =Midway!AE91 -> 73.677694
A91: =Midway!H92 -> Copperkettle-Lassie Lk Jct | B91: =Midway!F92 -> 95.12 | C91: =Midway!AB92 -> 62.377933 | D91: =Midway!AC92 -> 69.716514 | E91: =Midway!AD92 -> 91.493893 | F91: =Midway!AE92 -> 81.862957
A92: =Midway!H93 -> Copperkettle-Wolfe Jct | B92: =Midway!F93 -> 104.08 | C92: =Midway!AB93 -> 59.963528 | D92: =Midway!AC93 -> 67.018061 | E92: =Midway!AD93 -> 104.14331 | F92: =Midway!AE93 -> 93.180852
A93: =Midway!H94 -> Whitefoot 26K | B93: =Midway!F94 -> 116.2 | C93: =Midway!AB94 -> 54.001789 | D93: =Midway!AC94 -> 60.35494 | E93: =Midway!AD94 -> 129.10683 | F93: =Midway!AE94 -> 115.51664
A94: =Midway!H95 -> Whitefoot 29K | B94: =Midway!F95 -> 119.2 | C94: =Midway!AB95 -> 51.985274 | D94: =Midway!AC95 -> 58.101188 | E94: =Midway!AD95 -> 137.57742 | F94: =Midway!AE95 -> 123.09559
