Workbook

Sheet Grand Forks
A1: Area | B1: Section | C1: Start | D1: End | E1: Segment Length | F1: Cumul - ative from Mill | G1: Start | H1: End | I1: Segm't Length | J1: 100 | K1: 90 | L1: 80 | M1: 70 | N1: 60 | O1: 50 | P1: 40 | Q1: 30 | R1: 25 | S1: 22.5 | T1: 20 | U1: 17.5 | V1: 15 | W1: Seg Time | X1: Cum Time | Y1: Time Study Speed | Z1: Ave. Seg Speed | AA1: Ave. Cum Speed | AB1: Loaded Speed (85%) | AC1: Empty Speed (95%) | AD1: Loaded Time (min's) | AE1: Empty Time (min's)
A2: GF-E | B2: SA01 | C2: A01 | D2: A02 | E2: 0.83 | F2: =E2 -> 0.83 | G2: Grand Forks Mill | H2: 68th Ave and Hwy 3 | I2: =E2 -> 0.83 | J2: =I2-SUM(K2:V2) -> 0 | O2: 0.55 | T2: 0.28 | W2: =(J2/J$1+K2/K$1+L2/L$1+M2/M$1+N2/N$1+O2/O$1+P2/P$1+Q2/Q$1+R2/R$1+S2/S$1+T2/T$1+U2/U$1+V2/V$1)*60 -> 1.5 | X2: =W2 -> 1.5 | Z2: =I2/W2*60 -> 33.2 | AA2: =F2/X2*60 -> 33.2 | AB2: =AA2*0.85 -> 28.22 | AC2: =AA2*0.95 -> 31.54 | AD2: =$F2/AB2*60 -> 1.7647059 | AE2: =$F2/AC2*60 -> 1.5789474
A3: GF-E | B3: SC01 | C3: A02 | D3: C01 | E3: 6.8 | F3: =F2+E3 -> 7.63 | G3: 68th Ave and Hwy 3 | H3: Hwy 3 - Gilpin FSR | I3: =E3 -> 6.8 | J3: =I3-SUM(K3:V3) -> 4.7 | L3: 0.7 | M3: =0.9+0.5 -> 1.4 | W3: =(J3/J$1+K3/K$1+L3/L$1+M3/M$1+N3/N$1+O3/O$1+P3/P$1+Q3/Q$1+R3/R$1+S3/S$1+T3/T$1+U3/U$1+V3/V$1)*60 -> 4.545 | X3: =X2+W3+0.5 -> 6.545 | Z3: =I3/W3*60 -> 89.768977 | AA3: =F3/X3*60 -> 69.946524 | AB3: =AA3*0.85 -> 59.454545 | AC3: =AA3*0.95 -> 66.449198 | AD3: =$F3/AB3*60 -> 7.7 | AE3: =$F3/AC3*60 -> 6.8894737
A4: GF-E | B4: SD01 | C4: C01 | D4: D01 | E4: 6.97 | F4: =F3+E4 -> 14.6 | G4: Hwy 3 - Gilpin FSR | H4: Gilpin-Dan O'Rea Jct | I4: =E4 -> 6.97 | J4: =I4-SUM(K4:V4) -> 0.02 | R4: 3 | S4: 2 | U4: 1.95 | W4: =(J4/J$1+K4/K$1+L4/L$1+M4/M$1+N4/N$1+O4/O$1+P4/P$1+Q4/Q$1+R4/R$1+S4/S$1+T4/T$1+U4/U$1+V4/V$1)*60 -> 19.231048 | X4: =X3+W4 -> 25.776048 | Z4: =I4/W4*60 -> 21.746085 | AA4: =F4/X4*60 -> 33.98504 | AB4: =AA4*0.85 -> 28.887284 | AC4: =AA4*0.95 -> 32.285788 | AD4: =$F4/AB4*60 -> 30.324762 | AE4: =$F4/AC4*60 -> 27.132682
A5: GF-E | B5: SC02 | C5: C01 | D5: C02 | E5: 9.46 | F5: =F3+E5 -> 17.09 | G5: Hwy 3 - Gilpin FSR | H5: Hwy 3 - Stewart Cr FSR | I5: =E5 -> 9.46 | J5: =I5-SUM(K5:V5) -> 8.86 | L5: =0.3+0.3 -> 0.6 | W5: =(J5/J$1+K5/K$1+L5/L$1+M5/M$1+N5/N$1+O5/O$1+P5/P$1+Q5/Q$1+R5/R$1+S5/S$1+T5/T$1+U5/U$1+V5/V$1)*60 -> 5.766 | X5: =X3+W5 -> 12.311 | Z5: =I5/W5*60 -> 98.439126 | AA5: =F5/X5*60 -> 83.291365 | AB5: =AA5*0.85 -> 70.797661 | AC5: =AA5*0.95 -> 79.126797 | AD5: =$F5/AB5*60 -> 14.483529 | AE5: =$F5/AC5*60 -> 12.958947
A6: GF-E | B6: SE01 | C6: C02 | D6: E01 | E6: 5.55 | F6: =F5+E6 -> 22.64 | G6: Hwy 3 - Stewart Cr FSR | H6: Stewart-Moody Cr Jct | I6: =E6 -> 5.55 | J6: =I6-SUM(K6:V6) -> 0 | P6: 5.55 | W6: =(J6/J$1+K6/K$1+L6/L$1+M6/M$1+N6/N$1+O6/O$1+P6/P$1+Q6/Q$1+R6/R$1+S6/S$1+T6/T$1+U6/U$1+V6/V$1)*60 -> 8.325 | X6: =X5+W6 -> 20.636 | Z6: =I6/W6*60 -> 40 | AA6: =F6/X6*60 -> 65.826711 | AB6: =AA6*0.85 -> 55.952704 | AC6: =AA6*0.95 -> 62.535375 | AD6: =$F6/AB6*60 -> 24.277647 | AE6: =$F6/AC6*60 -> 21.722105
A7: GF-E | B7: SE02 | C7: E01 | D7: E02 | E7: 8.47 | F7: =F6+E7 -> 31.11 | G7: Stewart-Moody Cr Jct | H7: Stewart-Stewart 1400 Jct | I7: =E7 -> 8.47 | J7: =I7-SUM(K7:V7) -> 0 | P7: 4.23 | Q7: 4.24 | W7: =(J7/J$1+K7/K$1+L7/L$1+M7/M$1+N7/N$1+O7/O$1+P7/P$1+Q7/Q$1+R7/R$1+S7/S$1+T7/T$1+U7/U$1+V7/V$1)*60 -> 14.825 | X7: =X6+W7 -> 35.461 | Z7: =I7/W7*60 -> 34.279933 | AA7: =F7/X7*60 -> 52.638109 | AB7: =AA7*0.85 -> 44.742393 | AC7: =AA7*0.95 -> 50.006204 | AD7: =$F7/AB7*60 -> 41.718824 | AE7: =$F7/AC7*60 -> 37.327368
A8: GF-E | B8: SC03 | C8: C02 | D8: C03 | E8: 3.66 | F8: =F5+E8 -> 20.75 | G8: Hwy 3 - Stewart Cr FSR | H8: Hwy 3 - Santa Rosa Jct | I8: =E8 -> 3.66 | J8: =I8-SUM(K8:V8) -> 1.21 | L8: 0.45 | M8: =0.3+0.35+1 -> 1.65 | N8: 0.35 | W8: =(J8/J$1+K8/K$1+L8/L$1+M8/M$1+N8/N$1+O8/O$1+P8/P$1+Q8/Q$1+R8/R$1+S8/S$1+T8/T$1+U8/U$1+V8/V$1)*60 -> 2.8277857 | X8: =X5+W8 -> 15.138786 | Z8: =I8/W8*60 -> 77.657935 | AA8: =F8/X8*60 -> 82.239093 | AB8: =AA8*0.85 -> 69.903229 | AC8: =AA8*0.95 -> 78.127138 | AD8: =$F8/AB8*60 -> 17.810336 | AE8: =$F8/AC8*60 -> 15.935564
A9: GF-E | B9: SCA01 | C9: C03 | D9: CA01 | E9: 13.63 | F9: =F8+E9 -> 34.38 | G9: Hwy 3 - Santa Rosa Jct | H9: Santa Rosa - Trout Creek | I9: =E9 -> 13.63 | J9: =I9-SUM(K9:V9) -> 0 | P9: 6.81 | Q9: 6.82 | W9: =(J9/J$1+K9/K$1+L9/L$1+M9/M$1+N9/N$1+O9/O$1+P9/P$1+Q9/Q$1+R9/R$1+S9/S$1+T9/T$1+U9/U$1+V9/V$1)*60 -> 23.855 | X9: =X8+W9 -> 38.993786 | Z9: =I9/W9*60 -> 34.282121 | AA9: =F9/X9*60 -> 52.900737 | AB9: =AA9*0.85 -> 44.965626 | AC9: =AA9*0.95 -> 50.2557 | AD9: =$F9/AB9*60 -> 45.875042 | AE9: =$F9/AC9*60 -> 41.04609
A10: GF-E | B10: SC04 | C10: C03 | D10: C04 | E10: 1.42 | F10: =F8+E10 -> 22.17 | G10: Hwy 3 - Santa Rosa Jct | H10: Hwy 3 - Fife Rd | I10: =E10 -> 1.42 | J10: =I10-SUM(K10:V10) -> -4.2915344e-08 | M10: 0.71 | N10: 0.71 | W10: =(J10/J$1+K10/K$1+L10/L$1+M10/M$1+N10/N$1+O10/O$1+P10/P$1+Q10/Q$1+R10/R$1+S10/S$1+T10/T$1+U10/U$1+V10/V$1)*60 -> 1.3185714 | X10: =X8+W10 -> 16.457357 | Z10: =I10/W10*60 -> 64.615384 | AA10: =F10/X10*60 -> 80.827073 | AB10: =AA10*0.85 -> 68.703012 | AC10: =AA10*0.95 -> 76.785719 | AD10: =$F10/AB10*60 -> 19.361597 | AE10: =$F10/AC10*60 -> 17.323534
A11: GF-E | B11: SC05 | C11: C04 | D11: C05 | E11: 25.52 | F11: =F10+E11 -> 47.69 | G11: Hwy 3 - Fife Rd | H11: Hwy 3-Paulson Detour Jct | I11: =E11 -> 25.52 | J11: =I11-SUM(K11:V11) -> 13.62 | L11: =0.8+0.6+1.1+0.5 -> 3 | M11: =0.95+1+1.5+0.6+0.6+0.5 -> 5.15 | N11: =0.95+1+0.6 -> 2.55 | O11: =0.6+0.6 -> 1.2 | W11: =(J11/J$1+K11/K$1+L11/L$1+M11/M$1+N11/N$1+O11/O$1+P11/P$1+Q11/Q$1+R11/R$1+S11/S$1+T11/T$1+U11/U$1+V11/V$1)*60 -> 18.826286 | X11: =X10+W11 -> 35.283643 | Z11: =I11/W11*60 -> 81.333091 | AA11: =F11/X11*60 -> 81.097068 | AB11: =AA11*0.85 -> 68.932508 | AC11: =AA11*0.95 -> 77.042215 | AD11: =$F11/AB11*60 -> 41.510168 | AE11: =$F11/AC11*60 -> 37.140677
A12: GF-E | B12: SC06 | C12: C05 | D12: C06 | E12: 4.25 | F12: =F11+E12 -> 51.94 | G12: Hwy 3-Paulson Detour Jct | H12: Hwy 3-Bonanza Cr Jct | I12: =E12 -> 4.25 | J12: =I12-SUM(K12:V12) -> 0 | L12: 1.13 | M12: =0.3 -> 0.3 | N12: =0.7 -> 0.7 | P12: 2.12 | W12: =(J12/J$1+K12/K$1+L12/L$1+M12/M$1+N12/N$1+O12/O$1+P12/P$1+Q12/Q$1+R12/R$1+S12/S$1+T12/T$1+U12/U$1+V12/V$1)*60 -> 4.9846429 | X12: =X11+W12 -> 40.268286 | Z12: =I12/W12*60 -> 51.157125 | AA12: =F12/X12*60 -> 77.390928 | AB12: =AA12*0.85 -> 65.782289 | AC12: =AA12*0.95 -> 73.521382 | AD12: =$F12/AB12*60 -> 47.374454 | AE12: =$F12/AC12*60 -> 42.387669
A15: GF-N | B15: SA01 | C15: A01 | D15: A02 | E15: 0.83 | F15: =F14+E15 -> 0.83 | G15: Grand Forks Mill | H15: 68th Ave and Hwy 3 | I15: =E15 -> 0.83 | J15: =I15-SUM(K15:V15) -> 0 | O15: 0.55 | T15: 0.28 | W15: =(J15/J$1+K15/K$1+L15/L$1+M15/M$1+N15/N$1+O15/O$1+P15/P$1+Q15/Q$1+R15/R$1+S15/S$1+T15/T$1+U15/U$1+V15/V$1)*60 -> 1.5 | X15: =X14+W15 -> 1.5 | Z15: =I15/W15*60 -> 33.2 | AA15: =F15/X15*60 -> 33.2 | AB15: =AA15*0.85 -> 28.22 | AC15: =AA15*0.95 -> 31.54 | AD15: =$F15/AB15*60 -> 1.7647059 | AE15: =$F15/AC15*60 -> 1.5789474
A16: GF-N | B16: SA02.1 | C16: A02 | D16: A02.1 | E16: 0.75 | F16: =F15+E16 -> 1.58 | G16: 68th Ave and Hwy 3 | H16: Hwy 3-Granby Rd Jct | I16: =E16 -> 0.75 | J16: =I16-SUM(K16:V16) -> 0 | O16: 0.75 | W16: =(J16/J$1+K16/K$1+L16/L$1+M16/M$1+N16/N$1+O16/O$1+P16/P$1+Q16/Q$1+R16/R$1+S16/S$1+T16/T$1+U16/U$1+V16/V$1)*60 -> 0.9 | X16: =X15+W16+0.5 -> 2.9 | Z16: =I16/W16*60 -> 50 | AA16: =F16/X16*60 -> 32.689655 | AB16: =AA16*0.85 -> 27.786207 | AC16: =AA16*0.95 -> 31.055172 | AD16: =$F16/AB16*60 -> 3.4117647 | AE16: =$F16/AC16*60 -> 3.0526316
A17: GF-N | B17: SF00.1 | C17: A02.1 | D17: F00.1 | E17: 3.25 | F17: =F16+E17 -> 4.83 | G17: Hwy 3-Granby Rd Jct | H17: Hwy 3 - North Fork Jct | I17: =E17 -> 3.25 | J17: =I17-SUM(K17:V17) -> 0 | O17: 3.25 | W17: =(J17/J$1+K17/K$1+L17/L$1+M17/M$1+N17/N$1+O17/O$1+P17/P$1+Q17/Q$1+R17/R$1+S17/S$1+T17/T$1+U17/U$1+V17/V$1)*60 -> 3.9 | X17: =X16+W17+2 -> 8.8 | Z17: =I17/W17*60 -> 50 | AA17: =F17/X17*60 -> 32.931818 | AB17: =AA17*0.85 -> 27.992045 | AC17: =AA17*0.95 -> 31.285227 | AD17: =$F17/AB17*60 -> 10.352941 | AE17: =$F17/AC17*60 -> 9.2631579
A18: GF-N | B18: SB00 | C18: F00.1 | D18: B00 | E18: 15.34 | F18: =F17+E18 -> 20.17 | G18: Hwy 3 - North Fork Jct | H18: North Fork-Hummingbird Bridge | I18: =E18 -> 15.34 | J18: =I18-SUM(K18:V18) -> 0 | L18: 13.84 | N18: 1.5 | W18: =(J18/J$1+K18/K$1+L18/L$1+M18/M$1+N18/N$1+O18/O$1+P18/P$1+Q18/Q$1+R18/R$1+S18/S$1+T18/T$1+U18/U$1+V18/V$1)*60 -> 11.88 | X18: =X17+W18 -> 20.68 | Z18: =I18/W18*60 -> 77.474747 | AA18: =F18/X18*60 -> 58.520309 | AB18: =AA18*0.85 -> 49.742263 | AC18: =AA18*0.95 -> 55.594294 | AD18: =$F18/AB18*60 -> 24.329412 | AE18: =$F18/AC18*60 -> 21.768421
A19: GF-N | B19: SHL | C19: B00 | D19: A04 | E19: 0.56 | F19: =F18+E19 -> 20.73 | G19: North Fork-Hummingbird Bridge | H19: Granby - Hummingbird Bridge Jct | I19: =E19 -> 0.56 | J19: =I19-SUM(K19:V19) -> 0 | P19: 0.56 | W19: =(J19/J$1+K19/K$1+L19/L$1+M19/M$1+N19/N$1+O19/O$1+P19/P$1+Q19/Q$1+R19/R$1+S19/S$1+T19/T$1+U19/U$1+V19/V$1)*60 -> 0.84 | X19: =X18+W19 -> 21.52 | Z19: =I19/W19*60 -> 40 | AA19: =F19/X19*60 -> 57.797398 | AB19: =AA19*0.85 -> 49.127788 | AC19: =AA19*0.95 -> 54.907528 | AD19: =$F19/AB19*60 -> 25.317647 | AE19: =$F19/AC19*60 -> 22.652632
A20: GF-N | B20: SA02 | C20: A02.1 | D20: A03 | E20: 5.9400001 | F20: =F16+E20 -> 7.5200001 | G20: Hwy 3-Granby Rd Jct | H20: Granby-Sand Cr Jnct | I20: =E20 -> 5.9400001 | J20: =I20-SUM(K20:V20) -> 5.7220459e-08 | L20: =3.84-1.5 -> 2.34 | N20: 1.8 | O20: 1.8 | W20: =(J20/J$1+K20/K$1+L20/L$1+M20/M$1+N20/N$1+O20/O$1+P20/P$1+Q20/Q$1+R20/R$1+S20/S$1+T20/T$1+U20/U$1+V20/V$1)*60 -> 5.715 | X20: =X16+W20 -> 8.615 | Z20: =I20/W20*60 -> 62.362205 | AA20: =F20/X20*60 -> 52.373767 | AB20: =AA20*0.85 -> 44.517702 | AC20: =AA20*0.95 -> 49.755079 | AD20: =$F20/AB20*60 -> 10.135294 | AE20: =$F20/AC20*60 -> 9.0684211
A21: GF-N | B21: SA03 | C21: A03 | D21: A04 | E21: 9.9399996 | F21: =F20+E21 -> 17.46 | G21: Granby-Sand Cr Jnct | H21: Granby - Hummingbird Bridge Jct | I21: =E21 -> 9.9399996 | J21: =I21-SUM(K21:V21) -> -4.196167e-07 | L21: =6.34-2 -> 4.34 | M21: 1 | N21: 2.1 | O21: 2.2 | P21: 0.3 | W21: =(J21/J$1+K21/K$1+L21/L$1+M21/M$1+N21/N$1+O21/O$1+P21/P$1+Q21/Q$1+R21/R$1+S21/S$1+T21/T$1+U21/U$1+V21/V$1)*60 -> 9.3021426 | X21: =X20+W21 -> 17.917143 | Z21: =I21/W21*60 -> 64.114258 | AA21: =F21/X21*60 -> 58.469143 | AB21: =AA21*0.85 -> 49.698772 | AC21: =AA21*0.95 -> 55.545686 | AD21: =$F21/AB21*60 -> 21.078991 | AE21: =$F21/AC21*60 -> 18.86015
A22: GF-N | B22: SHL | C22: A04 | D22: B00 | E22: 0.56 | F22: =F21+E22 -> 18.02 | G22: Granby - Hummingbird Bridge Jct | H22: North Fork-Hummingbird Bridge | I22: =E22 -> 0.56 | J22: =I22-SUM(K22:V22) -> 0 | P22: 0.56 | W22: =(J22/J$1+K22/K$1+L22/L$1+M22/M$1+N22/N$1+O22/O$1+P22/P$1+Q22/Q$1+R22/R$1+S22/S$1+T22/T$1+U22/U$1+V22/V$1)*60 -> 0.84 | X22: =X21+W22 -> 18.757143 | Z22: =I22/W22*60 -> 40 | AA22: =F22/X22*60 -> 57.642041 | AB22: =AA22*0.85 -> 48.995735 | AC22: =AA22*0.95 -> 54.759939 | AD22: =$F22/AB22*60 -> 22.067227 | AE22: =$F22/AC22*60 -> 19.744361
A23: GF-N | B23: SB01 | C23: B00 | D23: B01 | E23: 1.9 | F23: =F22+E23 -> 19.92 | G23: North Fork-Hummingbird Bridge | H23: West Granby - Brown Cr Jct | I23: =E23 -> 1.9 | J23: =I23-SUM(K23:V23) -> 0 | M23: 1.9 | W23: =(J23/J$1+K23/K$1+L23/L$1+M23/M$1+N23/N$1+O23/O$1+P23/P$1+Q23/Q$1+R23/R$1+S23/S$1+T23/T$1+U23/U$1+V23/V$1)*60 -> 1.6285714 | X23: =X22+W23 -> 20.385714 | Z23: =I23/W23*60 -> 70 | AA23: =F23/X23*60 -> 58.629292 | AB23: =AA23*0.85 -> 49.834898 | AC23: =AA23*0.95 -> 55.697827 | AD23: =$F23/AB23*60 -> 23.983193 | AE23: =$F23/AC23*60 -> 21.458646
A24: GF-N | B24: SB02 | C24: B01 | D24: B02 | E24: 2.97 | F24: =F23+E24 -> 22.89 | G24: West Granby - Brown Cr Jct | H24: West Granby - Pass Cr Rd | I24: =E24 -> 2.97 | J24: =I24-SUM(K24:V24) -> 0 | M24: 1.57 | N24: 1.4 | W24: =(J24/J$1+K24/K$1+L24/L$1+M24/M$1+N24/N$1+O24/O$1+P24/P$1+Q24/Q$1+R24/R$1+S24/S$1+T24/T$1+U24/U$1+V24/V$1)*60 -> 2.7457143 | X24: =X23+W24 -> 23.131428 | Z24: =I24/W24*60 -> 64.901145 | AA24: =F24/X24*60 -> 59.373764 | AB24: =AA24*0.85 -> 50.4677 | AC24: =AA24*0.95 -> 56.405076 | AD24: =$F24/AB24*60 -> 27.213445 | AE24: =$F24/AC24*60 -> 24.348872
A25: GF-N | B25: SB03 | C25: B02 | D25: B03 | E25: 3.17 | F25: =F24+E25 -> 26.06 | G25: West Granby - Pass Cr Rd | H25: Pass Creek - Rock Candy Jct | I25: =E25 -> 3.17 | J25: =I25-SUM(K25:V25) -> 0 | R25: 1.17 | S25: 2 | W25: =(J25/J$1+K25/K$1+L25/L$1+M25/M$1+N25/N$1+O25/O$1+P25/P$1+Q25/Q$1+R25/R$1+S25/S$1+T25/T$1+U25/U$1+V25/V$1)*60 -> 8.1413333 | X25: =X24+W25 -> 31.272762 | Z25: =I25/W25*60 -> 23.362267 | AA25: =F25/X25*60 -> 49.998781 | AB25: =AA25*0.85 -> 42.498964 | AC25: =AA25*0.95 -> 47.498842 | AD25: =$F25/AB25*60 -> 36.791484 | AE25: =$F25/AC25*60 -> 32.918697
A26: GF-N | B26: SA04 | C26: A04 | D26: A05 | E26: 0.94 | F26: =F21+E26 -> 18.4 | G26: Granby - Hummingbird Bridge Jct | H26: Granby - Volcanic Cr Jct | I26: =E26 -> 0.94 | J26: =I26-SUM(K26:V26) -> 0 | L26: 0.64 | N26: 0.3 | W26: =(J26/J$1+K26/K$1+L26/L$1+M26/M$1+N26/N$1+O26/O$1+P26/P$1+Q26/Q$1+R26/R$1+S26/S$1+T26/T$1+U26/U$1+V26/V$1)*60 -> 0.78 | X26: =X21+W26 -> 18.697143 | Z26: =I26/W26*60 -> 72.307692 | AA26: =F26/X26*60 -> 59.046454 | AB26: =AA26*0.85 -> 50.189486 | AC26: =AA26*0.95 -> 56.094132 | AD26: =$F26/AB26*60 -> 21.996638 | AE26: =$F26/AC26*60 -> 19.681203
A27: GF-N | B27: SA05 | C27: A05 | D27: A06 | E27: 6.22 | F27: =F26+E27 -> 24.62 | G27: Granby - Volcanic Cr Jct | H27: Granby-Miller Cr Jct | I27: =E27 -> 6.22 | J27: =I27-SUM(K27:V27) -> 0 | M27: 6.22 | W27: =(J27/J$1+K27/K$1+L27/L$1+M27/M$1+N27/N$1+O27/O$1+P27/P$1+Q27/Q$1+R27/R$1+S27/S$1+T27/T$1+U27/U$1+V27/V$1)*60 -> 5.3314286 | X27: =X26+W27 -> 24.028571 | Z27: =I27/W27*60 -> 70 | AA27: =F27/X27*60 -> 61.476813 | AB27: =AA27*0.85 -> 52.255291 | AC27: =AA27*0.95 -> 58.402972 | AD27: =$F27/AB27*60 -> 28.268907 | AE27: =$F27/AC27*60 -> 25.293233
A28: GF-N | B28: SA06 | C28: A06 | D28: A07 | E28: 3.9 | F28: =F27+E28 -> 28.52 | G28: Granby-Miller Cr Jct | H28: Granby-Brown Cr N. Jct | I28: =E28 -> 3.9 | J28: =I28-SUM(K28:V28) -> 0 | L28: 3.9 | W28: =(J28/J$1+K28/K$1+L28/L$1+M28/M$1+N28/N$1+O28/O$1+P28/P$1+Q28/Q$1+R28/R$1+S28/S$1+T28/T$1+U28/U$1+V28/V$1)*60 -> 2.925 | X28: =X27+W28 -> 26.953571 | Z28: =I28/W28*60 -> 80 | AA28: =F28/X28*60 -> 63.486948 | AB28: =AA28*0.85 -> 53.963906 | AC28: =AA28*0.95 -> 60.312601 | AD28: =$F28/AB28*60 -> 31.710084 | AE28: =$F28/AC28*60 -> 28.37218
A29: GF-N | B29: SA07 | C29: A07 | D29: A08 | E29: 1.32 | F29: =F28+E29 -> 29.84 | G29: Granby-Brown Cr N. Jct | H29: Granby-Lynch Cr Jct | I29: =E29 -> 1.32 | J29: =I29-SUM(K29:V29) -> 0 | O29: 1.32 | W29: =(J29/J$1+K29/K$1+L29/L$1+M29/M$1+N29/N$1+O29/O$1+P29/P$1+Q29/Q$1+R29/R$1+S29/S$1+T29/T$1+U29/U$1+V29/V$1)*60 -> 1.584 | X29: =X28+W29 -> 28.537571 | Z29: =I29/W29*60 -> 50 | AA29: =F29/X29*60 -> 62.738345 | AB29: =AA29*0.85 -> 53.327593 | AC29: =AA29*0.95 -> 59.601427 | AD29: =$F29/AB29*60 -> 33.573613 | AE29: =$F29/AC29*60 -> 30.039549
A30: GF-N | B30: SA08 | C30: A08 | D30: A09 | E30: 12.86 | F30: =F29+E30 -> 42.7 | G30: Granby-Lynch Cr Jct | H30: Granby-Wiseman Jct | I30: =E30 -> 12.86 | J30: =I30-SUM(K30:V30) -> 0 | O30: 12.86 | W30: =(J30/J$1+K30/K$1+L30/L$1+M30/M$1+N30/N$1+O30/O$1+P30/P$1+Q30/Q$1+R30/R$1+S30/S$1+T30/T$1+U30/U$1+V30/V$1)*60 -> 15.432 | X30: =X29+W30 -> 43.969571 | Z30: =I30/W30*60 -> 50 | AA30: =F30/X30*60 -> 58.267568 | AB30: =AA30*0.85 -> 49.527433 | AC30: =AA30*0.95 -> 55.35419 | AD30: =$F30/AB30*60 -> 51.728907 | AE30: =$F30/AC30*60 -> 46.283759
A31: GF-N | B31: SA09 | C31: A09 | D31: A10 | E31: 2.31 | F31: =F30+E31 -> 45.01 | G31: Granby-Wiseman Jct | H31: Granby-Knappen Jct | I31: =E31 -> 2.31 | J31: =I31-SUM(K31:V31) -> 0 | O31: 2.31 | W31: =(J31/J$1+K31/K$1+L31/L$1+M31/M$1+N31/N$1+O31/O$1+P31/P$1+Q31/Q$1+R31/R$1+S31/S$1+T31/T$1+U31/U$1+V31/V$1)*60 -> 2.772 | X31: =X30+W31 -> 46.741571 | Z31: =I31/W31*60 -> 50 | AA31: =F31/X31*60 -> 57.777261 | AB31: =AA31*0.85 -> 49.110672 | AC31: =AA31*0.95 -> 54.888398 | AD31: =$F31/AB31*60 -> 54.990084 | AE31: =$F31/AC31*60 -> 49.201654
A32: GF-N | B32: SA10 | C32: A10 | D32: A11 | E32: 0.94 | F32: =F31+E32 -> 45.95 | G32: Granby-Knappen Jct | H32: Granby-Burrell Jct | I32: =E32 -> 0.94 | J32: =I32-SUM(K32:V32) -> 0 | P32: 0.94 | W32: =(J32/J$1+K32/K$1+L32/L$1+M32/M$1+N32/N$1+O32/O$1+P32/P$1+Q32/Q$1+R32/R$1+S32/S$1+T32/T$1+U32/U$1+V32/V$1)*60 -> 1.41 | X32: =X31+W32 -> 48.151571 | Z32: =I32/W32*60 -> 40 | AA32: =F32/X32*60 -> 57.256698 | AB32: =AA32*0.85 -> 48.668193 | AC32: =AA32*0.95 -> 54.393863 | AD32: =$F32/AB32*60 -> 56.648907 | AE32: =$F32/AC32*60 -> 50.685864
A34: N-Granby | B34: SW01 | C34: A11 | D34: W01 | E34: 2.4000001 | F34: =F32+E34 -> 48.35 | G34: Granby-Burrell Jct | H34: Granby-Burns Cr Jct | I34: =E34 -> 2.4000001 | J34: =I34-SUM(K34:V34) -> 9.5367432e-08 | P34: =2.4-0.6 -> 1.8 | Q34: 0.6 | W34: =(J34/J$1+K34/K$1+L34/L$1+M34/M$1+N34/N$1+O34/O$1+P34/P$1+Q34/Q$1+R34/R$1+S34/S$1+T34/T$1+U34/U$1+V34/V$1)*60 -> 3.9000001 | X34: =X32+W34 -> 52.051571 | Z34: =I34/W34*60 -> 36.923078 | AA34: =F34/X34*60 -> 55.733188 | AB34: =AA34*0.85 -> 47.373209 | AC34: =AA34*0.95 -> 52.946528 | AD34: =$F34/AB34*60 -> 61.237143 | AE34: =$F34/AC34*60 -> 54.791128
A35: N-Granby | B35: SW02 | C35: W01 | D35: W02 | E35: 1.64 | F35: =F34+E35 -> 49.99 | G35: Granby-Burns Cr Jct | H35: Granby-Gable Cr Jct | I35: =E35 -> 1.64 | J35: =I35-SUM(K35:V35) -> 0 | O35: 0.82 | P35: 0.82 | W35: =(J35/J$1+K35/K$1+L35/L$1+M35/M$1+N35/N$1+O35/O$1+P35/P$1+Q35/Q$1+R35/R$1+S35/S$1+T35/T$1+U35/U$1+V35/V$1)*60 -> 2.214 | X35: =X34+W35 -> 54.265571 | Z35: =I35/W35*60 -> 44.444444 | AA35: =F35/X35*60 -> 55.272614 | AB35: =AA35*0.85 -> 46.981722 | AC35: =AA35*0.95 -> 52.508983 | AD35: =$F35/AB35*60 -> 63.841849 | AE35: =$F35/AC35*60 -> 57.121654
A36: N-Granby | B36: SY01 | C36: W02 | D36: Y01 | E36: 5.01 | F36: =F35+E36 -> 55 | G36: Granby-Gable Cr Jct | H36: Gable 8 Mile Cr Jct | I36: =E36 -> 5.01 | J36: =I36-SUM(K36:V36) -> 0 | Q36: 2.51 | R36: 2.5 | W36: =(J36/J$1+K36/K$1+L36/L$1+M36/M$1+N36/N$1+O36/O$1+P36/P$1+Q36/Q$1+R36/R$1+S36/S$1+T36/T$1+U36/U$1+V36/V$1)*60 -> 11.02 | X36: =X35+W36 -> 65.285571 | Z36: =I36/W36*60 -> 27.277677 | AA36: =F36/X36*60 -> 50.547156 | AB36: =AA36*0.85 -> 42.965083 | AC36: =AA36*0.95 -> 48.019799 | AD36: =$F36/AB36*60 -> 76.806554 | AE36: =$F36/AC36*60 -> 68.721654
A37: N-Granby | B37: SY02 | C37: Y01 | D37: Y02 | E37: 5.8 | F37: =F36+E37 -> 60.8 | G37: Gable 8 Mile Cr Jct | H37: Gable Cr-Uno Cr Jct | I37: =E37 -> 5.8 | J37: =I37-SUM(K37:V37) -> 0 | P37: 1.55 | Q37: =2.85+1.4 -> 4.25 | W37: =(J37/J$1+K37/K$1+L37/L$1+M37/M$1+N37/N$1+O37/O$1+P37/P$1+Q37/Q$1+R37/R$1+S37/S$1+T37/T$1+U37/U$1+V37/V$1)*60 -> 10.825 | X37: =X36+W37 -> 76.110571 | Z37: =I37/W37*60 -> 32.147806 | AA37: =F37/X37*60 -> 47.930267 | AB37: =AA37*0.85 -> 40.740727 | AC37: =AA37*0.95 -> 45.533753 | AD37: =$F37/AB37*60 -> 89.541849 | AE37: =$F37/AC37*60 -> 80.116391
A38: N-Granby | B38: SW03 | C38: W02 | D38: W03 | E38: 5.42 | F38: =F35+E38 -> 55.41 | G38: Granby-Gable Cr Jct | H38: Granby-Burns Lk Jct | I38: =E38 -> 5.42 | J38: =I38-SUM(K38:V38) -> 0 | O38: 5.42 | W38: =(J38/J$1+K38/K$1+L38/L$1+M38/M$1+N38/N$1+O38/O$1+P38/P$1+Q38/Q$1+R38/R$1+S38/S$1+T38/T$1+U38/U$1+V38/V$1)*60 -> 6.504 | X38: =X35+W38 -> 60.769571 | Z38: =I38/W38*60 -> 50 | AA38: =F38/X38*60 -> 54.708301 | AB38: =AA38*0.85 -> 46.502056 | AC38: =AA38*0.95 -> 51.972886 | AD38: =$F38/AB38*60 -> 71.493613 | AE38: =$F38/AC38*60 -> 63.96797
A39: N-Granby | B39: SW04 | C39: W03 | D39: W04 | E39: 4.11 | F39: =F38+E39 -> 59.52 | G39: Granby-Burns Lk Jct | H39: Granby-Traverse Cr Jct | I39: =E39 -> 4.11 | J39: =I39-SUM(K39:V39) -> 0 | N39: 4.11 | W39: =(J39/J$1+K39/K$1+L39/L$1+M39/M$1+N39/N$1+O39/O$1+P39/P$1+Q39/Q$1+R39/R$1+S39/S$1+T39/T$1+U39/U$1+V39/V$1)*60 -> 4.11 | X39: =X38+W39 -> 64.879571 | Z39: =I39/W39*60 -> 60 | AA39: =F39/X39*60 -> 55.04352 | AB39: =AA39*0.85 -> 46.786992 | AC39: =AA39*0.95 -> 52.291344 | AD39: =$F39/AB39*60 -> 76.328907 | AE39: =$F39/AC39*60 -> 68.294286
A40: N-Granby | B40: SW05 | C40: W04 | D40: W05 | E40: 0.47 | F40: =F39+E40 -> 59.99 | G40: Granby-Traverse Cr Jct | H40: Traverse-Boulder Cr Jct | I40: =E40 -> 0.47 | J40: =I40-SUM(K40:V40) -> -1.1920929e-09 | P40: 0.47 | W40: =(J40/J$1+K40/K$1+L40/L$1+M40/M$1+N40/N$1+O40/O$1+P40/P$1+Q40/Q$1+R40/R$1+S40/S$1+T40/T$1+U40/U$1+V40/V$1)*60 -> 0.705 | X40: =X39+W40 -> 65.584571 | Z40: =I40/W40*60 -> 40 | AA40: =F40/X40*60 -> 54.88181 | AB40: =AA40*0.85 -> 46.649539 | AC40: =AA40*0.95 -> 52.13772 | AD40: =$F40/AB40*60 -> 77.158319 | AE40: =$F40/AC40*60 -> 69.036391
A41: N-Granby | B41: SX01 | C41: W05 | D41: X01 | E41: 6.5 | F41: =F40+E41 -> 66.49 | G41: Traverse-Boulder Cr Jct | H41: Boulder-8 Mile Link Jct | I41: =E41 -> 6.5 | J41: =I41-SUM(K41:V41) -> 0 | P41: 3.25 | Q41: 3.25 | W41: =(J41/J$1+K41/K$1+L41/L$1+M41/M$1+N41/N$1+O41/O$1+P41/P$1+Q41/Q$1+R41/R$1+S41/S$1+T41/T$1+U41/U$1+V41/V$1)*60 -> 11.375 | X41: =X40+W41 -> 76.959571 | Z41: =I41/W41*60 -> 34.285714 | AA41: =F41/X41*60 -> 51.837607 | AB41: =AA41*0.85 -> 44.061966 | AC41: =AA41*0.95 -> 49.245726 | AD41: =$F41/AB41*60 -> 90.540672 | AE41: =$F41/AC41*60 -> 81.010075
A42: N-Granby | B42: SW06 | C42: W05 | D42: W06 | E42: 8.58 | F42: =F40+E42 -> 68.57 | G42: Traverse-Boulder Cr Jct | H42: Traverse-Traverse 200 Jct | I42: =E42 -> 8.58 | J42: =I42-SUM(K42:V42) -> 0 | O42: 4.29 | P42: 4.29 | W42: =(J42/J$1+K42/K$1+L42/L$1+M42/M$1+N42/N$1+O42/O$1+P42/P$1+Q42/Q$1+R42/R$1+S42/S$1+T42/T$1+U42/U$1+V42/V$1)*60 -> 11.583 | X42: =X40+W42 -> 77.167571 | Z42: =I42/W42*60 -> 44.444444 | AA42: =F42/X42*60 -> 53.315142 | AB42: =AA42*0.85 -> 45.31787 | AC42: =AA42*0.95 -> 50.649384 | AD42: =$F42/AB42*60 -> 90.785378 | AE42: =$F42/AC42*60 -> 81.229022
A44: Burrell | B44: SN01 | C44: A11 | D44: N01 | E44: 10.23 | F44: =F32+E44 -> 56.18 | G44: Granby-Burrell Jct | H44: Burrell-Deadeye Jct | I44: =E44 -> 10.23 | J44: 0 | P44: 10.23 | W44: =(J44/J$1+K44/K$1+L44/L$1+M44/M$1+N44/N$1+O44/O$1+P44/P$1+Q44/Q$1+R44/R$1+S44/S$1+T44/T$1+U44/U$1+V44/V$1)*60 -> 15.345 | X44: =X32+W44 -> 63.496571 | Z44: =I44/W44*60 -> 40 | AA44: =F44/X44*60 -> 53.086331 | AB44: =AA44*0.85 -> 45.123381 | AC44: =AA44*0.95 -> 50.432014 | AD44: =$F44/AB44*60 -> 74.701848 | AE44: =$F44/AC44*60 -> 66.838496
A45: Burrell | B45: SV01 | C45: N01 | D45: V01 | E45: 4.06 | F45: =F44+E45 -> 60.24 | G45: Burrell-Deadeye Jct | H45: Deadeye-Deadeye 400 Jct | I45: =E45 -> 4.06 | J45: =I45-SUM(K45:V45) -> 0 | O45: 0.91 | P45: 1 | Q45: 2.15 | W45: =(J45/J$1+K45/K$1+L45/L$1+M45/M$1+N45/N$1+O45/O$1+P45/P$1+Q45/Q$1+R45/R$1+S45/S$1+T45/T$1+U45/U$1+V45/V$1)*60 -> 6.892 | X45: =X44+W45 -> 70.388571 | Z45: =I45/W45*60 -> 35.345328 | AA45: =F45/X45*60 -> 51.349245 | AB45: =AA45*0.85 -> 43.646858 | AC45: =AA45*0.95 -> 48.781783 | AD45: =$F45/AB45*60 -> 82.810084 | AE45: =$F45/AC45*60 -> 74.093233
A46: Burrell | B46: SV02 | C46: V01 | D46: V02 | E46: 5.35 | F46: =F45+E46 -> 65.59 | G46: Deadeye-Deadeye 400 Jct | H46: Deadeye-Park Main Jct | I46: =E46 -> 5.35 | J46: =I46-SUM(K46:V46) -> 0 | P46: 1.13 | Q46: =1.3+1.6 -> 2.9 | R46: 1.32 | W46: =(J46/J$1+K46/K$1+L46/L$1+M46/M$1+N46/N$1+O46/O$1+P46/P$1+Q46/Q$1+R46/R$1+S46/S$1+T46/T$1+U46/U$1+V46/V$1)*60 -> 10.663 | X46: =X45+W46 -> 81.051571 | Z46: =I46/W46*60 -> 30.104098 | AA46: =F46/X46*60 -> 48.554271 | AB46: =AA46*0.85 -> 41.271131 | AC46: =AA46*0.95 -> 46.126558 | AD46: =$F46/AB46*60 -> 95.35479 | AE46: =$F46/AC46*60 -> 85.317443
A47: Burrell | B47: SV03 | C47: V02 | D47: V03 | E47: 7 | F47: =F46+E47 -> 72.59 | G47: Deadeye-Park Main Jct | H47: Deadeye-Deadeye 2000 Jct | I47: =E47 -> 7 | J47: =I47-SUM(K47:V47) -> 0 | P47: 5.63 | Q47: =0.1+0.2+0.5-0.03 -> 0.77 | R47: =0.4+0.2 -> 0.6 | W47: =(J47/J$1+K47/K$1+L47/L$1+M47/M$1+N47/N$1+O47/O$1+P47/P$1+Q47/Q$1+R47/R$1+S47/S$1+T47/T$1+U47/U$1+V47/V$1)*60 -> 11.425 | X47: =X46+W47 -> 92.476571 | Z47: =I47/W47*60 -> 36.761488 | AA47: =F47/X47*60 -> 47.097334 | AB47: =AA47*0.85 -> 40.032734 | AC47: =AA47*0.95 -> 44.742467 | AD47: =$F47/AB47*60 -> 108.79597 | AE47: =$F47/AC47*60 -> 97.343759
A48: Burrell | B48: SN02 | C48: N01 | D48: N02 | E48: 9.9 | F48: =F44+E48 -> 66.08 | G48: Burrell-Deadeye Jct | H48: Burrell-Nicoll Cr Jct | I48: =E48 -> 9.9 | J48: =I48-SUM(K48:V48) -> 0 | P48: 9.9 | W48: =(J48/J$1+K48/K$1+L48/L$1+M48/M$1+N48/N$1+O48/O$1+P48/P$1+Q48/Q$1+R48/R$1+S48/S$1+T48/T$1+U48/U$1+V48/V$1)*60 -> 14.85 | X48: =X44+W48 -> 78.346571 | Z48: =I48/W48*60 -> 40 | AA48: =F48/X48*60 -> 50.605916 | AB48: =AA48*0.85 -> 43.015028 | AC48: =AA48*0.95 -> 48.07562 | AD48: =$F48/AB48*60 -> 92.172437 | AE48: =$F48/AC48*60 -> 82.470075
A49: Burrell | B49: SN03 | C49: N02 | D49: N03 | E49: 2.51 | F49: =F48+E49 -> 68.59 | G49: Burrell-Nicoll Cr Jct | H49: Burrell-Dinsmore By Pass | I49: =E49 -> 2.51 | J49: =I49-SUM(K49:V49) -> 0 | P49: 2.51 | W49: =(J49/J$1+K49/K$1+L49/L$1+M49/M$1+N49/N$1+O49/O$1+P49/P$1+Q49/Q$1+R49/R$1+S49/S$1+T49/T$1+U49/U$1+V49/V$1)*60 -> 3.765 | X49: =X48+W49 -> 82.111571 | Z49: =I49/W49*60 -> 40 | AA49: =F49/X49*60 -> 50.119611 | AB49: =AA49*0.85 -> 42.601669 | AC49: =AA49*0.95 -> 47.61363 | AD49: =$F49/AB49*60 -> 96.601848 | AE49: =$F49/AC49*60 -> 86.433233
A50: Burrell | B50: SN04 | C50: N03 | D50: N04 | E50: 2.21 | F50: =F49+E50 -> 70.8 | G50: Burrell-Dinsmore By Pass | H50: Burrell 25K | I50: =E50 -> 2.21 | J50: =I50-SUM(K50:V50) -> 0 | P50: 2.21 | W50: =(J50/J$1+K50/K$1+L50/L$1+M50/M$1+N50/N$1+O50/O$1+P50/P$1+Q50/Q$1+R50/R$1+S50/S$1+T50/T$1+U50/U$1+V50/V$1)*60 -> 3.315 | X50: =X49+W50 -> 85.426571 | Z50: =I50/W50*60 -> 40 | AA50: =F50/X50*60 -> 49.726917 | AB50: =AA50*0.85 -> 42.267879 | AC50: =AA50*0.95 -> 47.240571 | AD50: =$F50/AB50*60 -> 100.50185 | AE50: =$F50/AC50*60 -> 89.922707
A51: Burrell | B51: SN05 | C51: N04 | D51: N05 | E51: 1.51 | F51: =F50+E51 -> 72.31 | G51: Burrell 25K | H51: Burrell - T-Bone Jct | I51: =E51 -> 1.51 | J51: =I51-SUM(K51:V51) -> 0 | P51: 1.51 | W51: =(J51/J$1+K51/K$1+L51/L$1+M51/M$1+N51/N$1+O51/O$1+P51/P$1+Q51/Q$1+R51/R$1+S51/S$1+T51/T$1+U51/U$1+V51/V$1)*60 -> 2.265 | X51: =X50+W51 -> 87.691571 | Z51: =I51/W51*60 -> 40 | AA51: =F51/X51*60 -> 49.475678 | AB51: =AA51*0.85 -> 42.054327 | AC51: =AA51*0.95 -> 47.001895 | AD51: =$F51/AB51*60 -> 103.16655 | AE51: =$F51/AC51*60 -> 92.306917
A52: Burrell | B52: SN06 | C52: N05 | D52: N06 | E52: 1.98 | F52: =F51+E52 -> 74.29 | G52: Burrell - T-Bone Jct | H52: Burrell - Tenderloin | I52: =E52 -> 1.98 | J52: =I52-SUM(K52:V52) -> 0 | P52: 1.98 | W52: =(J52/J$1+K52/K$1+L52/L$1+M52/M$1+N52/N$1+O52/O$1+P52/P$1+Q52/Q$1+R52/R$1+S52/S$1+T52/T$1+U52/U$1+V52/V$1)*60 -> 2.97 | X52: =X51+W52 -> 90.661571 | Z52: =I52/W52*60 -> 40 | AA52: =F52/X52*60 -> 49.165263 | AB52: =AA52*0.85 -> 41.790473 | AC52: =AA52*0.95 -> 46.707 | AD52: =$F52/AB52*60 -> 106.66067 | AE52: =$F52/AC52*60 -> 95.433233
A53: Burrell | B53: SN07 | C53: N06 | D53: N07 | E53: 5.07 | F53: =F52+E53 -> 79.36 | G53: Burrell - Tenderloin | H53: Burrell-McFarlane Cr S Jct | I53: =E53 -> 5.07 | J53: =I53-SUM(K53:V53) -> 0 | P53: 5.07 | W53: =(J53/J$1+K53/K$1+L53/L$1+M53/M$1+N53/N$1+O53/O$1+P53/P$1+Q53/Q$1+R53/R$1+S53/S$1+T53/T$1+U53/U$1+V53/V$1)*60 -> 7.605 | X53: =X52+W53 -> 98.266571 | Z53: =I53/W53*60 -> 40 | AA53: =F53/X53*60 -> 48.455949 | AB53: =AA53*0.85 -> 41.187557 | AC53: =AA53*0.95 -> 46.033152 | AD53: =$F53/AB53*60 -> 115.60773 | AE53: =$F53/AC53*60 -> 103.4385
A54: Burrell | B54: SN08 | C54: N07 | D54: N08 | E54: 1.76 | F54: =F53+E54 -> 81.12 | G54: Burrell-McFarlane Cr S Jct | H54: Burrell-Jump Cr Jct | I54: =E54 -> 1.76 | J54: =I54-SUM(K54:V54) -> -9.5367432e-09 | P54: 1.76 | W54: =(J54/J$1+K54/K$1+L54/L$1+M54/M$1+N54/N$1+O54/O$1+P54/P$1+Q54/Q$1+R54/R$1+S54/S$1+T54/T$1+U54/U$1+V54/V$1)*60 -> 2.64 | X54: =X53+W54 -> 100.90657 | Z54: =I54/W54*60 -> 40 | AA54: =F54/X54*60 -> 48.234718 | AB54: =AA54*0.85 -> 40.99951 | AC54: =AA54*0.95 -> 45.822982 | AD54: =$F54/AB54*60 -> 118.71361 | AE54: =$F54/AC54*60 -> 106.21744
A55: Burrell | B55: SN09 | C55: N08 | D55: N09 | E55: 6.28 | F55: =F54+E55 -> 87.4 | G55: Burrell-Jump Cr Jct | H55: Burrell-Young FSR Jct | I55: =E55 -> 6.28 | J55: =I55-SUM(K55:V55) -> 0 | P55: 6.28 | W55: =(J55/J$1+K55/K$1+L55/L$1+M55/M$1+N55/N$1+O55/O$1+P55/P$1+Q55/Q$1+R55/R$1+S55/S$1+T55/T$1+U55/U$1+V55/V$1)*60 -> 9.42 | X55: =X54+W55 -> 110.32657 | Z55: =I55/W55*60 -> 40 | AA55: =F55/X55*60 -> 47.531614 | AB55: =AA55*0.85 -> 40.401872 | AC55: =AA55*0.95 -> 45.155033 | AD55: =$F55/AB55*60 -> 129.79597 | AE55: =$F55/AC55*60 -> 116.13323
A56: Burrell | B56: SU01 | C56: N09 | D56: U01 | E56: 6.46 | F56: =F55+E56 -> 93.86 | G56: Burrell-Young FSR Jct | H56: POC Edgewood 700 | I56: =E56 -> 6.46 | J56: =I56-SUM(K56:V56) -> 0 | Q56: 6.46 | W56: =(J56/J$1+K56/K$1+L56/L$1+M56/M$1+N56/N$1+O56/O$1+P56/P$1+Q56/Q$1+R56/R$1+S56/S$1+T56/T$1+U56/U$1+V56/V$1)*60 -> 12.92 | X56: =X55+W56 -> 123.24657 | Z56: =I56/W56*60 -> 30 | AA56: =F56/X56*60 -> 45.693766 | AB56: =AA56*0.85 -> 38.839701 | AC56: =AA56*0.95 -> 43.409078 | AD56: =$F56/AB56*60 -> 144.99597 | AE56: =$F56/AC56*60 -> 129.73323
A57: Burrell | B57: SN10 | C57: N09 | D57: N10 | E57: 3.96 | F57: =F55+E57 -> 91.36 | G57: Burrell-Young FSR Jct | H57: Burrell-McFarlane Cr N Jct | I57: =E57 -> 3.96 | J57: =I57-SUM(K57:V57) -> 0 | O57: 1 | P57: 1.48 | Q57: 1.48 | W57: =(J57/J$1+K57/K$1+L57/L$1+M57/M$1+N57/N$1+O57/O$1+P57/P$1+Q57/Q$1+R57/R$1+S57/S$1+T57/T$1+U57/U$1+V57/V$1)*60 -> 6.38 | X57: =X55+W57 -> 116.70657 | Z57: =I57/W57*60 -> 37.241379 | AA57: =F57/X57*60 -> 46.969077 | AB57: =AA57*0.85 -> 39.923716 | AC57: =AA57*0.95 -> 44.620624 | AD57: =$F57/AB57*60 -> 137.30185 | AE57: =$F57/AC57*60 -> 122.84902
A58: Burrell | C58: N10 | E58: 4.6 | F58: =F57+E58 -> 95.96 | G58: Burrell-McFarlane Cr N Jct | H58: Young Lake Jct | I58: =E58 -> 4.6 | J58: =I58-SUM(K58:V58) -> 0 | P58: 1 | Q58: 2 | R58: 1 | S58: 0.6 | W58: =(J58/J$1+K58/K$1+L58/L$1+M58/M$1+N58/N$1+O58/O$1+P58/P$1+Q58/Q$1+R58/R$1+S58/S$1+T58/T$1+U58/U$1+V58/V$1)*60 -> 9.5 | X58: =X57+W58 -> 126.20657 | Z58: =I58/W58*60 -> 29.052632 | AA58: =F58/X58*60 -> 45.620445 | AB58: =AA58*0.85 -> 38.777379 | AC58: =AA58*0.95 -> 43.339423 | AD58: =$F58/AB58*60 -> 148.47832 | AE58: =$F58/AC58*60 -> 132.84902
A59: Burrell | E59: 3.5 | F59: =F58+E59 -> 99.46 | G59: Young Lake Jct | H59: Young Lake 3500 Jct | I59: =E59 -> 3.5 | J59: =I59-SUM(K59:V59) -> 0 | T59: 1 | U59: 2.5 | W59: =(J59/J$1+K59/K$1+L59/L$1+M59/M$1+N59/N$1+O59/O$1+P59/P$1+Q59/Q$1+R59/R$1+S59/S$1+T59/T$1+U59/U$1+V59/V$1)*60 -> 11.571429 | X59: =X58+W59 -> 137.778 | Z59: =I59/W59*60 -> 18.148148 | AA59: =F59/X59*60 -> 43.313156 | AB59: =AA59*0.85 -> 36.816182 | AC59: =AA59*0.95 -> 41.147498 | AD59: =$F59/AB59*60 -> 162.09176 | AE59: =$F59/AC59*60 -> 145.02947
A60: Burrell | E60: 1.46 | F60: =F58+E60 -> 97.42 | G60: Young Lake Jct | H60: Thomas Jct | I60: =E60 -> 1.46 | J60: =I60-SUM(K60:V60) -> 0 | S60: 1.46 | W60: =(J60/J$1+K60/K$1+L60/L$1+M60/M$1+N60/N$1+O60/O$1+P60/P$1+Q60/Q$1+R60/R$1+S60/S$1+T60/T$1+U60/U$1+V60/V$1)*60 -> 3.8933333 | X60: =X58+W60 -> 130.0999 | Z60: =I60/W60*60 -> 22.5 | AA60: =F60/X60*60 -> 44.928549 | AB60: =AA60*0.85 -> 38.189267 | AC60: =AA60*0.95 -> 42.682122 | AD60: =$F60/AB60*60 -> 153.05871 | AE60: =$F60/AC60*60 -> 136.94727
A61: Burrell | E61: 1.22 | F61: =F60+E61 -> 98.64 | G61: Thomas Jct | H61: Thomas 1000 Jct | I61: =E61 -> 1.22 | J61: =I61-SUM(K61:V61) -> 0 | S61: 1.22 | W61: =(J61/J$1+K61/K$1+L61/L$1+M61/M$1+N61/N$1+O61/O$1+P61/P$1+Q61/Q$1+R61/R$1+S61/S$1+T61/T$1+U61/U$1+V61/V$1)*60 -> 3.2533333 | X61: =X60+W61 -> 133.35324 | Z61: =I61/W61*60 -> 22.5 | AA61: =F61/X61*60 -> 44.381374 | AB61: =AA61*0.85 -> 37.724168 | AC61: =AA61*0.95 -> 42.162306 | AD61: =$F61/AB61*60 -> 156.88616 | AE61: =$F61/AC61*60 -> 140.37183
A64: GF-W | B64: SA01 | C64: A01 | D64: A02 | E64: 0.83 | F64: =F63+E64 -> 0.83 | G64: Grand Forks Mill | H64: 68th Ave and Hwy 3 | I64: =E64 -> 0.83 | J64: =I64-SUM(K64:V64) -> 0 | O64: 0.55 | T64: 0.28 | W64: =(J64/J$1+K64/K$1+L64/L$1+M64/M$1+N64/N$1+O64/O$1+P64/P$1+Q64/Q$1+R64/R$1+S64/S$1+T64/T$1+U64/U$1+V64/V$1)*60 -> 1.5 | X64: =W64+0.4 -> 1.9 | Z64: =I64/W64*60 -> 33.2 | AA64: =F64/X64*60 -> 26.210526 | AB64: =AA64*0.85 -> 22.278947 | AC64: =AA64*0.95 -> 24.9 | AD64: =$F64/AB64*60 -> 2.2352941 | AE64: =$F64/AC64*60 -> 2
A65: GF-W | B65: SA02.1 | C65: A02 | D65: A02.1 | E65: 0.75 | F65: =F64+E65 -> 1.58 | G65: 68th Ave and Hwy 3 | H65: Hwy 3-Granby Rd Jct | I65: =E65 -> 0.75 | J65: =I65-SUM(K65:V65) -> 0 | O65: 0.75 | W65: =(J65/J$1+K65/K$1+L65/L$1+M65/M$1+N65/N$1+O65/O$1+P65/P$1+Q65/Q$1+R65/R$1+S65/S$1+T65/T$1+U65/U$1+V65/V$1)*60 -> 0.9 | X65: =X64+W65+0.5 -> 3.3 | Z65: =I65/W65*60 -> 50 | AA65: =F65/X65*60 -> 28.727273 | AB65: =AA65*0.85 -> 24.418182 | AC65: =AA65*0.95 -> 27.290909 | AD65: =$F65/AB65*60 -> 3.8823529 | AE65: =$F65/AC65*60 -> 3.4736842
A66: GF-W | B66: SF01 | C66: A02.1 | D66: F01 | E66: 9.46 | F66: =F65+E66 -> 11.04 | G66: Hwy 3-Granby Rd Jct | H66: Hwy 3 - City of Paris Jct | I66: =E66 -> 9.46 | J66: =I66-SUM(K66:V66) -> 2.01 | M66: 4.05 | O66: 3.4 | W66: =(J66/J$1+K66/K$1+L66/L$1+M66/M$1+N66/N$1+O66/O$1+P66/P$1+Q66/Q$1+R66/R$1+S66/S$1+T66/T$1+U66/U$1+V66/V$1)*60 -> 8.7574286 | X66: =X65+W66+2 -> 14.057429 | Z66: =I66/W66*60 -> 64.813546 | AA66: =F66/X66*60 -> 47.120993 | AB66: =AA66*0.85 -> 40.052844 | AC66: =AA66*0.95 -> 44.764944 | AD66: =$F66/AB66*60 -> 16.538151 | AE66: =$F66/AC66*60 -> 14.797293
A67: GF-W | B67: SF02 | C67: F01 | D67: F02 | E67: 5.3 | F67: =F66+E67 -> 16.34 | G67: Hwy 3 - City of Paris Jct | H67: Hwy 3 - Skeff Cr Jct | I67: =E67 -> 5.3 | J67: =I67-SUM(K67:V67) -> 5.3 | W67: =(J67/J$1+K67/K$1+L67/L$1+M67/M$1+N67/N$1+O67/O$1+P67/P$1+Q67/Q$1+R67/R$1+S67/S$1+T67/T$1+U67/U$1+V67/V$1)*60 -> 3.18 | X67: =X66+W67 -> 17.237429 | Z67: =I67/W67*60 -> 100 | AA67: =F67/X67*60 -> 56.876233 | AB67: =AA67*0.85 -> 48.344798 | AC67: =AA67*0.95 -> 54.032421 | AD67: =$F67/AB67*60 -> 20.279328 | AE67: =$F67/AC67*60 -> 18.144662
A68: GF-W | B68: SF03 | C68: F02 | D68: F03 | E68: 5.96 | F68: =F67+E68 -> 22.3 | G68: Hwy 3 - Skeff Cr Jct | H68: Hwy 3 - Phoenix-Ski Hill Jct | I68: =E68 -> 5.96 | J68: =I68-SUM(K68:V68) -> 5.76 | L68: =0.2 -> 0.2 | W68: =(J68/J$1+K68/K$1+L68/L$1+M68/M$1+N68/N$1+O68/O$1+P68/P$1+Q68/Q$1+R68/R$1+S68/S$1+T68/T$1+U68/U$1+V68/V$1)*60 -> 3.606 | X68: =X67+W68 -> 20.843429 | Z68: =I68/W68*60 -> 99.168053 | AA68: =F68/X68*60 -> 64.192894 | AB68: =AA68*0.85 -> 54.56396 | AC68: =AA68*0.95 -> 60.983249 | AD68: =$F68/AB68*60 -> 24.521681 | AE68: =$F68/AC68*60 -> 21.940451
A69: GF-W | B69: SF04 | C69: F03 | D69: F04 | E69: 2.01 | F69: =F68+E69 -> 24.31 | G69: Hwy 3 - Phoenix-Ski Hill Jct | H69: Hwy 3 - Fisherman Jct | I69: =E69 -> 2.01 | J69: =I69-SUM(K69:V69) -> 2.01 | W69: =(J69/J$1+K69/K$1+L69/L$1+M69/M$1+N69/N$1+O69/O$1+P69/P$1+Q69/Q$1+R69/R$1+S69/S$1+T69/T$1+U69/U$1+V69/V$1)*60 -> 1.206 | X69: =X68+W69 -> 22.049429 | Z69: =I69/W69*60 -> 100 | AA69: =F69/X69*60 -> 66.151374 | AB69: =AA69*0.85 -> 56.228668 | AC69: =AA69*0.95 -> 62.843805 | AD69: =$F69/AB69*60 -> 25.940504 | AE69: =$F69/AC69*60 -> 23.209925
A70: GF-W | B70: SF05 | C70: F04 | D70: F05 | E70: 5.34 | F70: =F69+E70 -> 29.65 | G70: Hwy 3 - Fisherman Jct | H70: Hwy 3 - Eholt Jct | I70: =E70 -> 5.34 | J70: =I70-SUM(K70:V70) -> 1.74 | L70: 0.9 | M70: 2 | N70: 0.7 | W70: =(J70/J$1+K70/K$1+L70/L$1+M70/M$1+N70/N$1+O70/O$1+P70/P$1+Q70/Q$1+R70/R$1+S70/S$1+T70/T$1+U70/U$1+V70/V$1)*60 -> 4.1332857 | X70: =X69+W70 -> 26.182714 | Z70: =I70/W70*60 -> 77.517022 | AA70: =F70/X70*60 -> 67.945591 | AB70: =AA70*0.85 -> 57.753752 | AC70: =AA70*0.95 -> 64.548312 | AD70: =$F70/AB70*60 -> 30.803193 | AE70: =$F70/AC70*60 -> 27.560752

Sheet Grand Forks Short
A1: ='Grand Forks'!H1 -> End | B1: ='Grand Forks'!F1 -> Cumul - ative from Mill | C1: ='Grand Forks'!AB1 -> Loaded Speed (85%) | D1: ='Grand Forks'!AC1 -> Empty Speed (95%) | E1: ='Grand Forks'!AD1 -> Loaded Time (min's) | F1: ='Grand Forks'!AE1 -> Empty Time (min's)
A2: ='Grand Forks'!H2 -> 68th Ave and Hwy 3 | B2: ='Grand Forks'!F2 -> 0.83 | C2: ='Grand Forks'!AB2 -> 28.22 | D2: ='Grand Forks'!AC2 -> 31.54 | E2: ='Grand Forks'!AD2 -> 1.7647059 | F2: ='Grand Forks'!AE2 -> 1.5789474
A3: ='Grand Forks'!H3 -> Hwy 3 - Gilpin FSR | B3: ='Grand Forks'!F3 -> 7.63 | C3: ='Grand Forks'!AB3 -> 59.454545 | D3: ='Grand Forks'!AC3 -> 66.449198 | E3: ='Grand Forks'!AD3 -> 7.7 | F3: ='Grand Forks'!AE3 -> 6.8894737
A4: ='Grand Forks'!H4 -> Gilpin-Dan O'Rea Jct | B4: ='Grand Forks'!F4 -> 14.6 | C4: ='Grand Forks'!AB4 -> 28.887284 | D4: ='Grand Forks'!AC4 -> 32.285788 | E4: ='Grand Forks'!AD4 -> 30.324762 | F4: ='Grand Forks'!AE4 -> 27.132682
A5: ='Grand Forks'!H5 -> Hwy 3 - Stewart Cr FSR | B5: ='Grand Forks'!F5 -> 17.09 | C5: ='Grand Forks'!AB5 -> 70.797661 | D5: ='Grand Forks'!AC5 -> 79.126797 | E5: ='Grand Forks'!AD5 -> 14.483529 | F5: ='Grand Forks'!AE5 -> 12.958947
A6: ='Grand Forks'!H6 -> Stewart-Moody Cr Jct | B6: ='Grand Forks'!F6 -> 22.64 | C6: ='Grand Forks'!AB6 -> 55.952704 | D6: ='Grand Forks'!AC6 -> 62.535375 | E6: ='Grand Forks'!AD6 -> 24.277647 | F6: ='Grand Forks'!AE6 -> 21.722105
A7: ='Grand Forks'!H7 -> Stewart-Stewart 1400 Jct | B7: ='Grand Forks'!F7 -> 31.11 | C7: ='Grand Forks'!AB7 -> 44.742393 | D7: ='Grand Forks'!AC7 -> 50.006204 | E7: ='Grand Forks'!AD7 -> 41.718824 | F7: ='Grand Forks'!AE7 -> 37.327368
A8: ='Grand Forks'!H8 -> Hwy 3 - Santa Rosa Jct | B8: ='Grand Forks'!F8 -> 20.75 | C8: ='Grand Forks'!AB8 -> 69.903229 | D8: ='Grand Forks'!AC8 -> 78.127138 | E8: ='Grand Forks'!AD8 -> 17.810336 | F8: ='Grand Forks'!AE8 -> 15.935564
A9: ='Grand Forks'!H9 -> Santa Rosa - Trout Creek | B9: ='Grand Forks'!F9 -> 34.38 | C9: ='Grand Forks'!AB9 -> 44.965626 | D9: ='Grand Forks'!AC9 -> 50.2557 | E9: ='Grand Forks'!AD9 -> 45.875042 | F9: ='Grand Forks'!AE9 -> 41.04609
A10: ='Grand Forks'!H10 -> Hwy 3 - Fife Rd | B10: ='Grand Forks'!F10 -> 22.17 | C10: ='Grand Forks'!AB10 -> 68.703012 | D10: ='Grand Forks'!AC10 -> 76.785719 | E10: ='Grand Forks'!AD10 -> 19.361597 | F10: ='Grand Forks'!AE10 -> 17.323534
A11: ='Grand Forks'!H11 -> Hwy 3-Paulson Detour Jct | B11: ='Grand Forks'!F11 -> 47.69 | C11: ='Grand Forks'!AB11 -> 68.932508 | D11: ='Grand Forks'!AC11 -> 77.042215 | E11: ='Grand Forks'!AD11 -> 41.510168 | F11: ='Grand Forks'!AE11 -> 37.140677
A12: ='Grand Forks'!H12 -> Hwy 3-Bonanza Cr Jct | B12: ='Grand Forks'!F12 -> 51.94 | C12: ='Grand Forks'!AB12 -> 65.782289 | D12: ='Grand Forks'!AC12 -> 73.521382 | E12: ='Grand Forks'!AD12 -> 47.374454 | F12: ='Grand Forks'!AE12 -> 42.387669
... A61: ='Grand Forks'!H61 -> Thomas 1000 Jct | B61: ='Grand Forks'!F61 -> 98.64 | C61: ='Grand Forks'!AB61 -> 37.724168 | D61: ='Grand Forks'!AC61 -> 42.162306 | E61: ='Grand Forks'!AD61 -> 156.88616 | F61: ='Grand Forks'!AE61 -> 140.37183
A65: ='Grand Forks'!H64 -> 68th Ave and Hwy 3 | B65: ='Grand Forks'!F64 -> 0.83 | C65: ='Grand Forks'!AB64 -> 22.278947 | D65: ='Grand Forks'!AC64 -> 24.9 | E65: ='Grand Forks'!AD64 -> 2.2352941 | F65: ='Grand Forks'!AE64 -> 2
A66: ='Grand Forks'!H65 -> Hwy 3-Granby Rd Jct | B66: ='Grand Forks'!F65 -> 1.58 | C66: ='Grand Forks'!AB65 -> 24.418182 | D66: ='Grand Forks'!AC65 -> 27.290909 | E66: ='Grand Forks'!AD65 -> 3.8823529 | F66: ='Grand Forks'!AE65 -> 3.4736842
A67: ='Grand Forks'!H66 -> Hwy 3 - City of Paris Jct | B67: ='Grand Forks'!F66 -> 11.04 | C67: ='Grand Forks'!AB66 -> 40.052844 | D67: ='Grand Forks'!AC66 -> 44.764944 | E67: ='Grand Forks'!AD66 -> 16.538151 | F67: ='Grand Forks'!AE66 -> 14.797293
A68: ='Grand Forks'!H67 -> Hwy 3 - Skeff Cr Jct | B68: ='Grand Forks'!F67 -> 16.34 | C68: ='Grand Forks'!AB67 -> 48.344798 | D68: ='Grand Forks'!AC67 -> 54.032421 | E68: ='Grand Forks'!AD67 -> 20.279328 | F68: ='Grand Forks'!AE67 -> 18.144662
A69: ='Grand Forks'!H68 -> Hwy 3 - Phoenix-Ski Hill Jct | B69: ='Grand Forks'!F68 -> 22.3 | C69: ='Grand Forks'!AB68 -> 54.56396 | D69: ='Grand Forks'!AC68 -> 60.983249 | E69: ='Grand Forks'!AD68 -> 24.521681 | F69: ='Grand Forks'!AE68 -> 21.940451
A70: ='Grand Forks'!H69 -> Hwy 3 - Fisherman Jct | B70: ='Grand Forks'!F69 -> 24.31 | C70: ='Grand Forks'!AB69 -> 56.228668 | D70: ='Grand Forks'!AC69 -> 62.843805 | E70: ='Grand Forks'!AD69 -> 25.940504 | F70: ='Grand Forks'!AE69 -> 23.209925
A71: ='Grand Forks'!H70 -> Hwy 3 - Eholt Jct | B71: ='Grand Forks'!F70 -> 29.65 | C71: ='Grand Forks'!AB70 -> 57.753752 | D71: ='Grand Forks'!AC70 -> 64.548312 | E71: ='Grand Forks'!AD70 -> 30.803193 | F71: ='Grand Forks'!AE70 -> 27.560752

Sheet Midway
A1: Area | B1: Section | C1: Start | D1: End | E1: Segment Length | F1: Cumul -ative from Mill | G1: Start | H1: End | I1: Segm't Length | J1: 100 | K1: 90 | L1: 80 | M1: 70 | N1: 60 | O1: 50 | P1: 40 | Q1: 30 | R1: 25 | S1: 22.5 | T1: 20 | U1: 17.5 | V1: 15 | W1: Seg Time | X1: Cum Time | Y1: Time Study Speed | Z1: Ave. Seg Speed | AA1: Ave. Cum Speed | AB1: Loaded Speed (85%) | AC1: Empty Speed (95%) | AD1: Loaded Time (min's) | AE1: Empty Time (min's)
A2: MW-E | C2: G00 | D2: G01 | E2: 0.22 | F2: =E2 -> 0.22 | G2: Midway Mill | H2: Hwy 3 - Midway Mill Jct | I2: =E2 -> 0.22 | J2: =I2-SUM(K2:V2) -> 0 | T2: 0.22 | W2: =(J2/J$1+K2/K$1+L2/L$1+M2/M$1+N2/N$1+O2/O$1+P2/P$1+Q2/Q$1+R2/R$1+S2/S$1+T2/T$1+U2/U$1+V2/V$1)*60 -> 0.66 | X2: =W2+0.5 -> 1.16 | Z2: =I2/W2*60 -> 20 | AA2: =F2/X2*60 -> 11.37931 | AB2: =AA2*0.85 -> 9.6724138 | AC2: =AA2*0.95 -> 10.810345 | AD2: =$F2/AB2*60 -> 1.3647059 | AE2: =$F2/AC2*60 -> 1.2210526
A3: MW-E | B3: SG01 | C3: G01 | D3: G02 | E3: 4.21 | F3: =F2+E3 -> 4.43 | G3: Hwy 3 - Midway Mill Jct | H3: Hwy 3 - Midway Jct | I3: =E3 -> 4.21 | J3: =I3-SUM(K3:V3) -> 2.91 | M3: 1.3 | W3: =(J3/J$1+K3/K$1+L3/L$1+M3/M$1+N3/N$1+O3/O$1+P3/P$1+Q3/Q$1+R3/R$1+S3/S$1+T3/T$1+U3/U$1+V3/V$1)*60 -> 2.8602857 | X3: =W3+X2 -> 4.0202857 | Z3: =I3/W3*60 -> 88.312856 | AA3: =F3/X3*60 -> 66.114704 | AB3: =AA3*0.85 -> 56.197498 | AC3: =AA3*0.95 -> 62.808969 | AD3: =$F3/AB3*60 -> 4.7297479 | AE3: =$F3/AC3*60 -> 4.2318797
A4: MW-E | B4: SL01 | C4: G02 | D4: L01 | E4: 10.04 | F4: =F3+E4 -> 14.47 | G4: Hwy 3 - Midway Jct | H4: Myers Cr 9 K | I4: =E4 -> 10.04 | J4: =I4-SUM(K4:V4) -> 0 | M4: 2.62 | N4: 4.42 | O4: 3 | W4: =(J4/J$1+K4/K$1+L4/L$1+M4/M$1+N4/N$1+O4/O$1+P4/P$1+Q4/Q$1+R4/R$1+S4/S$1+T4/T$1+U4/U$1+V4/V$1)*60 -> 10.265714 | X4: =X3+W4 -> 14.286 | Z4: =I4/W4*60 -> 58.680768 | AA4: =F4/X4*60 -> 60.772785 | AB4: =AA4*0.85 -> 51.656867 | AC4: =AA4*0.95 -> 57.734145 | AD4: =$F4/AB4*60 -> 16.807059 | AE4: =$F4/AC4*60 -> 15.037895
A5: MW-E | B5: SG02 | C5: G02 | D5: G03 | E5: 3.26 | F5: =F3+E5 -> 7.69 | G5: Hwy 3 - Midway Jct | H5: Hwy 3 - Norwegian Cr Jct | I5: =E5 -> 3.26 | J5: =I5-SUM(K5:V5) -> 2.56 | M5: 0.7 | W5: =(J5/J$1+K5/K$1+L5/L$1+M5/M$1+N5/N$1+O5/O$1+P5/P$1+Q5/Q$1+R5/R$1+S5/S$1+T5/T$1+U5/U$1+V5/V$1)*60 -> 2.136 | X5: =X3+W5 -> 6.1562857 | Z5: =I5/W5*60 -> 91.573034 | AA5: =F5/X5*60 -> 74.947789 | AB5: =AA5*0.85 -> 63.70562 | AC5: =AA5*0.95 -> 71.200399 | AD5: =$F5/AB5*60 -> 7.2426891 | AE5: =$F5/AC5*60 -> 6.4803008
A6: MW-E | B6: SG03 | C6: G03 | D6: G04 | E6: 2.18 | F6: =F5+E6 -> 9.87 | G6: Hwy 3 - Norwegian Cr Jct | H6: Hwy 3 - Kerr Cr Jct | I6: =E6 -> 2.18 | J6: =I6-SUM(K6:V6) -> 1.78 | M6: =0.4 -> 0.4 | W6: =(J6/J$1+K6/K$1+L6/L$1+M6/M$1+N6/N$1+O6/O$1+P6/P$1+Q6/Q$1+R6/R$1+S6/S$1+T6/T$1+U6/U$1+V6/V$1)*60 -> 1.4108571 | X6: =X5+W6 -> 7.5671429 | Z6: =I6/W6*60 -> 92.709599 | AA6: =F6/X6*60 -> 78.259392 | AB6: =AA6*0.85 -> 66.520483 | AC6: =AA6*0.95 -> 74.346423 | AD6: =$F6/AB6*60 -> 8.902521 | AE6: =$F6/AC6*60 -> 7.9654135
A7: MW-E | B7: SG04 | C7: G04 | D7: G05 | E7: 3.46 | F7: =F6+E7 -> 13.33 | G7: Hwy 3 - Kerr Cr Jct | H7: Hwy 3 - McCarren Cr Jct | I7: =E7 -> 3.46 | J7: =I7-SUM(K7:V7) -> 2.56 | L7: 0.3 | M7: =0.6 -> 0.6 | W7: =(J7/J$1+K7/K$1+L7/L$1+M7/M$1+N7/N$1+O7/O$1+P7/P$1+Q7/Q$1+R7/R$1+S7/S$1+T7/T$1+U7/U$1+V7/V$1)*60 -> 2.2752857 | X7: =X6+W7 -> 9.8424286 | Z7: =I7/W7*60 -> 91.241288 | AA7: =F7/X7*60 -> 81.260432 | AB7: =AA7*0.85 -> 69.071367 | AC7: =AA7*0.95 -> 77.197411 | AD7: =$F7/AB7*60 -> 11.579328 | AE7: =$F7/AC7*60 -> 10.360451
A8: MW-E | B8: SG05 | C8: G05 | D8: G06 | E8: 3.22 | F8: =F7+E8 -> 16.55 | G8: Hwy 3 - McCarren Cr Jct | H8: Hwy 3 - Anaconda | I8: =E8 -> 3.22 | J8: =I8-SUM(K8:V8) -> 2.12 | M8: 0.6 | N8: 0.5 | W8: =(J8/J$1+K8/K$1+L8/L$1+M8/M$1+N8/N$1+O8/O$1+P8/P$1+Q8/Q$1+R8/R$1+S8/S$1+T8/T$1+U8/U$1+V8/V$1)*60 -> 2.2862857 | X8: =X7+W8 -> 12.128714 | Z8: =I8/W8*60 -> 84.503874 | AA8: =F8/X8*60 -> 81.871827 | AB8: =AA8*0.85 -> 69.591053 | AC8: =AA8*0.95 -> 77.778236 | AD8: =$F8/AB8*60 -> 14.269076 | AE8: =$F8/AC8*60 -> 12.767068
A9: MW-E | B9: SG06 | C9: G06 | D9: G07 | E9: 1.58 | F9: =F8+E9 -> 18.13 | G9: Hwy 3 - Anaconda | H9: Hwy 3 - Greenwood-Phoenix | I9: =E9 -> 1.58 | J9: =I9-SUM(K9:V9) -> 0 | O9: 1.58 | W9: =(J9/J$1+K9/K$1+L9/L$1+M9/M$1+N9/N$1+O9/O$1+P9/P$1+Q9/Q$1+R9/R$1+S9/S$1+T9/T$1+U9/U$1+V9/V$1)*60 -> 1.896 | X9: =X8+W9 -> 14.024714 | Z9: =I9/W9*60 -> 50 | AA9: =F9/X9*60 -> 77.563077 | AB9: =AA9*0.85 -> 65.928616 | AC9: =AA9*0.95 -> 73.684924 | AD9: =$F9/AB9*60 -> 16.499664 | AE9: =$F9/AC9*60 -> 14.762857
A10: MW-E | B10: SG07 | C10: G07 | D10: G08 | E10: 3.38 | F10: =F9+E10 -> 21.51 | G10: Hwy 3 - Greenwood-Phoenix | H10: Hwy 3 - Boundary Cr Jct | I10: =E10 -> 3.38 | J10: =I10-SUM(K10:V10) -> 0 | L10: 0.8 | N10: 1.69 | O10: =2.2-1.56+0.25 -> 0.89 | W10: =(J10/J$1+K10/K$1+L10/L$1+M10/M$1+N10/N$1+O10/O$1+P10/P$1+Q10/Q$1+R10/R$1+S10/S$1+T10/T$1+U10/U$1+V10/V$1)*60 -> 3.358 | X10: =X9+W10 -> 17.382714 | Z10: =I10/W10*60 -> 60.393091 | AA10: =F10/X10*60 -> 74.246172 | AB10: =AA10*0.85 -> 63.109246 | AC10: =AA10*0.95 -> 70.533864 | AD10: =$F10/AB10*60 -> 20.450252 | AE10: =$F10/AC10*60 -> 18.297594
A11: MW-E | B11: SH01 | C11: G08 | D11: H01 | E11: 0.93 | F11: =F10+E11 -> 22.44 | G11: Hwy 3 - Boundary Cr Jct | H11: Boundary Cr - Jewel Jct | I11: =E11 -> 0.93 | J11: =I11-SUM(K11:V11) -> 0 | L11: 0.73 | N11: 0.2 | W11: =(J11/J$1+K11/K$1+L11/L$1+M11/M$1+N11/N$1+O11/O$1+P11/P$1+Q11/Q$1+R11/R$1+S11/S$1+T11/T$1+U11/U$1+V11/V$1)*60 -> 0.7475 | X11: =X10+W11 -> 18.130214 | Z11: =I11/W11*60 -> 74.648829 | AA11: =F11/X11*60 -> 74.262774 | AB11: =AA11*0.85 -> 63.123358 | AC11: =AA11*0.95 -> 70.549635 | AD11: =$F11/AB11*60 -> 21.329664 | AE11: =$F11/AC11*60 -> 19.084436
A12: MW-E | B12: ST01 | C12: H01 | D12: T01 | E12: 4.61 | F12: =F11+E12 -> 27.05 | G12: Boundary Cr - Jewel Jct | H12: Jewel Lk - Rhoderick Dhu Jct | I12: =E12 -> 4.61 | J12: =I12-SUM(K12:V12) -> 0 | Q12: 4.61 | W12: =(J12/J$1+K12/K$1+L12/L$1+M12/M$1+N12/N$1+O12/O$1+P12/P$1+Q12/Q$1+R12/R$1+S12/S$1+T12/T$1+U12/U$1+V12/V$1)*60 -> 9.22 | X12: =X11+W12 -> 27.350214 | Z12: =I12/W12*60 -> 30 | AA12: =F12/X12*60 -> 59.3414 | AB12: =AA12*0.85 -> 50.44019 | AC12: =AA12*0.95 -> 56.37433 | AD12: =$F12/AB12*60 -> 32.176723 | AE12: =$F12/AC12*60 -> 28.789699
A13: MW-E | B13: SH02 | C13: H01 | D13: H02 | E13: 1.49 | F13: =F11+E13 -> 23.93 | G13: Boundary Cr - Jewel Jct | H13: Boundary Cr - Wallace Cr Jct | I13: =E13 -> 1.49 | J13: =I13-SUM(K13:V13) -> 0 | L13: 1.49 | W13: =(J13/J$1+K13/K$1+L13/L$1+M13/M$1+N13/N$1+O13/O$1+P13/P$1+Q13/Q$1+R13/R$1+S13/S$1+T13/T$1+U13/U$1+V13/V$1)*60 -> 1.1175 | X13: =X11+W13 -> 19.247714 | Z13: =I13/W13*60 -> 80 | AA13: =F13/X13*60 -> 74.59587 | AB13: =AA13*0.85 -> 63.40649 | AC13: =AA13*0.95 -> 70.866077 | AD13: =$F13/AB13*60 -> 22.64437 | AE13: =$F13/AC13*60 -> 20.260752
A14: MW-E | B14: SH03 | C14: H02 | D14: H03 | E14: 6.8 | F14: =F13+E14 -> 30.73 | G14: Boundary Cr - Wallace Cr Jct | H14: Boundary Cr - East Fork Cr Jct | I14: =E14 -> 6.8 | J14: =I14-SUM(K14:V14) -> 0 | L14: 6.8 | W14: =(J14/J$1+K14/K$1+L14/L$1+M14/M$1+N14/N$1+O14/O$1+P14/P$1+Q14/Q$1+R14/R$1+S14/S$1+T14/T$1+U14/U$1+V14/V$1)*60 -> 5.1 | X14: =X13+W14 -> 24.347714 | Z14: =I14/W14*60 -> 80 | AA14: =F14/X14*60 -> 75.727848 | AB14: =AA14*0.85 -> 64.368671 | AC14: =AA14*0.95 -> 71.941455 | AD14: =$F14/AB14*60 -> 28.64437 | AE14: =$F14/AC14*60 -> 25.629173
A15: MW-E | B15: SI01 | C15: H03 | D15: I01 | E15: 4.85 | F15: =F14+E15 -> 35.58 | G15: Boundary Cr - East Fork Cr Jct | H15: East Fork-Rhoderick Dhu Jct | I15: =E15 -> 4.85 | J15: =I15-SUM(K15:V15) -> 0 | O15: 2.42 | P15: 2.43 | W15: =(J15/J$1+K15/K$1+L15/L$1+M15/M$1+N15/N$1+O15/O$1+P15/P$1+Q15/Q$1+R15/R$1+S15/S$1+T15/T$1+U15/U$1+V15/V$1)*60 -> 6.549 | X15: =X14+W15 -> 30.896714 | Z15: =I15/W15*60 -> 44.434265 | AA15: =F15/X15*60 -> 69.094726 | AB15: =AA15*0.85 -> 58.730517 | AC15: =AA15*0.95 -> 65.639989 | AD15: =$F15/AB15*60 -> 36.349076 | AE15: =$F15/AC15*60 -> 32.522857
A16: MW-E | B16: SI02 | C16: I01 | D16: I02 | E16: 4.26 | F16: =F15+E16 -> 39.84 | G16: East Fork-Rhoderick Dhu Jct | H16: East Fork-Pepper Cr Jct | I16: =E16 -> 4.26 | J16: =I16-SUM(K16:V16) -> 0 | O16: 2.13 | P16: 2.13 | W16: =(J16/J$1+K16/K$1+L16/L$1+M16/M$1+N16/N$1+O16/O$1+P16/P$1+Q16/Q$1+R16/R$1+S16/S$1+T16/T$1+U16/U$1+V16/V$1)*60 -> 5.751 | X16: =X15+W16 -> 36.647714 | Z16: =I16/W16*60 -> 44.444444 | AA16: =F16/X16*60 -> 65.226442 | AB16: =AA16*0.85 -> 55.442475 | AC16: =AA16*0.95 -> 61.96512 | AD16: =$F16/AB16*60 -> 43.114958 | AE16: =$F16/AC16*60 -> 38.576541
A17: MW-E | B17: SI03 | C17: I02 | D17: I03 | E17: 2.85 | F17: =F16+E17 -> 42.69 | G17: East Fork-Pepper Cr Jct | H17: East Fork-Little East Fork Jct | I17: =E17 -> 2.85 | J17: =I17-SUM(K17:V17) -> 0 | O17: 1.43 | P17: 1.42 | W17: =(J17/J$1+K17/K$1+L17/L$1+M17/M$1+N17/N$1+O17/O$1+P17/P$1+Q17/Q$1+R17/R$1+S17/S$1+T17/T$1+U17/U$1+V17/V$1)*60 -> 3.846 | X17: =X16+W17 -> 40.493714 | Z17: =I17/W17*60 -> 44.461778 | AA17: =F17/X17*60 -> 63.254262 | AB17: =AA17*0.85 -> 53.766122 | AC17: =AA17*0.95 -> 60.091549 | AD17: =$F17/AB17*60 -> 47.639664 | AE17: =$F17/AC17*60 -> 42.624962
A18: MW-E | B18: SI04 | C18: I03 | D18: I04 | E18: 0.97 | F18: =F17+E18 -> 43.66 | G18: East Fork-Little East Fork Jct | H18: East Fork-Boundary Link Jct | I18: =E18 -> 0.97 | J18: =I18-SUM(K18:V18) -> 0 | N18: 0.48 | O18: 0.49 | W18: =(J18/J$1+K18/K$1+L18/L$1+M18/M$1+N18/N$1+O18/O$1+P18/P$1+Q18/Q$1+R18/R$1+S18/S$1+T18/T$1+U18/U$1+V18/V$1)*60 -> 1.068 | X18: =X17+W18 -> 41.561714 | Z18: =I18/W18*60 -> 54.494382 | AA18: =F18/X18*60 -> 63.029161 | AB18: =AA18*0.85 -> 53.574787 | AC18: =AA18*0.95 -> 59.877703 | AD18: =$F18/AB18*60 -> 48.896134 | AE18: =$F18/AC18*60 -> 43.749173
A19: MW-E | B19: SH03.1 | C19: H03 | D19: H03.1 | E19: 0.30000001 | F19: =F14+E19 -> 31.03 | G19: Boundary Cr - East Fork Cr Jct | H19: Boundary-Windfall Cr Jct | I19: =E19 -> 0.30000001 | J19: =I19-SUM(K19:V19) -> 1.1920929e-08 | O19: 0.3 | W19: =(J19/J$1+K19/K$1+L19/L$1+M19/M$1+N19/N$1+O19/O$1+P19/P$1+Q19/Q$1+R19/R$1+S19/S$1+T19/T$1+U19/U$1+V19/V$1)*60 -> 0.36000001 | X19: =X14+W19 -> 24.707714 | Z19: =I19/W19*60 -> 50.000001 | AA19: =F19/X19*60 -> 75.352984 | AB19: =AA19*0.85 -> 64.050036 | AC19: =AA19*0.95 -> 71.585335 | AD19: =$F19/AB19*60 -> 29.067899 | AE19: =$F19/AC19*60 -> 26.00812
A20: MW-E | B20: SK01 | C20: H03.1 | D20: K01 | E20: 4.4 | F20: =F19+E20 -> 35.43 | G20: Boundary-Windfall Cr Jct | H20: Windfall - Blind Valley Jct | I20: =E20 -> 4.4 | J20: =I20-SUM(K20:V20) -> 0 | P20: 4.4 | W20: =(J20/J$1+K20/K$1+L20/L$1+M20/M$1+N20/N$1+O20/O$1+P20/P$1+Q20/Q$1+R20/R$1+S20/S$1+T20/T$1+U20/U$1+V20/V$1)*60 -> 6.6 | X20: =X19+W20 -> 31.307714 | Z20: =I20/W20*60 -> 40 | AA20: =F20/X20*60 -> 67.900198 | AB20: =AA20*0.85 -> 57.715168 | AC20: =AA20*0.95 -> 64.505188 | AD20: =$F20/AB20*60 -> 36.832605 | AE20: =$F20/AC20*60 -> 32.955489
E21: 10.8 | F21: =F20+E21 -> 46.23 | H21: Blind Valley - Williamson TFL Bdy | I21: =E21 -> 10.8 | J21: =I21-SUM(K21:V21) -> 0 | P21: =0.4+3.9 -> 4.3 | Q21: 5.5 | R21: 1 | W21: =(J21/J$1+K21/K$1+L21/L$1+M21/M$1+N21/N$1+O21/O$1+P21/P$1+Q21/Q$1+R21/R$1+S21/S$1+T21/T$1+U21/U$1+V21/V$1)*60 -> 19.85 | X21: =X20+W21 -> 51.157714 | Z21: =I21/W21*60 -> 32.644836 | AA21: =F21/X21*60 -> 54.220562 | AB21: =AA21*0.85 -> 46.087477 | AC21: =AA21*0.95 -> 51.509534 | AD21: =$F21/AB21*60 -> 60.185546 | AE21: =$F21/AC21*60 -> 53.850226
A22: MW-E | B22: SH04 | C22: H03.1 | D22: H04 | E22: 2.78 | F22: =F19+E22 -> 33.81 | G22: Boundary-Windfall Cr Jct | H22: Boundary Creek-Henderson Jct | I22: =E22 -> 2.78 | J22: =I22-SUM(K22:V22) -> 0 | O22: 1.39 | P22: 1.39 | W22: =(J22/J$1+K22/K$1+L22/L$1+M22/M$1+N22/N$1+O22/O$1+P22/P$1+Q22/Q$1+R22/R$1+S22/S$1+T22/T$1+U22/U$1+V22/V$1)*60 -> 3.753 | X22: =X19+W22 -> 28.460714 | Z22: =I22/W22*60 -> 44.444444 | AA22: =F22/X22*60 -> 71.277199 | AB22: =AA22*0.85 -> 60.585619 | AC22: =AA22*0.95 -> 67.713339 | AD22: =$F22/AB22*60 -> 33.483193 | AE22: =$F22/AC22*60 -> 29.958647
A23: MW-E | B23: SH05 | C23: H04 | D23: H05 | E23: 7.1799998 | F23: =F22+E23 -> 40.99 | G23: Boundary Creek-Henderson Jct | H23: Boundary Creek-Dry Creek Jct | I23: =E23 -> 7.1799998 | J23: =I23-SUM(K23:V23) -> -1.7166138e-07 | O23: 1.7 | P23: 5.18 | Q23: 0.3 | W23: =(J23/J$1+K23/K$1+L23/L$1+M23/M$1+N23/N$1+O23/O$1+P23/P$1+Q23/Q$1+R23/R$1+S23/S$1+T23/T$1+U23/U$1+V23/V$1)*60 -> 10.41 | X23: =X22+W23 -> 38.870714 | Z23: =I23/W23*60 -> 41.383285 | AA23: =F23/X23*60 -> 63.271284 | AB23: =AA23*0.85 -> 53.780591 | AC23: =AA23*0.95 -> 60.10772 | AD23: =$F23/AB23*60 -> 45.730252 | AE23: =$F23/AC23*60 -> 40.916541
A24: MW-E | B24: SH06 | C24: H05 | D24: H06 | E24: 2.27 | F24: =F23+E24 -> 43.26 | G24: Boundary Creek-Dry Creek Jct | H24: Boundary Creek-Boundary Link Jct | I24: =E24 -> 2.27 | J24: =I24-SUM(K24:V24) -> -1.9073486e-08 | N24: 1.13 | O24: 1.14 | W24: =(J24/J$1+K24/K$1+L24/L$1+M24/M$1+N24/N$1+O24/O$1+P24/P$1+Q24/Q$1+R24/R$1+S24/S$1+T24/T$1+U24/U$1+V24/V$1)*60 -> 2.498 | X24: =X23+W24 -> 41.368714 | Z24: =I24/W24*60 -> 54.523619 | AA24: =F24/X24*60 -> 62.743067 | AB24: =AA24*0.85 -> 53.331607 | AC24: =AA24*0.95 -> 59.605913 | AD24: =$F24/AB24*60 -> 48.669076 | AE24: =$F24/AC24*60 -> 43.546015
A25: MW-E | B25: SH07 | C25: H06 | D25: H07 | E25: 0.58 | F25: =F24+E25 -> 43.84 | G25: Boundary Creek-Boundary Link Jct | H25: Boundary Creek-West Fork | I25: =E25 -> 0.58 | J25: =I25-SUM(K25:V25) -> 0 | P25: 0.58 | W25: =(J25/J$1+K25/K$1+L25/L$1+M25/M$1+N25/N$1+O25/O$1+P25/P$1+Q25/Q$1+R25/R$1+S25/S$1+T25/T$1+U25/U$1+V25/V$1)*60 -> 0.87 | X25: =X24+W25 -> 42.238714 | Z25: =I25/W25*60 -> 40 | AA25: =F25/X25*60 -> 62.274623 | AB25: =AA25*0.85 -> 52.933429 | AC25: =AA25*0.95 -> 59.160892 | AD25: =$F25/AB25*60 -> 49.692605 | AE25: =$F25/AC25*60 -> 44.461804
A26: MW-E | B26: SJ01 | C26: H07 | D26: J01 | E26: 7.26 | F26: =F25+E26 -> 51.1 | G26: Boundary Creek-West Fork | H26: West Fork-Terraced Peak Jct | I26: =E26 -> 7.26 | J26: =I26-SUM(K26:V26) -> 0 | O26: 7.26 | W26: =(J26/J$1+K26/K$1+L26/L$1+M26/M$1+N26/N$1+O26/O$1+P26/P$1+Q26/Q$1+R26/R$1+S26/S$1+T26/T$1+U26/U$1+V26/V$1)*60 -> 8.712 | X26: =X25+W26 -> 50.950714 | Z26: =I26/W26*60 -> 50 | AA26: =F26/X26*60 -> 60.1758 | AB26: =AA26*0.85 -> 51.14943 | AC26: =AA26*0.95 -> 57.16701 | AD26: =$F26/AB26*60 -> 59.942017 | AE26: =$F26/AC26*60 -> 53.632331
A27: MW-E | B27: SJ02 | C27: J01 | D27: J02 | E27: 1.17 | F27: =F26+E27 -> 52.27 | G27: West Fork-Terraced Peak Jct | H27: West Fork 8.5 km -David Crk Jct | I27: =E27 -> 1.17 | J27: =I27-SUM(K27:V27) -> 0 | O27: 1.17 | W27: =(J27/J$1+K27/K$1+L27/L$1+M27/M$1+N27/N$1+O27/O$1+P27/P$1+Q27/Q$1+R27/R$1+S27/S$1+T27/T$1+U27/U$1+V27/V$1)*60 -> 1.404 | X27: =X26+W27 -> 52.354714 | Z27: =I27/W27*60 -> 50 | AA27: =F27/X27*60 -> 59.902915 | AB27: =AA27*0.85 -> 50.917478 | AC27: =AA27*0.95 -> 56.907769 | AD27: =$F27/AB27*60 -> 61.593781 | AE27: =$F27/AC27*60 -> 55.110225
A28: MW-E | C28: J02 | E28: 7.2 | F28: =F27+E28 -> 59.47 | G28: West Fork 8.5 km -David Crk Jct | H28: West Fork - West Fork 15700 Jct | I28: =E28 -> 7.2 | J28: =I28-SUM(K28:V28) -> 0 | R28: 7.2 | W28: =(J28/J$1+K28/K$1+L28/L$1+M28/M$1+N28/N$1+O28/O$1+P28/P$1+Q28/Q$1+R28/R$1+S28/S$1+T28/T$1+U28/U$1+V28/V$1)*60 -> 17.28 | X28: =X27+W28 -> 69.634714 | Z28: =I28/W28*60 -> 25 | AA28: =F28/X28*60 -> 51.241684 | AB28: =AA28*0.85 -> 43.555431 | AC28: =AA28*0.95 -> 48.679599 | AD28: =$F28/AB28*60 -> 81.923193 | AE28: =$F28/AC28*60 -> 73.299699
A29: MW-E | C29: J02 | E29: 7.3 | F29: =F28+E29 -> 66.77 | G29: West Fork - West Fork 15700 Jct | H29: West Fork - West Fork 23000 Jct | I29: =E29 -> 7.3 | J29: =I29-SUM(K29:V29) -> 0 | R29: 6.3 | V29: 1 | W29: =(J29/J$1+K29/K$1+L29/L$1+M29/M$1+N29/N$1+O29/O$1+P29/P$1+Q29/Q$1+R29/R$1+S29/S$1+T29/T$1+U29/U$1+V29/V$1)*60 -> 19.12 | X29: =X28+W29 -> 88.754714 | Z29: =I29/W29*60 -> 22.90795 | AA29: =F29/X29*60 -> 45.137884 | AB29: =AA29*0.85 -> 38.367201 | AC29: =AA29*0.95 -> 42.88099 | AD29: =$F29/AB29*60 -> 104.41731 | AE29: =$F29/AC29*60 -> 93.426015
A30: MW-E | B30: SH08 | C30: H07 | D30: H08 | E30: 9.23 | F30: =F25+E30 -> 53.07 | G30: Boundary Creek-West Fork | H30: Boundary Creek Terrace Lk. | I30: =E30 -> 9.23 | J30: =I30-SUM(K30:V30) -> 0 | O30: 4.62 | P30: 4.61 | W30: =(J30/J$1+K30/K$1+L30/L$1+M30/M$1+N30/N$1+O30/O$1+P30/P$1+Q30/Q$1+R30/R$1+S30/S$1+T30/T$1+U30/U$1+V30/V$1)*60 -> 12.459 | X30: =X25+W30 -> 54.697714 | Z30: =I30/W30*60 -> 44.449795 | AA30: =F30/X30*60 -> 58.214498 | AB30: =AA30*0.85 -> 49.482324 | AC30: =AA30*0.95 -> 55.303773 | AD30: =$F30/AB30*60 -> 64.350252 | AE30: =$F30/AC30*60 -> 57.576541
A33: MW-W | C33: G00 | D33: G01 | E33: 0.22 | F33: =E33 -> 0.22 | G33: Midway Mill | H33: Hwy 3 - Midway Mill Jct | I33: =E33 -> 0.22 | J33: =I33-SUM(K33:V33) -> 0 | T33: 0.22 | W33: =(J33/J$1+K33/K$1+L33/L$1+M33/M$1+N33/N$1+O33/O$1+P33/P$1+Q33/Q$1+R33/R$1+S33/S$1+T33/T$1+U33/U$1+V33/V$1)*60 -> 0.66 | X33: =W33+0.5 -> 1.16 | Z33: =I33/W33*60 -> 20 | AA33: =F33/X33*60 -> 11.37931 | AB33: =AA33*0.85 -> 9.6724138 | AC33: =AA33*0.95 -> 10.810345 | AD33: =$F33/AB33*60 -> 1.3647059 | AE33: =$F33/AC33*60 -> 1.2210526
A34: MW-W | B34: SM01 | C34: G01 | D34: M01 | E34: 4.25 | F34: =F33+E34 -> 4.47 | G34: Hwy 3 - Midway Mill Jct | H34: Hwy 3 - Ingram Cr Rd | I34: =E34 -> 4.25 | J34: =I34-SUM(K34:V34) -> 2.25 | L34: 1.6 | M34: 0.4 | W34: =(J34/J$1+K34/K$1+L34/L$1+M34/M$1+N34/N$1+O34/O$1+P34/P$1+Q34/Q$1+R34/R$1+S34/S$1+T34/T$1+U34/U$1+V34/V$1)*60 -> 2.8928571 | X34: =X33+W34 -> 4.0528571 | Z34: =I34/W34*60 -> 88.148148 | AA34: =F34/X34*60 -> 66.175538 | AB34: =AA34*0.85 -> 56.249207 | AC34: =AA34*0.95 -> 62.866761 | AD34: =$F34/AB34*60 -> 4.7680672 | AE34: =$F34/AC34*60 -> 4.2661654
A35: MW-W | B35: SS01 | C35: M01 | D35: S01 | E35: 4.65 | F35: =F34+E35 -> 9.12 | G35: Hwy 3 - Ingram Cr Rd | H35: Ingram - E. Ingram Jct | I35: =E35 -> 4.65 | J35: =I35-SUM(K35:V35) -> 0 | Q35: 4.65 | W35: =(J35/J$1+K35/K$1+L35/L$1+M35/M$1+N35/N$1+O35/O$1+P35/P$1+Q35/Q$1+R35/R$1+S35/S$1+T35/T$1+U35/U$1+V35/V$1)*60 -> 9.3 | X35: =X34+W35 -> 13.352857 | Z35: =I35/W35*60 -> 30 | AA35: =F35/X35*60 -> 40.979994 | AB35: =AA35*0.85 -> 34.832995 | AC35: =AA35*0.95 -> 38.930994 | AD35: =$F35/AB35*60 -> 15.709244 | AE35: =$F35/AC35*60 -> 14.055639
A36: MW-W | B36: SS02 | C36: S01 | D36: S02 | E36: 2.19 | F36: =F35+E36 -> 11.31 | G36: Ingram - E. Ingram Jct | H36: Ingram - W. Ingram Jct | I36: =E36 -> 2.19 | J36: =I36-SUM(K36:V36) -> 0 | O36: 2.19 | W36: =(J36/J$1+K36/K$1+L36/L$1+M36/M$1+N36/N$1+O36/O$1+P36/P$1+Q36/Q$1+R36/R$1+S36/S$1+T36/T$1+U36/U$1+V36/V$1)*60 -> 2.628 | X36: =X35+W36 -> 15.980857 | Z36: =I36/W36*60 -> 50 | AA36: =F36/X36*60 -> 42.463304 | AB36: =AA36*0.85 -> 36.093809 | AC36: =AA36*0.95 -> 40.340139 | AD36: =$F36/AB36*60 -> 18.801008 | AE36: =$F36/AC36*60 -> 16.821955
A37: MW-W | B37: SM02 | C37: M01 | D37: M02 | E37: 6.01 | F37: =F34+E37 -> 10.48 | G37: Hwy 3 - Ingram Cr Rd | H37: Hwy 3-Kettle Valley Rd | I37: =E37 -> 6.01 | J37: =I37-SUM(K37:V37) -> 4.31 | L37: =0.3+1 -> 1.3 | N37: 0.4 | W37: =(J37/J$1+K37/K$1+L37/L$1+M37/M$1+N37/N$1+O37/O$1+P37/P$1+Q37/Q$1+R37/R$1+S37/S$1+T37/T$1+U37/U$1+V37/V$1)*60 -> 3.961 | X37: =X34+W37 -> 8.0138571 | Z37: =I37/W37*60 -> 91.037617 | AA37: =F37/X37*60 -> 78.464089 | AB37: =AA37*0.85 -> 66.694476 | AC37: =AA37*0.95 -> 74.540885 | AD37: =$F37/AB37*60 -> 9.4280672 | AE37: =$F37/AC37*60 -> 8.4356391
A38: MW-W | B38: SM03 | C38: M02 | D38: M03 | E38: 4.49 | F38: =F37+E38 -> 14.97 | G38: Hwy 3-Kettle Valley Rd | H38: Hwy 3 - Hwy 33 Jct | I38: =E38 -> 4.49 | J38: =I38-SUM(K38:V38) -> 2.54 | L38: 1.3 | O38: 0.65 | W38: =(J38/J$1+K38/K$1+L38/L$1+M38/M$1+N38/N$1+O38/O$1+P38/P$1+Q38/Q$1+R38/R$1+S38/S$1+T38/T$1+U38/U$1+V38/V$1)*60 -> 3.279 | X38: =X37+W38 -> 11.292857 | Z38: =I38/W38*60 -> 82.159195 | AA38: =F38/X38*60 -> 79.537002 | AB38: =AA38*0.85 -> 67.606452 | AC38: =AA38*0.95 -> 75.560152 | AD38: =$F38/AB38*60 -> 13.285714 | AE38: =$F38/AC38*60 -> 11.887218
A39: MW-W | B39: SM04 | C39: M03 | D39: M04 | E39: 6.37 | F39: =F38+E39 -> 21.34 | G39: Hwy 3 - Hwy 33 Jct | H39: Hwy 3 - East Johnstone Cr | I39: =E39 -> 6.37 | J39: =I39-SUM(K39:V39) -> 5.52 | N39: =0.25+0.3 -> 0.55 | Q39: 0.3 | W39: =(J39/J$1+K39/K$1+L39/L$1+M39/M$1+N39/N$1+O39/O$1+P39/P$1+Q39/Q$1+R39/R$1+S39/S$1+T39/T$1+U39/U$1+V39/V$1)*60 -> 4.462 | X39: =X38+W39 -> 15.754857 | Z39: =I39/W39*60 -> 85.656656 | AA39: =F39/X39*60 -> 81.270175 | AB39: =AA39*0.85 -> 69.079649 | AC39: =AA39*0.95 -> 77.206666 | AD39: =$F39/AB39*60 -> 18.535126 | AE39: =$F39/AC39*60 -> 16.58406
A40: MW-W | B40: SM05 | C40: M04 | D40: M05 | E40: 1.55 | F40: =F39+E40 -> 22.89 | G40: Hwy 3 - East Johnstone Cr | H40: Hwy 3 - Johnstone Cr | I40: =E40 -> 1.55 | J40: =I40-SUM(K40:V40) -> -4.7683716e-08 | M40: 0.75 | N40: 0.8 | W40: =(J40/J$1+K40/K$1+L40/L$1+M40/M$1+N40/N$1+O40/O$1+P40/P$1+Q40/Q$1+R40/R$1+S40/S$1+T40/T$1+U40/U$1+V40/V$1)*60 -> 1.4428571 | X40: =X39+W40 -> 17.197714 | Z40: =I40/W40*60 -> 64.455445 | AA40: =F40/X40*60 -> 79.85945 | AB40: =AA40*0.85 -> 67.880532 | AC40: =AA40*0.95 -> 75.866477 | AD40: =$F40/AB40*60 -> 20.232605 | AE40: =$F40/AC40*60 -> 18.102857
A41: MW-W | B41: SM06 | C41: M05 | D41: M06 | E41: 4.69 | F41: =F40+E41 -> 27.58 | G41: Hwy 3 - Johnstone Cr | H41: Hwy 3 - Baldy Mtn Jct | I41: =E41 -> 4.69 | J41: =I41-SUM(K41:V41) -> 3.44 | M41: =0.35+0.9 -> 1.25 | W41: =(J41/J$1+K41/K$1+L41/L$1+M41/M$1+N41/N$1+O41/O$1+P41/P$1+Q41/Q$1+R41/R$1+S41/S$1+T41/T$1+U41/U$1+V41/V$1)*60 -> 3.1354286 | X41: =X40+W41 -> 20.333143 | Z41: =I41/W41*60 -> 89.748496 | AA41: =F41/X41*60 -> 81.384369 | AB41: =AA41*0.85 -> 69.176714 | AC41: =AA41*0.95 -> 77.31515 | AD41: =$F41/AB41*60 -> 23.921345 | AE41: =$F41/AC41*60 -> 21.403308
A42: MW-W | B42: SM07 | C42: M06 | D42: M07 | E42: 8.77 | F42: =F41+E42 -> 36.35 | G42: Hwy 3 - Baldy Mtn Jct | H42: Hwy 3 - Sidley Jct. | I42: =E42 -> 8.77 | J42: =I42-SUM(K42:V42) -> 7.77 | N42: 1 | W42: =(J42/J$1+K42/K$1+L42/L$1+M42/M$1+N42/N$1+O42/O$1+P42/P$1+Q42/Q$1+R42/R$1+S42/S$1+T42/T$1+U42/U$1+V42/V$1)*60 -> 5.662 | X42: =X41+W42 -> 25.995143 | Z42: =I42/W42*60 -> 92.935359 | AA42: =F42/X42*60 -> 83.900289 | AB42: =AA42*0.85 -> 71.315246 | AC42: =AA42*0.95 -> 79.705275 | AD42: =$F42/AB42*60 -> 30.582521 | AE42: =$F42/AC42*60 -> 27.363308
A44: RC-CV | B44: SP00.1 | C44: M03 | D44: P00.1 | E44: 0.35 | F44: =F38+E44 -> 15.32 | G44: Hwy 3 - Hwy 33 Jct | H44: Hwy 33-S.Kettle Bridge | I44: =E44 -> 0.35 | J44: =I44-SUM(K44:V44) -> 0 | O44: 0.35 | W44: =(J44/J$1+K44/K$1+L44/L$1+M44/M$1+N44/N$1+O44/O$1+P44/P$1+Q44/Q$1+R44/R$1+S44/S$1+T44/T$1+U44/U$1+V44/V$1)*60 -> 0.42 | X44: =X38+W44 -> 11.712857 | Z44: =I44/W44*60 -> 50 | AA44: =F44/X44*60 -> 78.477863 | AB44: =AA44*0.85 -> 66.706184 | AC44: =AA44*0.95 -> 74.55397 | AD44: =$F44/AB44*60 -> 13.779832 | AE44: =$F44/AC44*60 -> 12.329323
A45: RC-CV | B45: SO01 | C45: P00.1 | D45: O01 | E45: 4.73 | F45: =F44+E45 -> 20.05 | G45: Hwy 33-S.Kettle Bridge | H45: POC Nicholson Cr Rd | I45: =E45 -> 4.73 | J45: =I45-SUM(K45:V45) -> 1.9073486e-08 | N45: 4.73 | W45: =(J45/J$1+K45/K$1+L45/L$1+M45/M$1+N45/N$1+O45/O$1+P45/P$1+Q45/Q$1+R45/R$1+S45/S$1+T45/T$1+U45/U$1+V45/V$1)*60 -> 4.73 | X45: =X44+W45 -> 16.442857 | Z45: =I45/W45*60 -> 60 | AA45: =F45/X45*60 -> 73.162467 | AB45: =AA45*0.85 -> 62.188097 | AC45: =AA45*0.95 -> 69.504344 | AD45: =$F45/AB45*60 -> 19.344538 | AE45: =$F45/AC45*60 -> 17.308271
A46: RC-CV | B46: SP01 | C46: P00.1 | D46: P01 | E46: 13.07 | F46: =F44+E46 -> 28.39 | G46: Hwy 33-S.Kettle Bridge | H46: Hwy 33-Christian Valley Jct | I46: =E46 -> 13.07 | J46: =I46-SUM(K46:V46) -> 0 | K46: 10.48 | M46: =0.75+0.6 -> 1.35 | N46: =0.44+0.6 -> 1.04 | Q46: 0.2 | W46: =(J46/J$1+K46/K$1+L46/L$1+M46/M$1+N46/N$1+O46/O$1+P46/P$1+Q46/Q$1+R46/R$1+S46/S$1+T46/T$1+U46/U$1+V46/V$1)*60 -> 9.5838095 | X46: =X44+W46 -> 21.296667 | Z46: =I46/W46*60 -> 81.825499 | AA46: =F46/X46*60 -> 79.984348 | AB46: =AA46*0.85 -> 67.986696 | AC46: =AA46*0.95 -> 75.985131 | AD46: =$F46/AB46*60 -> 25.054902 | AE46: =$F46/AC46*60 -> 22.417544
A47: RC-CV | B47: SP02 | C47: P01 | D47: P02 | E47: 7.81 | F47: =F46+E47 -> 36.2 | G47: Hwy 33-Christian Valley Jct | H47: Christian Valley-East Kettle Jct | I47: =E47 -> 7.81 | J47: =I47-SUM(K47:V47) -> 0 | M47: 7.81 | W47: =(J47/J$1+K47/K$1+L47/L$1+M47/M$1+N47/N$1+O47/O$1+P47/P$1+Q47/Q$1+R47/R$1+S47/S$1+T47/T$1+U47/U$1+V47/V$1)*60 -> 6.6942857 | X47: =X46+W47 -> 27.990952 | Z47: =I47/W47*60 -> 70 | AA47: =F47/X47*60 -> 77.596502 | AB47: =AA47*0.85 -> 65.957027 | AC47: =AA47*0.95 -> 73.716677 | AD47: =$F47/AB47*60 -> 32.930532 | AE47: =$F47/AC47*60 -> 29.46416
A48: RC-CV | B48: SP03 | C48: P02 | D48: P03 | E48: 6.6100001 | F48: =F47+E48 -> 42.81 | G48: Christian Valley-East Kettle Jct | H48: Christian Valley-Oulette Cr Jct | I48: =E48 -> 6.6100001 | J48: =I48-SUM(K48:V48) -> 1.335144e-07 | M48: 6.61 | W48: =(J48/J$1+K48/K$1+L48/L$1+M48/M$1+N48/N$1+O48/O$1+P48/P$1+Q48/Q$1+R48/R$1+S48/S$1+T48/T$1+U48/U$1+V48/V$1)*60 -> 5.6657144 | X48: =X47+W48 -> 33.656667 | Z48: =I48/W48*60 -> 70 | AA48: =F48/X48*60 -> 76.317718 | AB48: =AA48*0.85 -> 64.87006 | AC48: =AA48*0.95 -> 72.501832 | AD48: =$F48/AB48*60 -> 39.596079 | AE48: =$F48/AC48*60 -> 35.42807
A49: W-Kettle | C49: Q04 | D49: Jct | E49: 5.5 | F49: =F48+E49 -> 48.31 | G49: Christian Valley-Oulette Cr Jct | H49: Ouelette - Boomerang Jct | I49: =E49 -> 5.5 | J49: =I49-SUM(K49:V49) -> 0 | O49: 0.4 | P49: =0.1+1.625 -> 1.725 | Q49: =1.625+0.875 -> 2.5 | R49: 0.875 | W49: =(J49/J$1+K49/K$1+L49/L$1+M49/M$1+N49/N$1+O49/O$1+P49/P$1+Q49/Q$1+R49/R$1+S49/S$1+T49/T$1+U49/U$1+V49/V$1)*60 -> 10.1675 | X49: =X48+W49 -> 43.824167 | Z49: =I49/W49*60 -> 32.456356 | AA49: =F49/X49*60 -> 66.141589 | AB49: =AA49*0.85 -> 56.22035 | AC49: =AA49*0.95 -> 62.834509 | AD49: =$F49/AB49*60 -> 51.557843 | AE49: =$F49/AC49*60 -> 46.130702
A50: RC-CV | B50: SP04 | C50: P03 | D50: P04 | E50: 7.19 | F50: =F48+E50 -> 50 | G50: Christian Valley-Oulette Cr Jct | H50: Christian Valley-Crouse Cr Jct | I50: =E50 -> 7.19 | J50: =I50-SUM(K50:V50) -> 0 | L50: 4.49 | M50: 2.7 | W50: =(J50/J$1+K50/K$1+L50/L$1+M50/M$1+N50/N$1+O50/O$1+P50/P$1+Q50/Q$1+R50/R$1+S50/S$1+T50/T$1+U50/U$1+V50/V$1)*60 -> 5.6817857 | X50: =X48+W50 -> 39.338452 | Z50: =I50/W50*60 -> 75.926834 | AA50: =F50/X50*60 -> 76.261261 | AB50: =AA50*0.85 -> 64.822072 | AC50: =AA50*0.95 -> 72.448198 | AD50: =$F50/AB50*60 -> 46.280532 | AE50: =$F50/AC50*60 -> 41.408897
A51: RC-CV | B51: SP05 | C51: P04 | D51: P05 | E51: 5.25 | F51: =F50+E51 -> 55.25 | G51: Christian Valley-Crouse Cr Jct | H51: Christian Valley-Lost Horse Jct | I51: =E51 -> 5.25 | J51: =I51-SUM(K51:V51) -> 0 | L51: 5.25 | W51: =(J51/J$1+K51/K$1+L51/L$1+M51/M$1+N51/N$1+O51/O$1+P51/P$1+Q51/Q$1+R51/R$1+S51/S$1+T51/T$1+U51/U$1+V51/V$1)*60 -> 3.9375 | X51: =X50+W51 -> 43.275952 | Z51: =I51/W51*60 -> 80 | AA51: =F51/X51*60 -> 76.601434 | AB51: =AA51*0.85 -> 65.111219 | AC51: =AA51*0.95 -> 72.771362 | AD51: =$F51/AB51*60 -> 50.912885 | AE51: =$F51/AC51*60 -> 45.553634
A52: RC-CV | B52: SP06 | C52: P05 | D52: P06 | E52: 4.52 | F52: =F51+E52 -> 59.77 | G52: Christian Valley-Lost Horse Jct | H52: Christian Valley-4th of July Cr Jct | I52: =E52 -> 4.52 | J52: =I52-SUM(K52:V52) -> 0 | L52: 4.52 | W52: =(J52/J$1+K52/K$1+L52/L$1+M52/M$1+N52/N$1+O52/O$1+P52/P$1+Q52/Q$1+R52/R$1+S52/S$1+T52/T$1+U52/U$1+V52/V$1)*60 -> 3.39 | X52: =X51+W52 -> 46.665952 | Z52: =I52/W52*60 -> 80 | AA52: =F52/X52*60 -> 76.848319 | AB52: =AA52*0.85 -> 65.321071 | AC52: =AA52*0.95 -> 73.005903 | AD52: =$F52/AB52*60 -> 54.901121 | AE52: =$F52/AC52*60 -> 49.122055
A53: RC-CV | B53: SP07 | C53: P06 | D53: P07 | E53: 12.64 | F53: =F52+E53 -> 72.41 | G53: Christian Valley-4th of July Cr Jct | H53: Christian Valley-State Cr Jct | I53: =E53 -> 12.64 | J53: =I53-SUM(K53:V53) -> 0 | L53: 12.64 | W53: =(J53/J$1+K53/K$1+L53/L$1+M53/M$1+N53/N$1+O53/O$1+P53/P$1+Q53/Q$1+R53/R$1+S53/S$1+T53/T$1+U53/U$1+V53/V$1)*60 -> 9.48 | X53: =X52+W53 -> 56.145952 | Z53: =I53/W53*60 -> 80 | AA53: =F53/X53*60 -> 77.380467 | AB53: =AA53*0.85 -> 65.773397 | AC53: =AA53*0.95 -> 73.511443 | AD53: =$F53/AB53*60 -> 66.054062 | AE53: =$F53/AC53*60 -> 59.101003
A54: W-Kettle | B54: SAE01 | C54: P07 | D54: AE01 | E54: 6.89 | F54: =F53+E54 -> 79.3 | G54: Christian Valley-State Cr Jct | H54: Beaverdell Cr - State Cr Jct | I54: =E54 -> 6.89 | J54: =I54-SUM(K54:V54) -> 0 | R54: 6.89 | W54: =(J54/J$1+K54/K$1+L54/L$1+M54/M$1+N54/N$1+O54/O$1+P54/P$1+Q54/Q$1+R54/R$1+S54/S$1+T54/T$1+U54/U$1+V54/V$1)*60 -> 16.536 | X54: =X53+W54 -> 72.681952 | Z54: =I54/W54*60 -> 25 | AA54: =F54/X54*60 -> 65.463294 | AB54: =AA54*0.85 -> 55.6438 | AC54: =AA54*0.95 -> 62.190129 | AD54: =$F54/AB54*60 -> 85.508179 | AE54: =$F54/AC54*60 -> 76.507318
A55: RC-CV | B55: SP08 | C55: P07 | D55: P08 | E55: 6.27 | F55: =F53+E55 -> 78.68 | G55: Christian Valley-State Cr Jct | H55: Christian Valley-Barth Cr Jct | I55: =E55 -> 6.27 | J55: =I55-SUM(K55:V55) -> 0 | L55: 3.13 | M55: 3.14 | W55: =(J55/J$1+K55/K$1+L55/L$1+M55/M$1+N55/N$1+O55/O$1+P55/P$1+Q55/Q$1+R55/R$1+S55/S$1+T55/T$1+U55/U$1+V55/V$1)*60 -> 5.0389286 | X55: =X53+W55 -> 61.184881 | Z55: =I55/W55*60 -> 74.658728 | AA55: =F55/X55*60 -> 77.156316 | AB55: =AA55*0.85 -> 65.582868 | AC55: =AA55*0.95 -> 73.2985 | AD55: =$F55/AB55*60 -> 71.982213 | AE55: =$F55/AC55*60 -> 64.405138
A56: RC-CV | B56: SP09 | C56: P08 | D56: P09 | E56: 0.67 | F56: =F55+E56 -> 79.35 | G56: Christian Valley-Barth Cr Jct | H56: Christian Valley-Grano Jct | I56: =E56 -> 0.67 | J56: =I56-SUM(K56:V56) -> 0 | O56: 0.67 | W56: =(J56/J$1+K56/K$1+L56/L$1+M56/M$1+N56/N$1+O56/O$1+P56/P$1+Q56/Q$1+R56/R$1+S56/S$1+T56/T$1+U56/U$1+V56/V$1)*60 -> 0.804 | X56: =X55+W56 -> 61.988881 | Z56: =I56/W56*60 -> 50 | AA56: =F56/X56*60 -> 76.804097 | AB56: =AA56*0.85 -> 65.283482 | AC56: =AA56*0.95 -> 72.963892 | AD56: =$F56/AB56*60 -> 72.928095 | AE56: =$F56/AC56*60 -> 65.251454
A57: RC-CV | B57: SZ01 | C57: P09 | D57: Z01 | E57: 2.12 | F57: =F56+E57 -> 81.47 | G57: Christian Valley-Grano Jct | H57: Grano-Grand Canyon Jct | I57: =E57 -> 2.12 | J57: =I57-SUM(K57:V57) -> 0 | Q57: 2.12 | W57: =(J57/J$1+K57/K$1+L57/L$1+M57/M$1+N57/N$1+O57/O$1+P57/P$1+Q57/Q$1+R57/R$1+S57/S$1+T57/T$1+U57/U$1+V57/V$1)*60 -> 4.24 | X57: =X56+W57 -> 66.228881 | Z57: =I57/W57*60 -> 30 | AA57: =F57/X57*60 -> 73.807679 | AB57: =AA57*0.85 -> 62.736527 | AC57: =AA57*0.95 -> 70.117295 | AD57: =$F57/AB57*60 -> 77.916331 | AE57: =$F57/AC57*60 -> 69.714612
A58: RC-CV | B58: SZ02 | C58: Z01 | D58: Z02 | E58: 8.54 | F58: =F57+E58 -> 90.01 | G58: Grano-Grand Canyon Jct | H58: Grano-Hellroarer Jct | I58: =E58 -> 8.54 | J58: =I58-SUM(K58:V58) -> 0 | P58: 4.27 | Q58: 4.27 | W58: =(J58/J$1+K58/K$1+L58/L$1+M58/M$1+N58/N$1+O58/O$1+P58/P$1+Q58/Q$1+R58/R$1+S58/S$1+T58/T$1+U58/U$1+V58/V$1)*60 -> 14.945 | X58: =X57+W58 -> 81.173881 | Z58: =I58/W58*60 -> 34.285714 | AA58: =F58/X58*60 -> 66.531253 | AB58: =AA58*0.85 -> 56.551565 | AC58: =AA58*0.95 -> 63.20469 | AD58: =$F58/AB58*60 -> 95.498684 | AE58: =$F58/AC58*60 -> 85.446191
A59: RC-CV | B59: SZ03 | C59: Z02 | D59: Z03 | E59: 11.8 | F59: =F58+E59 -> 101.81 | G59: Grano-Hellroarer Jct | H59: Grano-East Cochrane Jct | I59: =E59 -> 11.8 | J59: =I59-SUM(K59:V59) -> 0 | P59: 9 | Q59: 2.8 | W59: =(J59/J$1+K59/K$1+L59/L$1+M59/M$1+N59/N$1+O59/O$1+P59/P$1+Q59/Q$1+R59/R$1+S59/S$1+T59/T$1+U59/U$1+V59/V$1)*60 -> 19.1 | X59: =X58+W59 -> 100.27388 | Z59: =I59/W59*60 -> 37.068063 | AA59: =F59/X59*60 -> 60.919154 | AB59: =AA59*0.85 -> 51.781281 | AC59: =AA59*0.95 -> 57.873196 | AD59: =$F59/AB59*60 -> 117.96927 | AE59: =$F59/AC59*60 -> 105.55145
A60: RC-CV | B60: SP10 | C60: P09 | D60: P10 | E60: 7.84 | F60: =F56+E60 -> 87.19 | G60: Christian Valley-Grano Jct | H60: Christian Valley-Rendell Cr Jct | I60: =E60 -> 7.84 | J60: =I60-SUM(K60:V60) -> 0 | M60: 0.54 | N60: 7.3 | W60: =(J60/J$1+K60/K$1+L60/L$1+M60/M$1+N60/N$1+O60/O$1+P60/P$1+Q60/Q$1+R60/R$1+S60/S$1+T60/T$1+U60/U$1+V60/V$1)*60 -> 7.7628571 | X60: =X56+W60 -> 69.751738 | Z60: =I60/W60*60 -> 60.596246 | AA60: =F60/X60*60 -> 75.000282 | AB60: =AA60*0.85 -> 63.750239 | AC60: =AA60*0.95 -> 71.250268 | AD60: =$F60/AB60*60 -> 82.060868 | AE60: =$F60/AC60*60 -> 73.422882
A61: RC-CV | B61: SAA01 | C61: P10 | D61: AA01 | E61: 3.45 | F61: =F60+E61 -> 90.64 | G61: Christian Valley-Rendell Cr Jct | H61: Rendell-Center Mtn Jct | I61: =E61 -> 3.45 | J61: =I61-SUM(K61:V61) -> 0 | O61: 2.95 | P61: 0.5 | W61: =(J61/J$1+K61/K$1+L61/L$1+M61/M$1+N61/N$1+O61/O$1+P61/P$1+Q61/Q$1+R61/R$1+S61/S$1+T61/T$1+U61/U$1+V61/V$1)*60 -> 4.29 | X61: =X60+W61 -> 74.041738 | Z61: =I61/W61*60 -> 48.251748 | AA61: =F61/X61*60 -> 73.450464 | AB61: =AA61*0.85 -> 62.432894 | AC61: =AA61*0.95 -> 69.777941 | AD61: =$F61/AB61*60 -> 87.107927 | AE61: =$F61/AC61*60 -> 77.938672
A62: RC-CV | B62: SAA02 | C62: AA01 | D62: AA02 | E62: 5.9 | F62: =F61+E62 -> 96.54 | G62: Rendell-Center Mtn Jct | H62: Rendell-Arthurs Cr Jct | I62: =E62 -> 5.9 | J62: =I62-SUM(K62:V62) -> 0 | O62: 5.2 | P62: 0.7 | W62: =(J62/J$1+K62/K$1+L62/L$1+M62/M$1+N62/N$1+O62/O$1+P62/P$1+Q62/Q$1+R62/R$1+S62/S$1+T62/T$1+U62/U$1+V62/V$1)*60 -> 7.29 | X62: =X61+W62 -> 81.331738 | Z62: =I62/W62*60 -> 48.559671 | AA62: =F62/X62*60 -> 71.21943 | AB62: =AA62*0.85 -> 60.536515 | AC62: =AA62*0.95 -> 67.658458 | AD62: =$F62/AB62*60 -> 95.684398 | AE62: =$F62/AC62*60 -> 85.612356
A63: RC-CV | B63: SAA03 | C63: AA02 | D63: AA03 | E63: 2.61 | F63: =F62+E63 -> 99.15 | G63: Rendell-Arthurs Cr Jct | H63: Rendell-Goatskin Jct | I63: =E63 -> 2.61 | J63: =I63-SUM(K63:V63) -> 0 | O63: 2.19 | P63: 0.42 | W63: =(J63/J$1+K63/K$1+L63/L$1+M63/M$1+N63/N$1+O63/O$1+P63/P$1+Q63/Q$1+R63/R$1+S63/S$1+T63/T$1+U63/U$1+V63/V$1)*60 -> 3.258 | X63: =X62+W63 -> 84.589738 | Z63: =I63/W63*60 -> 48.066298 | AA63: =F63/X63*60 -> 70.32768 | AB63: =AA63*0.85 -> 59.778528 | AC63: =AA63*0.95 -> 66.811296 | AD63: =$F63/AB63*60 -> 99.517339 | AE63: =$F63/AC63*60 -> 89.04183
A64: RC-CV | B64: SAA04 | C64: AA03 | D64: AA04 | E64: 11.63 | F64: =F63+E64 -> 110.78 | G64: Rendell-Goatskin Jct | H64: Goatskin-S.Goatskin Jct | I64: =E64 -> 11.63 | J64: =I64-SUM(K64:V64) -> 0 | P64: 5.82 | Q64: 5.81 | W64: =(J64/J$1+K64/K$1+L64/L$1+M64/M$1+N64/N$1+O64/O$1+P64/P$1+Q64/Q$1+R64/R$1+S64/S$1+T64/T$1+U64/U$1+V64/V$1)*60 -> 20.35 | X64: =X63+W64 -> 104.93974 | Z64: =I64/W64*60 -> 34.289926 | AA64: =F64/X64*60 -> 63.339209 | AB64: =AA64*0.85 -> 53.838328 | AC64: =AA64*0.95 -> 60.172249 | AD64: =$F64/AB64*60 -> 123.45852 | AE64: =$F64/AC64*60 -> 110.46288
E65: 6.5 | F65: =F64+E65 -> 117.28 | G65: Goatskin-S.Goatskin Jct | H65: Goatskin - 800 Jct | I65: =E65 -> 6.5 | J65: =I65-SUM(K65:V65) -> 0 | O65: 4 | P65: 2.5 | W65: =(J65/J$1+K65/K$1+L65/L$1+M65/M$1+N65/N$1+O65/O$1+P65/P$1+Q65/Q$1+R65/R$1+S65/S$1+T65/T$1+U65/U$1+V65/V$1)*60 -> 8.55 | X65: =X64+W65 -> 113.48974 | Z65: =I65/W65*60 -> 45.614035 | AA65: =F65/X65*60 -> 62.003844 | AB65: =AA65*0.85 -> 52.703267 | AC65: =AA65*0.95 -> 58.903652 | AD65: =$F65/AB65*60 -> 133.51734 | AE65: =$F65/AC65*60 -> 119.46288
A66: RC-CV | B66: SP11 | C66: P10 | D66: P11 | E66: 8.21 | F66: =F60+E66 -> 95.4 | G66: Christian Valley-Rendell Cr Jct | H66: Christian Valley-Nevertouch Jct | I66: =E66 -> 8.21 | J66: =I66-SUM(K66:V66) -> 0 | L66: 4.11 | M66: 4.1 | W66: =(J66/J$1+K66/K$1+L66/L$1+M66/M$1+N66/N$1+O66/O$1+P66/P$1+Q66/Q$1+R66/R$1+S66/S$1+T66/T$1+U66/U$1+V66/V$1)*60 -> 6.5967857 | X66: =X60+W66 -> 76.348524 | Z66: =I66/W66*60 -> 74.67273 | AA66: =F66/X66*60 -> 74.97198 | AB66: =AA66*0.85 -> 63.726183 | AC66: =AA66*0.95 -> 71.223381 | AD66: =$F66/AB66*60 -> 89.821793 | AE66: =$F66/AC66*60 -> 80.366867
A69: RC-CV | B69: SQ01 | C69: P01 | D69: Q01 | E69: 1.8 | F69: =F46+E69 -> 30.19 | G69: Hwy 33-Christian Valley Jct | H69: Hwy 33 - Harrison Jct. | I69: =E69 -> 1.8 | J69: =I69-SUM(K69:V69) -> 0 | K69: 0.3 | M69: 1.5 | W69: =(J69/J$1+K69/K$1+L69/L$1+M69/M$1+N69/N$1+O69/O$1+P69/P$1+Q69/Q$1+R69/R$1+S69/S$1+T69/T$1+U69/U$1+V69/V$1)*60 -> 1.4857143 | X69: =X46+W69 -> 22.782381 | Z69: =I69/W69*60 -> 72.692308 | AA69: =F69/X69*60 -> 79.50881 | AB69: =AA69*0.85 -> 67.582489 | AC69: =AA69*0.95 -> 75.53337 | AD69: =$F69/AB69*60 -> 26.802801 | AE69: =$F69/AC69*60 -> 23.981454
A70: W-Kettle | B70: SQ02 | C70: Q01 | D70: Q02 | E70: 3 | F70: =F69+E70 -> 33.19 | G70: Hwy 33 - Harrison Jct. | H70: Hwy 33-Rhone Jct | I70: =E70 -> 3 | J70: =I70-SUM(K70:V70) -> 0 | K70: 2.7 | M70: =0.3 -> 0.3 | W70: =(J70/J$1+K70/K$1+L70/L$1+M70/M$1+N70/N$1+O70/O$1+P70/P$1+Q70/Q$1+R70/R$1+S70/S$1+T70/T$1+U70/U$1+V70/V$1)*60 -> 2.0571429 | X70: =X69+W70 -> 24.839524 | Z70: =I70/W70*60 -> 87.5 | AA70: =F70/X70*60 -> 80.170619 | AB70: =AA70*0.85 -> 68.145026 | AC70: =AA70*0.95 -> 76.162088 | AD70: =$F70/AB70*60 -> 29.222969 | AE70: =$F70/AC70*60 -> 26.146867
A71: W-Kettle | B71: SR01 | C71: Q02 | D71: R01 | E71: 1.27 | F71: =F70+E71 -> 34.46 | G71: Hwy 33-Rhone Jct | H71: Rhone-Ripperto Jct | I71: =E71 -> 1.27 | J71: =I71-SUM(K71:V71) -> 0 | O71: 1.27 | W71: =(J71/J$1+K71/K$1+L71/L$1+M71/M$1+N71/N$1+O71/O$1+P71/P$1+Q71/Q$1+R71/R$1+S71/S$1+T71/T$1+U71/U$1+V71/V$1)*60 -> 1.524 | X71: =X70+W71 -> 26.363524 | Z71: =I71/W71*60 -> 50 | AA71: =F71/X71*60 -> 78.426542 | AB71: =AA71*0.85 -> 66.66256 | AC71: =AA71*0.95 -> 74.505215 | AD71: =$F71/AB71*60 -> 31.01591 | AE71: =$F71/AC71*60 -> 27.751078
A72: W-Kettle | B72: SRO2 | C72: R01 | D72: R02 | E72: 9.92 | F72: =F71+E72 -> 44.38 | G72: Rhone-Ripperto Jct | H72: Conkle-Ripperto FSR | I72: =E72 -> 9.92 | J72: =I72-SUM(K72:V72) -> 0 | O72: 4.96 | P72: 4.96 | W72: =(J72/J$1+K72/K$1+L72/L$1+M72/M$1+N72/N$1+O72/O$1+P72/P$1+Q72/Q$1+R72/R$1+S72/S$1+T72/T$1+U72/U$1+V72/V$1)*60 -> 13.392 | X72: =X71+W72 -> 39.755524 | Z72: =I72/W72*60 -> 44.444444 | AA72: =F72/X72*60 -> 66.979372 | AB72: =AA72*0.85 -> 56.932466 | AC72: =AA72*0.95 -> 63.630403 | AD72: =$F72/AB72*60 -> 46.771204 | AE72: =$F72/AC72*60 -> 41.84792
A73: W-Kettle | B73: SQ03 | C73: R01 | D73: Q03 | E73: 4.52 | F73: =F71+E73 -> 38.98 | G73: Rhone-Ripperto Jct | H73: Rhone-Richeleau Cr Jct | I73: =E73 -> 4.52 | J73: =I73-SUM(K73:V73) -> 0 | N73: 4.52 | W73: =(J73/J$1+K73/K$1+L73/L$1+M73/M$1+N73/N$1+O73/O$1+P73/P$1+Q73/Q$1+R73/R$1+S73/S$1+T73/T$1+U73/U$1+V73/V$1)*60 -> 4.52 | X73: =X71+W73 -> 30.883524 | Z73: =I73/W73*60 -> 60 | AA73: =F73/X73*60 -> 75.7297 | AB73: =AA73*0.85 -> 64.370245 | AC73: =AA73*0.95 -> 71.943215 | AD73: =$F73/AB73*60 -> 36.333557 | AE73: =$F73/AC73*60 -> 32.508972
A74: W-Kettle | B74: SQ04 | C74: Q02 | D74: Q04 | E74: 11.27 | F74: =F70+E74 -> 44.46 | G74: Hwy 33-Rhone Jct | H74: Hwy 33-Taurus Cr Jct | I74: =E74 -> 11.27 | J74: =I74-SUM(K74:V74) -> 0 | K74: 8.97 | M74: =0.4+1 -> 1.4 | N74: 0.9 | W74: =(J74/J$1+K74/K$1+L74/L$1+M74/M$1+N74/N$1+O74/O$1+P74/P$1+Q74/Q$1+R74/R$1+S74/S$1+T74/T$1+U74/U$1+V74/V$1)*60 -> 8.08 | X74: =X70+W74 -> 32.919524 | Z74: =I74/W74*60 -> 83.688119 | AA74: =F74/X74*60 -> 81.033979 | AB74: =AA74*0.85 -> 68.878882 | AC74: =AA74*0.95 -> 76.98228 | AD74: =$F74/AB74*60 -> 38.728852 | AE74: =$F74/AC74*60 -> 34.65213
A75: W-Kettle | B75: SQ05 | C75: Q04 | D75: Q05 | E75: 4.5 | F75: =F74+E75 -> 48.96 | G75: Hwy 33-Taurus Cr Jct | H75: Hwy 33-Boyer Cr Jct | I75: =E75 -> 4.5 | J75: =I75-SUM(K75:V75) -> 0 | K75: 4.2 | M75: 0.3 | W75: =(J75/J$1+K75/K$1+L75/L$1+M75/M$1+N75/N$1+O75/O$1+P75/P$1+Q75/Q$1+R75/R$1+S75/S$1+T75/T$1+U75/U$1+V75/V$1)*60 -> 3.0571429 | X75: =X74+W75 -> 35.976667 | Z75: =I75/W75*60 -> 88.317757 | AA75: =F75/X75*60 -> 81.652923 | AB75: =AA75*0.85 -> 69.404985 | AC75: =AA75*0.95 -> 77.570277 | AD75: =$F75/AB75*60 -> 42.32549 | AE75: =$F75/AC75*60 -> 37.870175
A76: W-Kettle | B76: SQ06 | C76: Q05 | D76: Q06 | E76: 7.4099998 | F76: =F75+E76 -> 56.37 | G76: Hwy 33-Boyer Cr Jct | H76: Hwy 33-Eugene Cr Jct | I76: =E76 -> 7.4099998 | J76: =I76-SUM(K76:V76) -> -1.5258789e-07 | K76: 6.31 | M76: 0.5 | N76: 0.6 | W76: =(J76/J$1+K76/K$1+L76/L$1+M76/M$1+N76/N$1+O76/O$1+P76/P$1+Q76/Q$1+R76/R$1+S76/S$1+T76/T$1+U76/U$1+V76/V$1)*60 -> 5.235238 | X76: =X75+W76 -> 41.211905 | Z76: =I76/W76*60 -> 84.924504 | AA76: =F76/X76*60 -> 82.068519 | AB76: =AA76*0.85 -> 69.758241 | AC76: =AA76*0.95 -> 77.965093 | AD76: =$F76/AB76*60 -> 48.484594 | AE76: =$F76/AC76*60 -> 43.380952
A77: W-Kettle | B77: SAF01 | C77: Q06 | D77: AF01 | E77: 14.27 | F77: =F76+E77 -> 70.64 | G77: Hwy 33-Eugene Cr Jct | H77: Eugene Cr-Eugene Carmi Link Jct | I77: =E77 -> 14.27 | J77: =I77-SUM(K77:V77) -> 0 | O77: 7.13 | P77: 7.14 | W77: =(J77/J$1+K77/K$1+L77/L$1+M77/M$1+N77/N$1+O77/O$1+P77/P$1+Q77/Q$1+R77/R$1+S77/S$1+T77/T$1+U77/U$1+V77/V$1)*60 -> 19.266 | X77: =X76+W77 -> 60.477905 | Z77: =I77/W77*60 -> 44.440984 | AA77: =F77/X77*60 -> 70.081793 | AB77: =AA77*0.85 -> 59.569524 | AC77: =AA77*0.95 -> 66.577703 | AD77: =$F77/AB77*60 -> 71.150476 | AE77: =$F77/AC77*60 -> 63.660952
A78: W-Kettle | B78: SQ07 | C78: Q06 | D78: Q07 | E78: 8.12 | F78: =F76+E78 -> 64.49 | G78: Hwy 33-Eugene Cr Jct | H78: Hwy 33 -Beavercreek Jct | I78: =E78 -> 8.12 | J78: =I78-SUM(K78:V78) -> 0 | K78: 4.67 | M78: 0.75 | N78: 0.7 | O78: 2 | W78: =(J78/J$1+K78/K$1+L78/L$1+M78/M$1+N78/N$1+O78/O$1+P78/P$1+Q78/Q$1+R78/R$1+S78/S$1+T78/T$1+U78/U$1+V78/V$1)*60 -> 6.8561905 | X78: =X76+W78 -> 48.068095 | Z78: =I78/W78*60 -> 71.059869 | AA78: =F78/X78*60 -> 80.498301 | AB78: =AA78*0.85 -> 68.423556 | AC78: =AA78*0.95 -> 76.473386 | AD78: =$F78/AB78*60 -> 56.5507 | AE78: =$F78/AC78*60 -> 50.597995
A79: W-Kettle | B79: SAD01 | C79: Q07 | D79: AD01 | E79: 9.69 | F79: =F78+E79 -> 74.18 | G79: Hwy 33 -Beavercreek Jct | H79: Beaver Creek- ? Jct | I79: =E79 -> 9.69 | J79: =I79-SUM(K79:V79) -> 0 | M79: 4.95 | N79: 4.74 | W79: =(J79/J$1+K79/K$1+L79/L$1+M79/M$1+N79/N$1+O79/O$1+P79/P$1+Q79/Q$1+R79/R$1+S79/S$1+T79/T$1+U79/U$1+V79/V$1)*60 -> 8.9828571 | X79: =X78+W79 -> 57.050952 | Z79: =I79/W79*60 -> 64.723282 | AA79: =F79/X79*60 -> 78.014473 | AB79: =AA79*0.85 -> 66.312302 | AC79: =AA79*0.95 -> 74.11375 | AD79: =$F79/AB79*60 -> 67.118767 | AE79: =$F79/AC79*60 -> 60.053634
A80: W-Kettle | B80: SAD02 | C80: AD01 | D80: AD02 | E80: 1.3 | F80: =F79+E80 -> 75.48 | G80: Beaver Creek- ? Jct | H80: Beaver Creek-Crouse Cr Jct | I80: =E80 -> 1.3 | J80: =I80-SUM(K80:V80) -> 0 | N80: 1.3 | W80: =(J80/J$1+K80/K$1+L80/L$1+M80/M$1+N80/N$1+O80/O$1+P80/P$1+Q80/Q$1+R80/R$1+S80/S$1+T80/T$1+U80/U$1+V80/V$1)*60 -> 1.3 | X80: =X79+W80 -> 58.350952 | Z80: =I80/W80*60 -> 60 | AA80: =F80/X80*60 -> 77.613129 | AB80: =AA80*0.85 -> 65.97116 | AC80: =AA80*0.95 -> 73.732473 | AD80: =$F80/AB80*60 -> 68.648179 | AE80: =$F80/AC80*60 -> 61.422055
A81: W-Kettle | B81: SAD03 | C81: AD02 | D81: AD03 | E81: 10.4 | F81: =F80+E81 -> 85.88 | G81: Beaver Creek-Crouse Cr Jct | H81: Beaverdell Cr Summit | I81: =E81 -> 10.4 | J81: =I81-SUM(K81:V81) -> 0 | N81: 5.2 | O81: 5.2 | W81: =(J81/J$1+K81/K$1+L81/L$1+M81/M$1+N81/N$1+O81/O$1+P81/P$1+Q81/Q$1+R81/R$1+S81/S$1+T81/T$1+U81/U$1+V81/V$1)*60 -> 11.44 | X81: =X80+W81 -> 69.790952 | Z81: =I81/W81*60 -> 54.545455 | AA81: =F81/X81*60 -> 73.83192 | AB81: =AA81*0.85 -> 62.757132 | AC81: =AA81*0.95 -> 70.140324 | AD81: =$F81/AB81*60 -> 82.107003 | AE81: =$F81/AC81*60 -> 73.46416
A82: W-Kettle | B82: SQ08 | C82: Q07 | D82: Q08 | E82: 6.3499999 | F82: =F78+E82 -> 70.84 | G82: Hwy 33 -Beavercreek Jct | H82: Hwy 33-Smoker Rd Jct | I82: =E82 -> 6.3499999 | J82: =I82-SUM(K82:V82) -> -9.5367431e-08 | K82: 4.05 | M82: =0.9+0.3 -> 1.2 | N82: 1.1 | W82: =(J82/J$1+K82/K$1+L82/L$1+M82/M$1+N82/N$1+O82/O$1+P82/P$1+Q82/Q$1+R82/R$1+S82/S$1+T82/T$1+U82/U$1+V82/V$1)*60 -> 4.8285714 | X82: =X78+W82 -> 52.896667 | Z82: =I82/W82*60 -> 78.905325 | AA82: =F82/X82*60 -> 80.352889 | AB82: =AA82*0.85 -> 68.299956 | AC82: =AA82*0.95 -> 76.335245 | AD82: =$F82/AB82*60 -> 62.231372 | AE82: =$F82/AC82*60 -> 55.680702
A83: W-Kettle | B83: SAB01 | C83: Q08 | D83: AH01 | E83: 0.83 | F83: =F82+E83 -> 71.67 | G83: Hwy 33-Smoker Rd Jct | H83: China Cr 0K | I83: =E83 -> 0.83 | J83: =I83-SUM(K83:V83) -> 0 | O83: 0.83 | W83: =(J83/J$1+K83/K$1+L83/L$1+M83/M$1+N83/N$1+O83/O$1+P83/P$1+Q83/Q$1+R83/R$1+S83/S$1+T83/T$1+U83/U$1+V83/V$1)*60 -> 0.996 | X83: =X82+W83 -> 53.892667 | Z83: =I83/W83*60 -> 50 | AA83: =F83/X83*60 -> 79.791932 | AB83: =AA83*0.85 -> 67.823142 | AC83: =AA83*0.95 -> 75.802335 | AD83: =$F83/AB83*60 -> 63.403137 | AE83: =$F83/AC83*60 -> 56.729123
A84: W-Kettle | B84: SQ09 | C84: Q08 | D84: Q09 | E84: 0.83 | F84: =F82+E84 -> 71.67 | G84: Hwy 33-Smoker Rd Jct | H84: Hwy 33-Carmi Jct | I84: =E84 -> 0.83 | J84: =I84-SUM(K84:V84) -> 0 | K84: 0.33 | M84: 0.5 | W84: =(J84/J$1+K84/K$1+L84/L$1+M84/M$1+N84/N$1+O84/O$1+P84/P$1+Q84/Q$1+R84/R$1+S84/S$1+T84/T$1+U84/U$1+V84/V$1)*60 -> 0.64857143 | X84: =X82+W84 -> 53.545238 | Z84: =I84/W84*60 -> 76.784141 | AA84: =F84/X84*60 -> 80.309662 | AB84: =AA84*0.85 -> 68.263213 | AC84: =AA84*0.95 -> 76.294179 | AD84: =$F84/AB84*60 -> 62.994398 | AE84: =$F84/AC84*60 -> 56.363408
A85: W-Kettle | B85: SQ10 | C85: Q09 | D85: Q10 | E85: 1.14 | F85: =F84+E85 -> 72.81 | G85: Hwy 33-Carmi Jct | H85: Hwy 33-Wilkinson Cr jct | I85: =E85 -> 1.14 | J85: =I85-SUM(K85:V85) -> 0 | N85: 1.14 | W85: =(J85/J$1+K85/K$1+L85/L$1+M85/M$1+N85/N$1+O85/O$1+P85/P$1+Q85/Q$1+R85/R$1+S85/S$1+T85/T$1+U85/U$1+V85/V$1)*60 -> 1.14 | X85: =X84+W85 -> 54.685238 | Z85: =I85/W85*60 -> 60 | AA85: =F85/X85*60 -> 79.886276 | AB85: =AA85*0.85 -> 67.903334 | AC85: =AA85*0.95 -> 75.891962 | AD85: =$F85/AB85*60 -> 64.335574 | AE85: =$F85/AC85*60 -> 57.563408
A86: W-Kettle | B86: SAG01 | C86: Q10 | D86: AG01 | E86: 2.82 | F86: =F85+E86 -> 75.63 | G86: Hwy 33-Wilkinson Cr jct | H86: Wilkinson-Ferroux Cr Jct | I86: =E86 -> 2.82 | J86: =I86-SUM(K86:V86) -> 0 | O86: 2.82 | W86: =(J86/J$1+K86/K$1+L86/L$1+M86/M$1+N86/N$1+O86/O$1+P86/P$1+Q86/Q$1+R86/R$1+S86/S$1+T86/T$1+U86/U$1+V86/V$1)*60 -> 3.384 | X86: =X53+W86 -> 59.529952 | Z86: =I86/W86*60 -> 50 | AA86: =F86/X86*60 -> 76.227173 | AB86: =AA86*0.85 -> 64.793097 | AC86: =AA86*0.95 -> 72.415814 | AD86: =$F86/AB86*60 -> 70.035238 | AE86: =$F86/AC86*60 -> 62.663108
A87: W-Kettle | B87: SQ11 | C87: Q10 | D87: Q11 | E87: 4.88 | F87: =F85+E87 -> 77.69 | G87: Hwy 33-Wilkinson Cr jct | H87: Hwy 33-Rest Area Jcn | I87: =E87 -> 4.88 | J87: =I87-SUM(K87:V87) -> 0 | K87: 3.38 | M87: =0.7+0.5 -> 1.2 | N87: 0.3 | W87: =(J87/J$1+K87/K$1+L87/L$1+M87/M$1+N87/N$1+O87/O$1+P87/P$1+Q87/Q$1+R87/R$1+S87/S$1+T87/T$1+U87/U$1+V87/V$1)*60 -> 3.5819048 | X87: =X85+W87 -> 58.267143 | Z87: =I87/W87*60 -> 81.744217 | AA87: =F87/X87*60 -> 80.00049 | AB87: =AA87*0.85 -> 68.000417 | AC87: =AA87*0.95 -> 76.000466 | AD87: =$F87/AB87*60 -> 68.54958 | AE87: =$F87/AC87*60 -> 61.333834
A88: W-Kettle | B88: SQ12 | C88: Q11 | D88: Q12 | E88: 2.65 | F88: =F87+E88 -> 80.34 | G88: Hwy 33-Rest Area Jcn | H88: Hwy 33-Trapping Cr Jct | I88: =E88 -> 2.65 | J88: =I88-SUM(K88:V88) -> 0 | K88: 2.65 | W88: =(J88/J$1+K88/K$1+L88/L$1+M88/M$1+N88/N$1+O88/O$1+P88/P$1+Q88/Q$1+R88/R$1+S88/S$1+T88/T$1+U88/U$1+V88/V$1)*60 -> 1.7666667 | X88: =X87+W88 -> 60.033809 | Z88: =I88/W88*60 -> 90 | AA88: =F88/X88*60 -> 80.294754 | AB88: =AA88*0.85 -> 68.250541 | AC88: =AA88*0.95 -> 76.280017 | AD88: =$F88/AB88*60 -> 70.628011 | AE88: =$F88/AC88*60 -> 63.193484
A89: W-Kettle | B89: SAC01 | C89: Q12 | D89: AC01 | E89: 4.85 | F89: =F88+E89 -> 85.19 | G89: Hwy 33-Trapping Cr Jct | H89: Trapping-East Trapping Cr jct | I89: =E89 -> 4.85 | J89: =I89-SUM(K89:V89) -> 0 | O89: 4.85 | W89: =(J89/J$1+K89/K$1+L89/L$1+M89/M$1+N89/N$1+O89/O$1+P89/P$1+Q89/Q$1+R89/R$1+S89/S$1+T89/T$1+U89/U$1+V89/V$1)*60 -> 5.82 | X89: =X88+W89 -> 65.853809 | Z89: =I89/W89*60 -> 50 | AA89: =F89/X89*60 -> 77.617378 | AB89: =AA89*0.85 -> 65.974771 | AC89: =AA89*0.95 -> 73.736509 | AD89: =$F89/AB89*60 -> 77.47507 | AE89: =$F89/AC89*60 -> 69.319799
A90: W-Kettle | C90: AC01 | D90: AB01 | E90: 7.95 | F90: =F89+E90 -> 93.14 | G90: Trapping-East Trapping Cr jct | H90: China Creek | I90: =E90 -> 7.95 | J90: =I90-SUM(K90:V90) -> 0 | O90: 3.98 | Q90: 3.97 | W90: =(J90/J$1+K90/K$1+L90/L$1+M90/M$1+N90/N$1+O90/O$1+P90/P$1+Q90/Q$1+R90/R$1+S90/S$1+T90/T$1+U90/U$1+V90/V$1)*60 -> 12.716 | X90: =X89+W90 -> 78.569809 | Z90: =I90/W90*60 -> 37.511796 | AA90: =F90/X90*60 -> 71.126556 | AB90: =AA90*0.85 -> 60.457573 | AC90: =AA90*0.95 -> 67.570229 | AD90: =$F90/AB90*60 -> 92.43507 | AE90: =$F90/AC90*60 -> 82.705063
A91: W-Kettle | B91: SAC02 | C91: AC01 | D91: AC02 | E91: 3.45 | F91: =F89+E91 -> 88.64 | G91: Trapping-East Trapping Cr jct | H91: Trapping-Ptarmigan Jct | I91: =E91 -> 3.45 | J91: =I91-SUM(K91:V91) -> 4.7683716e-08 | O91: 3.45 | W91: =(J91/J$1+K91/K$1+L91/L$1+M91/M$1+N91/N$1+O91/O$1+P91/P$1+Q91/Q$1+R91/R$1+S91/S$1+T91/T$1+U91/U$1+V91/V$1)*60 -> 4.14 | X91: =X89+W91 -> 69.993809 | Z91: =I91/W91*60 -> 50 | AA91: =F91/X91*60 -> 75.983862 | AB91: =AA91*0.85 -> 64.586283 | AC91: =AA91*0.95 -> 72.184669 | AD91: =$F91/AB91*60 -> 82.345658 | AE91: =$F91/AC91*60 -> 73.677694
A92: W-Kettle | B92: SAC03 | C92: AC02 | D92: AC03 | E92: 6.48 | F92: =F91+E92 -> 95.12 | G92: Trapping-Ptarmigan Jct | H92: Copperkettle-Lassie Lk Jct | I92: =E92 -> 6.48 | J92: =I92-SUM(K92:V92) -> 0 | O92: 6.48 | W92: =(J92/J$1+K92/K$1+L92/L$1+M92/M$1+N92/N$1+O92/O$1+P92/P$1+Q92/Q$1+R92/R$1+S92/S$1+T92/T$1+U92/U$1+V92/V$1)*60 -> 7.776 | X92: =X91+W92 -> 77.769809 | Z92: =I92/W92*60 -> 50 | AA92: =F92/X92*60 -> 73.385804 | AB92: =AA92*0.85 -> 62.377933 | AC92: =AA92*0.95 -> 69.716514 | AD92: =$F92/AB92*60 -> 91.493893 | AE92: =$F92/AC92*60 -> 81.862957
A93: W-Kettle | B93: SAC04 | C93: AC03 | D93: AC04 | E93: 8.96 | F93: =F92+E93 -> 104.08 | G93: Copperkettle-Lassie Lk Jct | H93: Copperkettle-Wolfe Jct | I93: =E93 -> 8.96 | J93: =I93-SUM(K93:V93) -> 0 | O93: 8.96 | W93: =(J93/J$1+K93/K$1+L93/L$1+M93/M$1+N93/N$1+O93/O$1+P93/P$1+Q93/Q$1+R93/R$1+S93/S$1+T93/T$1+U93/U$1+V93/V$1)*60 -> 10.752 | X93: =X92+W93 -> 88.521809 | Z93: =I93/W93*60 -> 50 | AA93: =F93/X93*60 -> 70.545327 | AB93: =AA93*0.85 -> 59.963528 | AC93: =AA93*0.95 -> 67.018061 | AD93: =$F93/AB93*60 -> 104.14331 | AE93: =$F93/AC93*60 -> 93.180852
A94: W-Kettle | B94: SAC05 | C94: AC04 | D94: AC05 | E94: 12.12 | F94: =F93+E94 -> 116.2 | G94: Copperkettle-Wolfe Jct | H94: Whitefoot 26K | I94: =E94 -> 12.12 | J94: =I94-SUM(K94:V94) -> 0 | O94: 1.62 | P94: 4.25 | Q94: =1+4.25 -> 5.25 | R94: 1 | W94: =(J94/J$1+K94/K$1+L94/L$1+M94/M$1+N94/N$1+O94/O$1+P94/P$1+Q94/Q$1+R94/R$1+S94/S$1+T94/T$1+U94/U$1+V94/V$1)*60 -> 21.219 | X94: =X93+W94 -> 109.74081 | Z94: =I94/W94*60 -> 34.271172 | AA94: =F94/X94*60 -> 63.531516 | AB94: =AA94*0.85 -> 54.001789 | AC94: =AA94*0.95 -> 60.35494 | AD94: =$F94/AB94*60 -> 129.10683 | AE94: =$F94/AC94*60 -> 115.51664
A95: W-Kettle | C95: AC05 | E95: 3 | F95: =F94+E95 -> 119.2 | G95: Whitefoot 26K | H95: Whitefoot 29K | I95: =E95 -> 3 | J95: =I95-SUM(K95:V95) -> 0 | R95: 3 | W95: =(J95/J$1+K95/K$1+L95/L$1+M95/M$1+N95/N$1+O95/O$1+P95/P$1+Q95/Q$1+R95/R$1+S95/S$1+T95/T$1+U95/U$1+V95/V$1)*60 -> 7.2 | X95: =X94+W95 -> 116.94081 | Z95: =I95/W95*60 -> 25 | AA95: =F95/X95*60 -> 61.159146 | AB95: =AA95*0.85 -> 51.985274 | AC95: =AA95*0.95 -> 58.101188 | AD95: =$F95/AB95*60 -> 137.57742 | AE95: =$F95/AC95*60 -> 123.09559
A96: W-Kettle | C96: Q12 | D96: Q13 | E96: 6.59 | F96: =F88+E96 -> 86.93 | G96: Hwy 33-Trapping Cr Jct | H96: Hwy 33-Arlington Lake Jct | I96: =E96 -> 6.59 | J96: =I96-SUM(K96:V96) -> 0 | K96: 6.59 | W96: =(J96/J$1+K96/K$1+L96/L$1+M96/M$1+N96/N$1+O96/O$1+P96/P$1+Q96/Q$1+R96/R$1+S96/S$1+T96/T$1+U96/U$1+V96/V$1)*60 -> 4.3933333 | X96: =X95+W96 -> 121.33414 | Z96: =I96/W96*60 -> 90 | AA96: =F96/X96*60 -> 42.987076 | AB96: =AA96*0.85 -> 36.539014 | AC96: =AA96*0.95 -> 40.837722 | AD96: =$F96/AB96*60 -> 142.74605 | AE96: =$F96/AC96*60 -> 127.72015
A97: W-Kettle | C97: Q13 | D97: Q14 | E97: 3.5 | F97: =F96+E97 -> 90.43 | G97: Hwy 33-Arlington Lake Jct | H97: Hwy 33-McDonald Lake Jct | I97: =E97 -> 3.5 | J97: =I97-SUM(K97:V97) -> 0 | K97: 3.5 | W97: =(J97/J$1+K97/K$1+L97/L$1+M97/M$1+N97/N$1+O97/O$1+P97/P$1+Q97/Q$1+R97/R$1+S97/S$1+T97/T$1+U97/U$1+V97/V$1)*60 -> 2.3333333 | X97: =X96+W97 -> 123.66748 | Z97: =I97/W97*60 -> 90 | AA97: =F97/X97*60 -> 43.874106 | AB97: =AA97*0.85 -> 37.29299 | AC97: =AA97*0.95 -> 41.680401 | AD97: =$F97/AB97*60 -> 145.49115 | AE97: =$F97/AC97*60 -> 130.17629

Sheet Midway Short
A1: =Midway!H1 -> End | B1: =Midway!F1 -> Cumul -ative from Mill | C1: =Midway!AB1 -> Loaded Speed (85%) | D1: =Midway!AC1 -> Empty Speed (95%) | E1: =Midway!AD1 -> Loaded Time (min's) | F1: =Midway!AE1 -> Empty Time (min's)
A2: =Midway!H2 -> Hwy 3 - Midway Mill Jct | B2: =Midway!F2 -> 0.22 | C2: =Midway!AB2 -> 9.6724138 | D2: =Midway!AC2 -> 10.810345 | E2: =Midway!AD2 -> 1.3647059 | F2: =Midway!AE2 -> 1.2210526
A3: =Midway!H3 -> Hwy 3 - Midway Jct | B3: =Midway!F3 -> 4.43 | C3: =Midway!AB3 -> 56.197498 | D3: =Midway!AC3 -> 62.808969 | E3: =Midway!AD3 -> 4.7297479 | F3: =Midway!AE3 -> 4.2318797
A4: =Midway!H4 -> Myers Cr 9 K | B4: =Midway!F4 -> 14.47 | C4: =Midway!AB4 -> 51.656867 | D4: =Midway!AC4 -> 57.734145 | E4: =Midway!AD4 -> 16.807059 | F4: =Midway!AE4 -> 15.037895
A5: =Midway!H5 -> Hwy 3 - Norwegian Cr Jct | B5: =Midway!F5 -> 7.69 | C5: =Midway!AB5 -> 63.70562 | D5: =Midway!AC5 -> 71.200399 | E5: =Midway!AD5 -> 7.2426891 | F5: =Midway!AE5 -> 6.4803008
A6: =Midway!H6 -> Hwy 3 - Kerr Cr Jct | B6: =Midway!F6 -> 9.87 | C6: =Midway!AB6 -> 66.520483 | D6: =Midway!AC6 -> 74.346423 | E6: =Midway!AD6 -> 8.902521 | F6: =Midway!AE6 -> 7.9654135
A7: =Midway!H7 -> Hwy 3 - McCarren Cr Jct | B7: =Midway!F7 -> 13.33 | C7: =Midway!AB7 -> 69.071367 | D7: =Midway!AC7 -> 77.197411 | E7: =Midway!AD7 -> 11.579328 | F7: =Midway!AE7 -> 10.360451
A8: =Midway!H8 -> Hwy 3 - Anaconda | B8: =Midway!F8 -> 16.55 | C8: =Midway!AB8 -> 69.591053 | D8: =Midway!AC8 -> 77.778236 | E8: =Midway!AD8 -> 14.269076 | F8: =Midway!AE8 -> 12.767068
A9: =Midway!H9 -> Hwy 3 - Greenwood-Phoenix | B9: =Midway!F9 -> 18.13 | C9: =Midway!AB9 -> 65.928616 | D9: =Midway!AC9 -> 73.684924 | E9: =Midway!AD9 -> 16.499664 | F9: =Midway!AE9 -> 14.762857
A10: =Midway!H10 -> Hwy 3 - Boundary Cr Jct | B10: =Midway!F10 -> 21.51 | C10: =Midway!AB10 -> 63.109246 | D10: =Midway!AC10 -> 70.533864 | E10: =Midway!AD10 -> 20.450252 | F10: =Midway!AE10 -> 18.297594
A11: =Midway!H11 -> Boundary Cr - Jewel Jct | B11: =Midway!F11 -> 22.44 | C11: =Midway!AB11 -> 63.123358 | D11: =Midway!AC11 -> 70.549635 | E11: =Midway!AD11 -> 21.329664 | F11: =Midway!AE11 -> 19.084436
A12: =Midway!H12 -> Jewel Lk - Rhoderick Dhu Jct | B12: =Midway!F12 -> 27.05 | C12: =Midway!AB12 -> 50.44019 | D12: =Midway!AC12 -> 56.37433 | E12: =Midway!AD12 -> 32.176723 | F12: =Midway!AE12 -> 28.789699
... A89: =Midway!H89 -> Trapping-East Trapping Cr jct | B89: =Midway!F89 -> 85.19 | C89: =Midway!AB89 -> 65.974771 | D89: =Midway!AC89 -> 73.736509 | E89: =Midway!AD89 -> 77.47507 | F89: =Midway!AE89 -> 69.319799
A90: =Midway!H91 -> Trapping-Ptarmigan Jct | B90: =Midway!F91 -> 88.64 | C90: =Midway!AB91 -> 64.586283 | D90: =Midway!AC91 -> 72.184669 | E90: =Midway!AD91 -> 82.345658 | F90: =Midway!AE91 -> 73.677694
A91: =Midway!H92 -> Copperkettle-Lassie Lk Jct | B91: =Midway!F92 -> 95.12 | C91: =Midway!AB92 -> 62.377933 | D91: =Midway!AC92 -> 69.716514 | E91: =Midway!AD92 -> 91.493893 | F91: =Midway!AE92 -> 81.862957
A92: =Midway!H93 -> Copperkettle-Wolfe Jct | B92: =Midway!F93 -> 104.08 | C92: =Midway!AB93 -> 59.963528 | D92: =Midway!AC93 -> 67.018061 | E92: =Midway!AD93 -> 104.14331 | F92: =Midway!AE93 -> 93.180852
A93: =Midway!H94 -> Whitefoot 26K | B93: =Midway!F94 -> 116.2 | C93: =Midway!AB94 -> 54.001789 | D93: =Midway!AC94 -> 60.35494 | E93: =Midway!AD94 -> 129.10683 | F93: =Midway!AE94 -> 115.51664
A94: =Midway!H95 -> Whitefoot 29K | B94: =Midway!F95 -> 119.2 | C94: =Midway!AB95 -> 51.985274 | D94: =Midway!AC95 -> 58.101188 | E94: =Midway!AD95 -> 137.57742 | F94: =Midway!AE95 -> 123.09559
